Workbook

Sheet Info
B2: FY 2026 Contract High Water Mark Calculation - Final CHWMs
B3: Contact information: | C3: post2028@bpa.gov
B4: Date released | C4: 46170
B7: Context:
B8: Bonneville published final CHWMs on May 28, 2026 completing the FY 2026 CHWM Calculation Process as described in the CHWM Implementation Policy. The final CHWMs have been calculated consistent with Section 2.4 of the Provider of Choice Policy (March 2024) and the CHWM Implementation Policy (August 2025), Section 2 and Attachment A. CHWMs will be added to customers' Provider of Choice contracts no later than September 30, 2026. For questions about this spreadsheet, please email the Provider of Choice team at post2028@bpa.gov and/or reach out to your Power Account Executive.
B10: Table of Contents
B11: Tab | C11: Description
B12: Info | C12: Tab provides context, calculations and description and source of all data included in the workbook.
B13: Calculation | C13: Tab provides the estimated CHWM calculation including preliminary determination for PF-eligible load.
B14: Data | C14: Hidden tab includes the conservation data included in the conservation adjustment in the Calculation tab.
B15: Attachment A | C15: Hidden tab includes the final CHWM Implementation Policy Attachment A values as well as pivot table to sum values by customer. If a resource note suggests a formula approach, formula is calculated in the appropriate cells and highlighted.
B16: Proportional Share Calculation | C16: Hidden tab that computes the proportional share calculation for the Calculation tab.
B18: PF-Eligible Load Equation
B23: CHWM Equation:
B27: Above-CHWM Equation
B33: Data
B34: Category | C34: Description of Data | D34: Source Data | E34: Source Tab | F34: Where data was discussed
B35: Index Year | C35: The index year, FY 2023, is the year used to establish PF-eligible load in the CHWM calculation. | D35: N/A | E35: N/A | F35: The index year was established in the Provider of Choice Policy.
B36: Total Retail Load | C36: Total retail load data is based on weather normalized total retail loads for FY 2023. | D36: N/A | E36: N/A | F36: The Provider of Choice Policy and the CHWM Implementation Policy provide any adjustments that Bonneville will make to total retail load amounts including the weather normalization process. Customers had the opportunity to comment on their weather normalized results and final results will be available Fall 2025. Customers had the opportunity to comment on the accuracy of the math during the FY 2026 CHWM Calculation Process comment period.
B37: Economic Adjustment | C37: The economic adjustment reflects how loads are adjusted if a consumer load qualified for the economic adjustment to total retail load. | D37: N/A | E37: N/A | F37: The adjustment was determined in the Provider of Choice Policy. Qualifying customers submitted data that was reviewed and approved by BPA ahead of the FY 2026 CHWM Calculation Process. Customers had the opportunity to comment on the accuracy of the math during the FY 2026 CHWM Calculation Process comment period.
B38: New Large Single Loads | C38: New large single load data is based on actual loads for FY 2023. | D38: N/A | E38: N/A | F38: Customers had the chance to discuss the NLSL data values with their Power AE in parallel to the TRL weather normalization process and final results will be available Fall 2025. Customers had the opportunity to comment on the accuracy of the math during the FY 2026 CHWM Calculation Process comment period.
B39: Non-federal Existing and Other (SNEER, COR, and Green Exception Resources) | C39: Existing resources are based on existing resources included in the Regional Dialogue contract Exhibit A. Other resources include Small Non-dispatchable New Resource Treated Equivalently to an Existing Resource (SNEER), consumer-owned resource and green exception resource amounts are included in the Regional Dialogue contract Exhibit A. Data is based on Attachment A of the CHWM Implementation Policy. | D39: CHWM Implementation Policy, August 14, 2025 | E39: I_ER | F39: Attachment A identifies which non-federal resources will be included in the FY 2026 CHWM Calculation and the resource amounts that will be used.
B40: Non-federal New Specified Resources | C40: New specified resources, under Regional Dialogue, are resources added after September 30, 2006, and included in Regional Dialogue contract Exhibit A as new resources. Data is based on Attachment A of the CHWM Implementation Policy. | D40: CHWM Implementation Policy, August 14, 2025 | E40: N/A | F40: Attachment A identifies which non-federal resources will be included in the FY 2026 CHWM Calculation and the resource amounts that will be used.
B41: Base Allowance | C41: The base allowance is the amount from which all adjustments are added or subtracted. The base allowance is equal to customers' 2024 Rate-Period High Water Mark (RHWM) values from the bi-annual RHWM process. | D41: 2024 RHWM Final Outputs | E41: RHWM | F41: The base allowance was determined in the Provider of Choice Policy. The amounts were determined in the 2024 RHWM process that concluded in August 2022.
B42: Headroom Adjustment | C42: The headroom adjustment applies to customers whose PF-eligible load is lower than their base allowance. It reduces their base allowance to their PF-eligible load by subtracting out headroom. | D42: N/A | E42: N/A | F42: The adjustment was determined in the Provider of Choice Policy. Customers had the opportunity to comment on the accuracy of the math during the FY 2026 CHWM Calculation Process comment period.
B43: Conservation Adjustment | C43: The conservation adjustment takes into account self-funded conservation achievements approved by Bonneville during a defined time horizon of the Regional Dialogue contract period. The adjustment credits a customer 50% of their self-funded achievements. The first type of qualifying data is self-funded conservation that is reported to Bonneville and meets the eligibility and reporting requirements of the Bonneville Energy Efficiency Implementation Manual. The data includes actuals for FY 2012 through FY 2023 based on reporting approved through January 2024. FY 2022 and FY 2023 data may be reported through September 2025. The second type of data included is self-funded Northwest Energy Efficiency Alliance (NEEA) savings. The amount is based on a customer's self-funded savings proportional to each direct funding utility's annual funding percentage of the annual regional savings reported by NEEA. The data includes actuals for calendar year (CY) 2012 through CY 2023. | D43: Data | E43: N/A | F43: The adjustment was determined in the Provider of Choice Policy. Customers had the opportunity to comment on the accuracy of the math during the FY 2026 CHWM Calculation Process comment period. Conservation data will be updated in the FY 2026 CHWM calculation to include any self-funded conservation reported by the September 30, 2025, deadline.
B44: New Specified Resource Adjustment | C44: The new specified resource adjustment applies to customers who added new specified resources, defined under Regional Dialogue as resources added after September 30, 2006. The adjustment adds 50% of the aMW amount of the resource to the Provider of Choice CHWM for any new resource dedicated in a customer's Regional Dialogue Exhibit A and noted as a new resource. | D44: CHWM Implementation Policy, August 14, 2025 | E44: I_NR | F44: The adjustment was determined in the Provider of Choice Policy. Customers had the opportunity to comment on the accuracy of the math during the FY 2026 CHWM Calculation Process comment period. Attachment A identifies which non-federal resources will qualify for the adjustment and the resource amounts that will be used in the FY 2026 CHWM calculation.
B45: Load Growth Adjustment | C45: The load growth adjustment applies to customers whose PF-eligible load in the index year is greater than their base allowance. The adjustment increases a qualifying customer's CHWM by 25% of the difference between their PF-eligible load and the base allowance. | D45: N/A | E45: N/A | F45: The adjustment was determined in the Provider of Choice Policy. Customers had the opportunity to comment on the accuracy of the math during the FY 2026 CHWM Calculation Process comment period.
B46: Proportional Share Adjustment | C46: The proportional share adjustment provides an equitable adjustment to all customers as part of the CHWM calculation. The adjustment increases individual CHWMs (as calculated prior to the proportional adjustment being applied) by an amount equal to the customer's pro rata share where a customer's share is based on its individual CHWM relative to the aggregate CHWMs of all customers. The adjustment is limited so that aggregated CHWMs do not exceed 7,250 aMW. If the initial aggregate CHWMs is greater than 7,250 aMW, the proportional share adjustment will not apply. | D46: The calculation is available on the Proportional Share Calculation tab. | E46: N/A | F46: The adjustment was determined in the Provider of Choice Policy. Customers had the opportunity to comment on the accuracy of the math during the FY 2026 CHWM Calculation Process comment period.
B47: Exceptions
B48: Returning Public Utility (Grant) | C48: Per the Provider of Choice Policy, Grant's base allowance amount is set equal to the last Block purchase amount Grant made from Bonneville prior to Regional Dialogue. | D48: N/A | E48: N/A | F48: Data inputs for the CHWM calculation is similar to those described above unless an exception is noted in the Provider of Choice Policy or CHWM Implementation Policy. Customers had the opportunity to comment on the accuracy of the math during the FY 2026 CHWM Calculation Process comment period.
B49: Flathead | C49: The CHWM Implementation Policy stated that if Flathead elects the exception for POC, Bonneville intends to set the resource amount for the FY 2026 CHWM calculation at contract signing based on the final terms of the Off-site Green Exception/Off-site Renewables Exception provision. The resource amount has been updated to reflect Flathead's election. The amount listed in Attachment A of the CHWM Implementation Policy does not reflect the amount included in the FY 2026 CHWM calculation for the resource. | D49: N/A | E49: N/A | F49: Data input from Flathead's election of the Off-site Green Exception/Off-site Renewables Exception.
B50: Alder Mutual and Ohop Mutual Light Company | C50: Alder Mutual and Ohop Mutual Light Company merged and Alder Mutual’s Regional Dialogue contract was assigned to Ohop Mutual Light Company. Bonneville has aggregated their FY 2023 load and 2024 RHWMs for purpose of the calculation. The calculation now only reflects Ohop Mutual Light Company. This is consistent with how Bonneville intends to treat annexations between two existing customers as described in Issue 66 of the Provider of Choice Policy ROD. | D50: N/A | E50: N/A | F50: N/A

Sheet Calculation
C1: PF-Eligible Load in Index Year Calculation | I1: CHWM Calculation | R1: Small Utility Adjustment
C2: Total Retail Load | D2: Economic Adjustment | E2: New Large Single Load | F2: Non-Federal Resource | H2: PF-Eligible Load in Index Year | I2: Base Allowance (2024 RHWM) | J2: Headroom Adjustment (100%) | K2: Conservation Adjustment (50%) | L2: New Specified Resource Adjustment (50%) | M2: Load Growth Adjustment (25%) | N2: Proportional Share Adjustment (Up to 7,250 aMW) | O2: Provider of Choice CHWM | P2: Provider of Choice Above-CHWM load in the index year | R2: Does the customer qualify for the small utility adjustment? (Yes/No) | S2: If yes, what is the maximum potential CHWM for the customer? (aMW)
F3: Existing and Other (SNEERS, CORs, Green Exception) | G3: New Specified
B5: Note: All data is in aMW
A6: BES | B6: Customer
A7: 10015 | B7: Asotin County PUD #1 | C7: 0.523 | D7: 0 | E7: 0 | F7: 0 | G7: 0 | H7: =IF((C7+D7-SUM(E7:G7))>0,C7+D7-SUM(E7:G7),0) -> 0.523 | I7: 0.573 | J7: =IF(H7<I7,H7-I7,0) -> -0.05 | K7: =0.5*'Conservation Data'!J3 -> 0 | L7: =G7*0.5 -> 0 | M7: =IF(H7>I7,(H7-I7)*0.25,0) -> 0 | N7: ='Proportional Share Calculation'!E4 -> 0.018973166 | O7: =SUM(I7:N7) -> 0.54197317 | P7: =H7-O7 -> -0.018973166 | R7: =IF(O7<5, "Yes", "No") -> Yes | S7: =IF(R7="Yes",MIN(O7*2,5),"N/A") -> 1.0839463
A8: 10024 | B8: Benton County PUD #1 | C8: 214.648 | D8: 0 | E8: 0 | F8: 0.919 | G8: 0 | H8: =IF((C8+D8-SUM(E8:G8))>0,C8+D8-SUM(E8:G8),0) -> 213.729 | I8: 200.923 | J8: =IF(H8<I8,H8-I8,0) -> 0 | K8: =0.5*'Conservation Data'!J4 -> 1.425202 | L8: =G8*0.5 -> 0 | M8: =IF(H8>I8,(H8-I8)*0.25,0) -> 3.2015 | N8: ='Proportional Share Calculation'!E5 -> 7.4568425 | O8: =SUM(I8:N8) -> 213.00654 | P8: =H8-O8 -> 0.72245548 | R8: =IF(O8<5, "Yes", "No") -> No | S8: =IF(R8="Yes",MIN(O8*2,5),"N/A") -> N/A
A9: 10025 | B9: Benton REA | C9: 73.281 | D9: 0 | E9: 0 | F9: 0 | G9: 0 | H9: =IF((C9+D9-SUM(E9:G9))>0,C9+D9-SUM(E9:G9),0) -> 73.281 | I9: 59.659 | J9: =IF(H9<I9,H9-I9,0) -> 0 | K9: =0.5*'Conservation Data'!J5 -> 0.63304065 | L9: =G9*0.5 -> 0 | M9: =IF(H9>I9,(H9-I9)*0.25,0) -> 3.4055 | N9: ='Proportional Share Calculation'!E6 -> 2.3107916 | O9: =SUM(I9:N9) -> 66.008332 | P9: =H9-O9 -> 7.2726677 | R9: =IF(O9<5, "Yes", "No") -> No | S9: =IF(R9="Yes",MIN(O9*2,5),"N/A") -> N/A
A10: 10027 | B10: Big Bend Elec Coop | C10: 69.283 | D10: 0 | E10: 0 | F10: 0 | G10: 0 | H10: =IF((C10+D10-SUM(E10:G10))>0,C10+D10-SUM(E10:G10),0) -> 69.283 | I10: 61.194 | J10: =IF(H10<I10,H10-I10,0) -> 0 | K10: =0.5*'Conservation Data'!J6 -> 0.025006324 | L10: =G10*0.5 -> 0 | M10: =IF(H10>I10,(H10-I10)*0.25,0) -> 2.02225 | N10: ='Proportional Share Calculation'!E7 -> 2.2942387 | O10: =SUM(I10:N10) -> 65.535495 | P10: =H10-O10 -> 3.7475049 | R10: =IF(O10<5, "Yes", "No") -> No | S10: =IF(R10="Yes",MIN(O10*2,5),"N/A") -> N/A
A11: 10029 | B11: Blachly Lane Elec Coop | C11: 22.3 | D11: 0 | E11: 0 | F11: 0 | G11: 0 | H11: =IF((C11+D11-SUM(E11:G11))>0,C11+D11-SUM(E11:G11),0) -> 22.3 | I11: 17.616 | J11: =IF(H11<I11,H11-I11,0) -> 0 | K11: =0.5*'Conservation Data'!J7 -> 0 | L11: =G11*0.5 -> 0 | M11: =IF(H11>I11,(H11-I11)*0.25,0) -> 1.171 | N11: ='Proportional Share Calculation'!E8 -> 0.6815466 | O11: =SUM(I11:N11) -> 19.468547 | P11: =H11-O11 -> 2.8314534 | R11: =IF(O11<5, "Yes", "No") -> No | S11: =IF(R11="Yes",MIN(O11*2,5),"N/A") -> N/A
A12: 10044 | B12: Canby, City of | C12: 21.961 | D12: 0 | E12: 0 | F12: 0 | G12: 0 | H12: =IF((C12+D12-SUM(E12:G12))>0,C12+D12-SUM(E12:G12),0) -> 21.961 | I12: 20.309 | J12: =IF(H12<I12,H12-I12,0) -> 0 | K12: =0.5*'Conservation Data'!J8 -> 0 | L12: =G12*0.5 -> 0 | M12: =IF(H12>I12,(H12-I12)*0.25,0) -> 0.413 | N12: ='Proportional Share Calculation'!E9 -> 0.75174369 | O12: =SUM(I12:N12) -> 21.473744 | P12: =H12-O12 -> 0.48725631 | R12: =IF(O12<5, "Yes", "No") -> No | S12: =IF(R12="Yes",MIN(O12*2,5),"N/A") -> N/A
A13: 10046 | B13: Central Electric Coop | C13: 99.58 | D13: 0 | E13: 0 | F13: 0 | G13: 0 | H13: =IF((C13+D13-SUM(E13:G13))>0,C13+D13-SUM(E13:G13),0) -> 99.58 | I13: 81.851 | J13: =IF(H13<I13,H13-I13,0) -> 0 | K13: =0.5*'Conservation Data'!J9 -> 0.14950805 | L13: =G13*0.5 -> 0 | M13: =IF(H13>I13,(H13-I13)*0.25,0) -> 4.43225 | N13: ='Proportional Share Calculation'!E10 -> 3.1355699 | O13: =SUM(I13:N13) -> 89.568328 | P13: =H13-O13 -> 10.011672 | R13: =IF(O13<5, "Yes", "No") -> No | S13: =IF(R13="Yes",MIN(O13*2,5),"N/A") -> N/A
A14: 10047 | B14: Central Lincoln PUD | C14: 142.828 | D14: 1.353 | E14: 0 | F14: 0 | G14: 0 | H14: =IF((C14+D14-SUM(E14:G14))>0,C14+D14-SUM(E14:G14),0) -> 144.181 | I14: 156.673 | J14: =IF(H14<I14,H14-I14,0) -> -12.492 | K14: =0.5*'Conservation Data'!J10 -> 0.073780985 | L14: =G14*0.5 -> 0 | M14: =IF(H14>I14,(H14-I14)*0.25,0) -> 0 | N14: ='Proportional Share Calculation'!E11 -> 5.2332121 | O14: =SUM(I14:N14) -> 149.48799 | P14: =H14-O14 -> -5.3069931 | R14: =IF(O14<5, "Yes", "No") -> No | S14: =IF(R14="Yes",MIN(O14*2,5),"N/A") -> N/A
A15: 10055 | B15: Albion, City of | C15: 0.461 | D15: 0 | E15: 0 | F15: 0 | G15: 0 | H15: =IF((C15+D15-SUM(E15:G15))>0,C15+D15-SUM(E15:G15),0) -> 0.461 | I15: 0.398 | J15: =IF(H15<I15,H15-I15,0) -> 0 | K15: =0.5*'Conservation Data'!J11 -> 0 | L15: =G15*0.5 -> 0 | M15: =IF(H15>I15,(H15-I15)*0.25,0) -> 0.01575 | N15: ='Proportional Share Calculation'!E12 -> 0.015009842 | O15: =SUM(I15:N15) -> 0.42875984 | P15: =H15-O15 -> 0.032240158 | R15: =IF(O15<5, "Yes", "No") -> Yes | S15: =IF(R15="Yes",MIN(O15*2,5),"N/A") -> 0.85751968
A16: 10057 | B16: Ashland, City of | C16: 19.288 | D16: 0 | E16: 0 | F16: 0 | G16: 0 | H16: =IF((C16+D16-SUM(E16:G16))>0,C16+D16-SUM(E16:G16),0) -> 19.288 | I16: 21.069 | J16: =IF(H16<I16,H16-I16,0) -> -1.781 | K16: =0.5*'Conservation Data'!J12 -> 0 | L16: =G16*0.5 -> 0 | M16: =IF(H16>I16,(H16-I16)*0.25,0) -> 0 | N16: ='Proportional Share Calculation'!E13 -> 0.69972166 | O16: =SUM(I16:N16) -> 19.987722 | P16: =H16-O16 -> -0.69972166 | R16: =IF(O16<5, "Yes", "No") -> No | S16: =IF(R16="Yes",MIN(O16*2,5),"N/A") -> N/A
A17: 10059 | B17: Bandon, City of | C17: 8.096 | D17: 0 | E17: 0 | F17: 0 | G17: 0 | H17: =IF((C17+D17-SUM(E17:G17))>0,C17+D17-SUM(E17:G17),0) -> 8.096 | I17: 7.639 | J17: =IF(H17<I17,H17-I17,0) -> 0 | K17: =0.5*'Conservation Data'!J13 -> 0 | L17: =G17*0.5 -> 0 | M17: =IF(H17>I17,(H17-I17)*0.25,0) -> 0.11425 | N17: ='Proportional Share Calculation'!E14 -> 0.28126902 | O17: =SUM(I17:N17) -> 8.034519 | P17: =H17-O17 -> 0.061480975 | R17: =IF(O17<5, "Yes", "No") -> No | S17: =IF(R17="Yes",MIN(O17*2,5),"N/A") -> N/A
A18: 10061 | B18: Blaine, City of | C18: 9.7 | D18: 0 | E18: 0 | F18: 0 | G18: 0 | H18: =IF((C18+D18-SUM(E18:G18))>0,C18+D18-SUM(E18:G18),0) -> 9.7 | I18: 8.747 | J18: =IF(H18<I18,H18-I18,0) -> 0 | K18: =0.5*'Conservation Data'!J14 -> 0 | L18: =G18*0.5 -> 0 | M18: =IF(H18>I18,(H18-I18)*0.25,0) -> 0.23825 | N18: ='Proportional Share Calculation'!E15 -> 0.32596298 | O18: =SUM(I18:N18) -> 9.311213 | P18: =H18-O18 -> 0.38878702 | R18: =IF(O18<5, "Yes", "No") -> No | S18: =IF(R18="Yes",MIN(O18*2,5),"N/A") -> N/A
... A139: 12026 | B139: Jefferson County PUD #1 | C139: 45.743 | D139: 0 | E139: 0 | F139: 0 | G139: 0 | H139: =IF((C139+D139-SUM(E139:G139))>0,C139+D139-SUM(E139:G139),0) -> 45.743 | I139: 45.173 | J139: =IF(H139<I139,H139-I139,0) -> 0 | K139: =0.5*'Conservation Data'!J135 -> 0.17204076 | L139: =G139*0.5 -> 0 | M139: =IF(H139>I139,(H139-I139)*0.25,0) -> 0.1425 | N139: ='Proportional Share Calculation'!E136 -> 1.6501772 | O139: =SUM(I139:N139) -> 47.137718 | P139: =H139-O139 -> -1.3947179 | R139: =IF(O139<5, "Yes", "No") -> No | S139: =IF(R139="Yes",MIN(O139*2,5),"N/A") -> N/A
B140: Customer Aggregate | C140: =SUM(C7:C139) -> 9764.221 | D140: =SUM(D7:D139) -> 17.542 | E140: =SUM(E7:E139) -> 969.424 | F140: =SUM(F7:F139) -> 1474.677 | G140: =SUM(G7:G139) -> 20.64 | H140: =IF((C140+D140-SUM(E140:G140))>0,C140+D140-SUM(E140:G140),0) -> 7317.022 | I140: =SUM(I7:I139) -> 7244.686 | J140: =SUM(J7:J139) -> -529.405 | K140: =SUM(K7:K139) -> 119.59933 | L140: =SUM(L7:L139) -> 10.32 | M140: =SUM(M7:M139) -> 150.99475 | N140: =SUM(N7:N139) -> 253.80492 | O140: =SUM(O7:O139) -> 7250 | P140: =SUM(P7:P139) -> 69.26
O142: Headroom | P142: =SUMIF(P$7:P$139,"<0") -> -236.31504
O143: Above-CHWM | P143: =SUMIF(P$7:P$139,">0") -> 305.57504

Sheet Conservation Data
A1: All data is in average megawatts (aMW) | C1: Self-Funded Conservation | I1: NEEA | J1: NEEA + Self-Funded Aggregate
A2: BES | B2: Customer | C2: BP-12 | D2: BP-14 | E2: BP-16 | F2: BP-18 | G2: BP-20 | H2: BP-22 | I2: CY 12 - CY 23
A3: 10015 | B3: Asotin County PUD #1 | C3: 0 | D3: 0 | E3: 0 | F3: 0 | G3: 0 | H3: 0 | I3: 0 | J3: =SUM(C3:I3) -> 0
A4: 10024 | B4: Benton County PUD #1 | C4: 2.2945662 | D4: 0.06695695 | E4: 0.15217126 | F4: 0.30998996 | G4: 0.026719646 | H4: 0 | I4: 0 | J4: =SUM(C4:I4) -> 2.850404
A5: 10025 | B5: Benton REA | C5: 0.01486071 | D5: 0.008123901 | E5: 0.038697809 | F5: 0.48420659 | G5: 0.047757245 | H5: 0.67243506 | I5: 0 | J5: =SUM(C5:I5) -> 1.2660813
A6: 10027 | B6: Big Bend Elec Coop | C6: 0.0062270604 | D6: 0 | E6: 0 | F6: 0 | G6: 0 | H6: 0.043785588 | I6: 0 | J6: =SUM(C6:I6) -> 0.050012648
A7: 10029 | B7: Blachly Lane Elec Coop | C7: 0 | D7: 0 | E7: 0 | F7: 0 | G7: 0 | H7: 0 | I7: 0 | J7: =SUM(C7:I7) -> 0
A8: 10044 | B8: Canby, City of | C8: 0 | D8: 0 | E8: 0 | F8: 0 | G8: 0 | H8: 0 | I8: 0 | J8: =SUM(C8:I8) -> 0
A9: 10046 | B9: Central Electric Coop | C9: 0.011906276 | D9: 0.05084542 | E9: 0 | F9: 0.085307462 | G9: 0.14510368 | H9: 0.0058532546 | I9: 0 | J9: =SUM(C9:I9) -> 0.29901609
A10: 10047 | B10: Central Lincoln PUD | C10: 0 | D10: 0 | E10: 0.0021164313 | F10: 0.076511821 | G10: 0.068933718 | H10: 0 | I10: 0 | J10: =SUM(C10:I10) -> 0.14756197
A11: 10055 | B11: Albion, City of | C11: 0 | D11: 0 | E11: 0 | F11: 0 | G11: 0 | H11: 0 | I11: 0 | J11: =SUM(C11:I11) -> 0
A12: 10057 | B12: Ashland, City of | C12: 0 | D12: 0 | E12: 0 | F12: 0 | G12: 0 | H12: 0 | I12: 0 | J12: =SUM(C12:I12) -> 0
A13: 10059 | B13: Bandon, City of | C13: 0 | D13: 0 | E13: 0 | F13: 0 | G13: 0 | H13: 0 | I13: 0 | J13: =SUM(C13:I13) -> 0
A14: 10061 | B14: Blaine, City of | C14: 0 | D14: 0 | E14: 0 | F14: 0 | G14: 0 | H14: 0 | I14: 0 | J14: =SUM(C14:I14) -> 0
... A135: 12026 | B135: Jefferson County PUD #1 | C135: 0 | D135: 0 | E135: 0 | F135: 0 | G135: 0.24668032 | H135: 0.097401204 | I135: 0 | J135: =SUM(C135:I135) -> 0.34408152
B136: Aggregate | C136: =SUM(C3:C135) -> 41.215534 | D136: =SUM(D3:D135) -> 38.723077 | E136: =SUM(E3:E135) -> 43.145348 | F136: =SUM(F3:F135) -> 40.987936 | G136: =SUM(G3:G135) -> 11.87738 | H136: =SUM(H3:H135) -> 17.565392 | I136: =SUM(I3:I135) -> 45.684 | J136: =SUM(J3:J135) -> 239.19867

Sheet Attachment A
A1: BES | B1: Customer Name | C1: Resource Name | D1: FY 2023 Exhibit A Amount (aMW) | E1: CHWM Calculation Amount (aMW) | F1: Resource Notes | G1: Existing and Other (SNEERS, CORs, Green Exception) | H1: New Resource (No Removal) (aMW) | N1: Row Labels | O1: Sum of Existing and Other (SNEERS, CORs, Green Exception) | P1: Sum of New Resource (No Removal) (aMW)
A2: 10055 | B2: Albion, City of | C2: [None] | D2: - | E2: - | G2: =IF(E2="-",0,E2-H2) -> 0 | H2: =IF(F2="A",E2,0) -> 0 | L2: =N2=M2 -> TRUE | M2: 10015 | N2: 10015 | O2: 0 | P2: 0
A3: 10057 | B3: Ashland, City of | C3: Reeder Gulch | D3: 0.158 | E3: 0 | F3: B | G3: =IF(E3="-",0,E3-H3) -> 0 | H3: =IF(F3="A",E3,0) -> 0 | L3: =N3=M3 -> TRUE | M3: 10024 | N3: 10024 | O3: 0.919 | P3: 0
A4: 10015 | B4: Asotin County PUD #1 | C4: [None] | D4: - | E4: - | G4: =IF(E4="-",0,E4-H4) -> 0 | H4: =IF(F4="A",E4,0) -> 0 | L4: =N4=M4 -> TRUE | M4: 10025 | N4: 10025 | O4: 0 | P4: 0
A5: 10059 | B5: Bandon, City of | C5: [None] | D5: - | E5: - | G5: =IF(E5="-",0,E5-H5) -> 0 | H5: =IF(F5="A",E5,0) -> 0 | L5: =N5=M5 -> TRUE | M5: 10027 | N5: 10027 | O5: 0 | P5: 0
A6: 10024 | B6: Benton County PUD #1 | C6: Packwood | D6: 0.919 | E6: 0.919 | F6: J | G6: =IF(E6="-",0,E6-H6) -> 0.919 | H6: =IF(F6="A",E6,0) -> 0 | L6: =N6=M6 -> TRUE | M6: 10029 | N6: 10029 | O6: 0 | P6: 0
A7: 10025 | B7: Benton REA | C7: [None] | D7: - | E7: - | G7: =IF(E7="-",0,E7-H7) -> 0 | H7: =IF(F7="A",E7,0) -> 0 | L7: =N7=M7 -> TRUE | M7: 10044 | N7: 10044 | O7: 0 | P7: 0
A8: 10027 | B8: Big Bend Elec Coop | C8: [None] | D8: - | E8: - | G8: =IF(E8="-",0,E8-H8) -> 0 | H8: =IF(F8="A",E8,0) -> 0 | L8: =N8=M8 -> TRUE | M8: 10046 | N8: 10046 | O8: 0 | P8: 0
A9: 10029 | B9: Blachly Lane Elec Coop | C9: [None] | D9: - | E9: - | G9: =IF(E9="-",0,E9-H9) -> 0 | H9: =IF(F9="A",E9,0) -> 0 | L9: =N9=M9 -> TRUE | M9: 10047 | N9: 10047 | O9: 0 | P9: 0
A10: 10061 | B10: Blaine, City of | C10: [None] | D10: - | E10: - | G10: =IF(E10="-",0,E10-H10) -> 0 | H10: =IF(F10="A",E10,0) -> 0 | L10: =N10=M10 -> TRUE | M10: 10055 | N10: 10055 | O10: 0 | P10: 0
A11: 10062 | B11: Bonners Ferry, City of | C11: Moyie | D11: 1.881 | E11: 1.881 | G11: =IF(E11="-",0,E11-H11) -> 1.881 | H11: =IF(F11="A",E11,0) -> 0 | L11: =N11=M11 -> TRUE | M11: 10057 | N11: 10057 | O11: 0 | P11: 0
A12: 10064 | B12: Burley, City of | C12: [None] | D12: - | E12: - | G12: =IF(E12="-",0,E12-H12) -> 0 | H12: =IF(F12="A",E12,0) -> 0 | L12: =N12=M12 -> TRUE | M12: 10059 | N12: 10059 | O12: 0 | P12: 0
A13: 10044 | B13: Canby, City of | C13: [None] | D13: - | E13: - | G13: =IF(E13="-",0,E13-H13) -> 0 | H13: =IF(F13="A",E13,0) -> 0 | L13: =N13=M13 -> TRUE | M13: 10061 | N13: 10061 | O13: 0 | P13: 0
A14: 10065 | B14: Cascade Locks, City of | C14: [None] | D14: - | E14: - | G14: =IF(E14="-",0,E14-H14) -> 0 | H14: =IF(F14="A",E14,0) -> 0 | L14: =N14=M14 -> TRUE | M14: 10062 | N14: 10062 | O14: 1.881 | P14: 0
A15: 10046 | B15: Central Electric Coop | C15: Three Sisters Irrigation District Hydro | D15: 0.354 | E15: 0 | F15: M, B | G15: =IF(E15="-",0,E15-H15) -> 0 | H15: =IF(F15="A",E15,0) -> 0 | L15: =N15=M15 -> TRUE | M15: 10064 | N15: 10064 | O15: 0 | P15: 0
A16: 10047 | B16: Central Lincoln PUD | C16: Georgia Pacific Toledo | D16: 8.238 | E16: 0 | F16: M | G16: =IF(E16="-",0,E16-H16) -> 0 | H16: =IF(F16="A",E16,0) -> 0 | L16: =N16=M16 -> TRUE | M16: 10065 | N16: 10065 | O16: 0 | P16: 0
A17: 10066 | B17: Centralia, City of | C17: Yelm | D17: 7.114 | E17: 7.114 | G17: =IF(E17="-",0,E17-H17) -> 7.114 | H17: =IF(F17="A",E17,0) -> 0 | L17: =N17=M17 -> TRUE | M17: 10066 | N17: 10066 | O17: 7.114 | P17: 0
A18: 10067 | B18: Cheney, City of | C18: [None] | D18: - | E18: - | G18: =IF(E18="-",0,E18-H18) -> 0 | H18: =IF(F18="A",E18,0) -> 0 | L18: =N18=M18 -> TRUE | M18: 10067 | N18: 10067 | O18: 0 | P18: 0
A19: 10068 | B19: Chewelah, City of | C19: [None] | D19: - | E19: - | G19: =IF(E19="-",0,E19-H19) -> 0 | H19: =IF(F19="A",E19,0) -> 0 | L19: =N19=M19 -> TRUE | M19: 10068 | N19: 10068 | O19: 0 | P19: 0
A20: 10101 | B20: Clallam County PUD #1 | C20: Packwood | D20: 0.46 | E20: 0.46 | F20: J | G20: =IF(E20="-",0,E20-H20) -> 0.46 | H20: =IF(F20="A",E20,0) -> 0 | L20: =N20=M20 -> TRUE | M20: 10070 | N20: 10070 | O20: 0 | P20: 0
A21: 10101 | B21: Clallam County PUD #1 | C21: Packwood Assigned Shares | D21: 0.214 | E21: 0 | F21: I | G21: =IF(E21="-",0,E21-H21) -> 0 | H21: =IF(F21="A",E21,0) -> 0 | L21: =N21=M21 -> TRUE | M21: 10071 | N21: 10071 | O21: 0 | P21: 0
A22: 10103 | B22: Clark County PUD #1 | C22: Packwood | D22: 1.181 | E22: 1.181 | F22: J | G22: =IF(E22="-",0,E22-H22) -> 1.181 | H22: =IF(F22="A",E22,0) -> 0 | L22: =N22=M22 -> TRUE | M22: 10072 | N22: 10072 | O22: 0 | P22: 0
A23: 10103 | B23: Clark County PUD #1 | C23: River Road | D23: 224.767 | E23: 102 | F23: N | G23: =IF(E23="-",0,E23-H23) -> 102 | H23: =IF(F23="A",E23,0) -> 0 | L23: =N23=M23 -> TRUE | M23: 10074 | N23: 10074 | O23: 2.941 | P23: 0
A24: 10105 | B24: Clatskanie PUD | C24: [None] | D24: - | E24: - | G24: =IF(E24="-",0,E24-H24) -> 0 | H24: =IF(F24="A",E24,0) -> 0 | L24: =N24=M24 -> TRUE | M24: 10076 | N24: 10076 | O24: 0 | P24: 0
A25: 10106 | B25: Clearwater Power | C25: [None] | D25: - | E25: - | G25: =IF(E25="-",0,E25-H25) -> 0 | H25: =IF(F25="A",E25,0) -> 0 | L25: =N25=M25 -> TRUE | M25: 10078 | N25: 10078 | O25: 0 | P25: 0
A26: 10109 | B26: Columbia Basin Elec Coop | C26: [None] | D26: - | E26: - | G26: =IF(E26="-",0,E26-H26) -> 0 | H26: =IF(F26="A",E26,0) -> 0 | L26: =N26=M26 -> TRUE | M26: 10079 | N26: 10079 | O26: 2.941 | P26: 4.015
A27: 10111 | B27: Columbia Power Coop | C27: [None] | D27: - | E27: - | G27: =IF(E27="-",0,E27-H27) -> 0 | H27: =IF(F27="A",E27,0) -> 0 | L27: =N27=M27 -> TRUE | M27: 10080 | N27: 10080 | O27: 0 | P27: 0
A28: 10113 | B28: Columbia REA | C28: Walla Walla Hydro | D28: 1.231 | E28: 1.231 | F28: A | G28: =IF(E28="-",0,E28-H28) -> 0 | H28: =IF(F28="A",E28,0) -> 1.231 | L28: =N28=M28 -> TRUE | M28: 10081 | N28: 10081 | O28: 2.941 | P28: 0
A29: 10112 | B29: Columbia River PUD | C29: [None] | D29: - | E29: - | G29: =IF(E29="-",0,E29-H29) -> 0 | H29: =IF(F29="A",E29,0) -> 0 | L29: =N29=M29 -> TRUE | M29: 10082 | N29: 10082 | O29: 0 | P29: 0
A30: 10116 | B30: Consolidated Irrigation District #19 | C30: [None] | D30: - | E30: - | G30: =IF(E30="-",0,E30-H30) -> 0 | H30: =IF(F30="A",E30,0) -> 0 | L30: =N30=M30 -> TRUE | M30: 10083 | N30: 10083 | O30: 0 | P30: 0
A31: 10118 | B31: Consumers Power | C31: Coffin Butte Phase 1 | D31: 0 | E31: 0 | F31: C | G31: =IF(E31="-",0,E31-H31) -> 0 | H31: =IF(F31="A",E31,0) -> 0 | L31: =N31=M31 -> TRUE | M31: 10086 | N31: 10086 | O31: 0 | P31: 0
A32: 10118 | B32: Consumers Power | C32: Coffin Butte Phase 1 Replacement | D32: 2.363 | E32: 0 | F32: C | G32: =IF(E32="-",0,E32-H32) -> 0 | H32: =IF(F32="A",E32,0) -> 0 | L32: =N32=M32 -> TRUE | M32: 10087 | N32: 10087 | O32: 0 | P32: 0
A33: 10121 | B33: Coos Curry Elec Coop | C33: [None] | D33: - | E33: - | G33: =IF(E33="-",0,E33-H33) -> 0 | H33: =IF(F33="A",E33,0) -> 0 | L33: =N33=M33 -> TRUE | M33: 10089 | N33: 10089 | O33: 0 | P33: 0.582
A34: 10378 | B34: Coulee Dam, City of | C34: [None] | D34: - | E34: - | G34: =IF(E34="-",0,E34-H34) -> 0 | H34: =IF(F34="A",E34,0) -> 0 | L34: =N34=M34 -> TRUE | M34: 10091 | N34: 10091 | O34: 0 | P34: 0
A35: 10123 | B35: Cowlitz County PUD #1 | C35: Priest Rapids | D35: 0.601 | E35: 0.555 | F35: L | G35: =IF(E35="-",0,E35-H35) -> 0.555 | H35: =IF(F35="A",E35,0) -> 0 | L35: =N35=M35 -> TRUE | M35: 10094 | N35: 10094 | O35: 0 | P35: 0
A36: 10123 | B36: Cowlitz County PUD #1 | C36: Swift | D36: 14.599 | E36: 14.599 | G36: =IF(E36="-",0,E36-H36) -> 14.599 | H36: =IF(F36="A",E36,0) -> 0 | L36: =N36=M36 -> TRUE | M36: 10095 | N36: 10095 | O36: 0 | P36: 0
A37: 10123 | B37: Cowlitz County PUD #1 | C37: Wanapum | D37: 0.61 | E37: 0.566 | F37: L | G37: =IF(E37="-",0,E37-H37) -> 0.566 | H37: =IF(F37="A",E37,0) -> 0 | L37: =N37=M37 -> TRUE | M37: 10097 | N37: 10097 | O37: 0 | P37: 0
A38: 10123 | B38: Cowlitz County PUD #1 | C38: Longview Fibre 1 (#3 - #7) | D38: 35 | E38: 0 | F38: M | G38: =IF(E38="-",0,E38-H38) -> 0 | H38: =IF(F38="A",E38,0) -> 0 | L38: =N38=M38 -> TRUE | M38: 10101 | N38: 10101 | O38: 0.46 | P38: 0
A39: 10123 | B39: Cowlitz County PUD #1 | C39: Longview Fibre 2 (#8) | D39: 0 | E39: 0 | F39: M | G39: =IF(E39="-",0,E39-H39) -> 0 | H39: =IF(F39="A",E39,0) -> 0 | L39: =N39=M39 -> TRUE | M39: 10103 | N39: 10103 | O39: 103.181 | P39: 0
A40: 10123 | B40: Cowlitz County PUD #1 | C40: Weyerhaeuser | D40: 35 | E40: 0 | F40: M | G40: =IF(E40="-",0,E40-H40) -> 0 | H40: =IF(F40="A",E40,0) -> 0 | L40: =N40=M40 -> TRUE | M40: 10105 | N40: 10105 | O40: 0 | P40: 0
A41: 10070 | B41: Declo, City of | C41: [None] | D41: - | E41: - | G41: =IF(E41="-",0,E41-H41) -> 0 | H41: =IF(F41="A",E41,0) -> 0 | L41: =N41=M41 -> TRUE | M41: 10106 | N41: 10106 | O41: 0 | P41: 0
A42: 10136 | B42: Douglas Electric Cooperative | C42: [None] | D42: - | E42: - | G42: =IF(E42="-",0,E42-H42) -> 0 | H42: =IF(F42="A",E42,0) -> 0 | L42: =N42=M42 -> TRUE | M42: 10109 | N42: 10109 | O42: 0 | P42: 0
A43: 10071 | B43: Drain, City of | C43: [None] | D43: - | E43: - | G43: =IF(E43="-",0,E43-H43) -> 0 | H43: =IF(F43="A",E43,0) -> 0 | L43: =N43=M43 -> TRUE | M43: 10111 | N43: 10111 | O43: 0 | P43: 0
A44: 10142 | B44: East End Mutual Electric | C44: [None] | D44: - | E44: - | G44: =IF(E44="-",0,E44-H44) -> 0 | H44: =IF(F44="A",E44,0) -> 0 | L44: =N44=M44 -> TRUE | M44: 10112 | N44: 10112 | O44: 0 | P44: 0
A45: 10144 | B45: Eatonville, City of | C45: [None] | D45: - | E45: - | G45: =IF(E45="-",0,E45-H45) -> 0 | H45: =IF(F45="A",E45,0) -> 0 | L45: =N45=M45 -> TRUE | M45: 10113 | N45: 10113 | O45: 0 | P45: 1.231
A46: 10072 | B46: Ellensburg, City of | C46: [None] | D46: - | E46: - | G46: =IF(E46="-",0,E46-H46) -> 0 | H46: =IF(F46="A",E46,0) -> 0 | L46: =N46=M46 -> TRUE | M46: 10116 | N46: 10116 | O46: 0 | P46: 0
A47: 10156 | B47: Elmhurst Mutual P & L | C47: [None] | D47: - | E47: - | G47: =IF(E47="-",0,E47-H47) -> 0 | H47: =IF(F47="A",E47,0) -> 0 | L47: =N47=M47 -> TRUE | M47: 10118 | N47: 10118 | O47: 0 | P47: 0
A48: 10157 | B48: Emerald PUD | C48: Short Mountain | D48: 2.549 | E48: 0 | F48: C | G48: =IF(E48="-",0,E48-H48) -> 0 | H48: =IF(F48="A",E48,0) -> 0 | L48: =N48=M48 -> TRUE | M48: 10121 | N48: 10121 | O48: 0 | P48: 0
A49: 10158 | B49: Energy Northwest | C49: [None] | D49: - | E49: - | G49: =IF(E49="-",0,E49-H49) -> 0 | H49: =IF(F49="A",E49,0) -> 0 | L49: =N49=M49 -> TRUE | M49: 10123 | N49: 10123 | O49: 15.72 | P49: 0
A50: 10170 | B50: Eugene Water & Electric Board | C50: Carmen-Smith | D50: 15.425 | E50: 15.425 | G50: =IF(E50="-",0,E50-H50) -> 15.425 | H50: =IF(F50="A",E50,0) -> 0 | L50: =N50=M50 -> TRUE | M50: 10136 | N50: 10136 | O50: 0 | P50: 0
A51: 10170 | B51: Eugene Water & Electric Board | C51: Foote Creek I | D51: N/A | E51: 0 | F51: N | G51: =IF(E51="-",0,E51-H51) -> 0 | H51: =IF(F51="A",E51,0) -> 0 | L51: =N51=M51 -> TRUE | M51: 10142 | N51: 10142 | O51: 0 | P51: 0
A52: 10170 | B52: Eugene Water & Electric Board | C52: Replacement for Foote Creek I | D52: 2.086 | E52: 0 | F52: N | G52: =IF(E52="-",0,E52-H52) -> 0 | H52: =IF(F52="A",E52,0) -> 0 | L52: =N52=M52 -> TRUE | M52: 10144 | N52: 10144 | O52: 0 | P52: 0
A53: 10170 | B53: Eugene Water & Electric Board | C53: Leaburg | D53: 0 | E53: 0 | F53: N | G53: =IF(E53="-",0,E53-H53) -> 0 | H53: =IF(F53="A",E53,0) -> 0 | L53: =N53=M53 -> TRUE | M53: 10156 | N53: 10156 | O53: 0 | P53: 0
A54: 10170 | B54: Eugene Water & Electric Board | C54: Priest Rapids | D54: 0.526 | E54: 0.494 | F54: L | G54: =IF(E54="-",0,E54-H54) -> 0.494 | H54: =IF(F54="A",E54,0) -> 0 | L54: =N54=M54 -> TRUE | M54: 10157 | N54: 10157 | O54: 0 | P54: 0
A55: 10170 | B55: Eugene Water & Electric Board | C55: Smith Creek | D55: N/A | E55: 0 | F55: N | G55: =IF(E55="-",0,E55-H55) -> 0 | H55: =IF(F55="A",E55,0) -> 0 | L55: =N55=M55 -> TRUE | M55: 10158 | N55: 10158 | O55: 0 | P55: 0
A56: 10170 | B56: Eugene Water & Electric Board | C56: Replacement for Smith Creek | D56: 6.985 | E56: 6.985 | G56: =IF(E56="-",0,E56-H56) -> 6.985 | H56: =IF(F56="A",E56,0) -> 0 | L56: =N56=M56 -> TRUE | M56: 10170 | N56: 10170 | O56: 30.675 | P56: 0
A57: 10170 | B57: Eugene Water & Electric Board | C57: Stone Creek | D57: 3.484 | E57: 0 | F57: H | G57: =IF(E57="-",0,E57-H57) -> 0 | H57: =IF(F57="A",E57,0) -> 0 | L57: =N57=M57 -> TRUE | M57: 10172 | N57: 10172 | O57: 0 | P57: 0
A58: 10170 | B58: Eugene Water & Electric Board | C58: Trailbridge | D58: 3.282 | E58: 1.694 | F58: C | G58: =IF(E58="-",0,E58-H58) -> 1.694 | H58: =IF(F58="A",E58,0) -> 0 | L58: =N58=M58 -> TRUE | M58: 10173 | N58: 10173 | O58: 0.992 | P58: 0.967
A59: 10170 | B59: Eugene Water & Electric Board | C59: Walterville | D59: 5.591 | E59: 5.591 | G59: =IF(E59="-",0,E59-H59) -> 5.591 | H59: =IF(F59="A",E59,0) -> 0 | L59: =N59=M59 -> TRUE | M59: 10174 | N59: 10174 | O59: 0 | P59: 0
A60: 10170 | B60: Eugene Water & Electric Board | C60: Wanapum | D60: 0.533 | E60: 0.486 | F60: L | G60: =IF(E60="-",0,E60-H60) -> 0.486 | H60: =IF(F60="A",E60,0) -> 0 | L60: =N60=M60 -> TRUE | M60: 10177 | N60: 10177 | O60: 0.066 | P60: 0
A61: 10170 | B61: Eugene Water & Electric Board | C61: Industrial Finishes | D61: 0.057 | E61: 0 | F61: B | G61: =IF(E61="-",0,E61-H61) -> 0 | H61: =IF(F61="A",E61,0) -> 0 | L61: =N61=M61 -> TRUE | M61: 10179 | N61: 10179 | O61: 9.404 | P61: 3.577
A62: 10170 | B62: Eugene Water & Electric Board | C62: International Paper | D62: 17.678 | E62: 0 | F62: M | G62: =IF(E62="-",0,E62-H62) -> 0 | H62: =IF(F62="A",E62,0) -> 0 | L62: =N62=M62 -> TRUE | M62: 10183 | N62: 10183 | O62: 0.689 | P62: 0
A63: 10170 | B63: Eugene Water & Electric Board | C63: Willamette Beverage (Pepsi-Cola) | D63: 0.031 | E63: 0 | F63: B | G63: =IF(E63="-",0,E63-H63) -> 0 | H63: =IF(F63="A",E63,0) -> 0 | L63: =N63=M63 -> TRUE | M63: 10186 | N63: 10186 | O63: 0 | P63: 0
A64: 10170 | B64: Eugene Water & Electric Board | C64: Kendall Dealership Holdings LLC | D64: 0.025 | E64: 0 | F64: B | G64: =IF(E64="-",0,E64-H64) -> 0 | H64: =IF(F64="A",E64,0) -> 0 | L64: =N64=M64 -> TRUE | M64: 10190 | N64: 10190 | O64: 403.126 | P64: 0
A65: 10170 | B65: Eugene Water & Electric Board | C65: Metropolitan Wastewater Management Commission | D65: 0.57 | E65: 0 | F65: B | G65: =IF(E65="-",0,E65-H65) -> 0 | H65: =IF(F65="A",E65,0) -> 0 | L65: =N65=M65 -> TRUE | M65: 10191 | N65: 10191 | O65: 0 | P65: 0
A66: 10172 | B66: U.S. Airforce Base, Fairchild | C66: [None] | D66: - | E66: - | G66: =IF(E66="-",0,E66-H66) -> 0 | H66: =IF(F66="A",E66,0) -> 0 | L66: =N66=M66 -> TRUE | M66: 10197 | N66: 10197 | O66: 0 | P66: 0
A67: 10173 | B67: Fall River Elec Coop | C67: Buffalo Hydro | D67: 0.135 | E67: 0 | F67: B | G67: =IF(E67="-",0,E67-H67) -> 0 | H67: =IF(F67="A",E67,0) -> 0 | L67: =N67=M67 -> TRUE | M67: 10202 | N67: 10202 | O67: 0 | P67: 0
A68: 10173 | B68: Fall River Elec Coop | C68: Chester Hydro | D68: 0.967 | E68: 0.967 | F68: A | G68: =IF(E68="-",0,E68-H68) -> 0 | H68: =IF(F68="A",E68,0) -> 0.967 | L68: =N68=M68 -> TRUE | M68: 10203 | N68: 10203 | O68: 0 | P68: 0
A69: 10173 | B69: Fall River Elec Coop | C69: Island Park | D69: 0.992 | E69: 0.992 | G69: =IF(E69="-",0,E69-H69) -> 0.992 | H69: =IF(F69="A",E69,0) -> 0 | L69: =N69=M69 -> TRUE | M69: 10204 | N69: 10204 | O69: 17.322 | P69: 0.518
A70: 10174 | B70: Farmers Elec Coop | C70: [None] | D70: - | E70: - | G70: =IF(E70="-",0,E70-H70) -> 0 | H70: =IF(F70="A",E70,0) -> 0 | L70: =N70=M70 -> TRUE | M70: 10209 | N70: 10209 | O70: 0 | P70: 0
A71: 10177 | B71: Ferry County PUD #1 | C71: Packwood | D71: 0 | E71: 0.066 | F71: J, Q | G71: =IF(E71="-",0,E71-H71) -> 0.066 | H71: =IF(F71="A",E71,0) -> 0 | L71: =N71=M71 -> TRUE | M71: 10230 | N71: 10230 | O71: 0.996 | P71: 0
A72: 10179 | B72: Flathead Elec Coop | C72: Land Fill Gas To Energy LFGTE, Flathead County Solid Waste | D72: 1.077 | E72: 1.077 | F72: A | G72: =IF(E72="-",0,E72-H72) -> 0 | H72: =IF(F72="A",E72,0) -> 1.077 | L72: =N72=M72 -> TRUE | M72: 10231 | N72: 10231 | O72: 4.419 | P72: 0
A73: 10179 | B73: Flathead Elec Coop | C73: Stolze Biomass | D73: 2.5 | E73: 2.5 | F73: A | G73: =IF(E73="-",0,E73-H73) -> 0 | H73: =IF(F73="A",E73,0) -> 2.5 | L73: =N73=M73 -> TRUE | M73: 10234 | N73: 10234 | O73: 0 | P73: 0
A74: 10179 | B74: Flathead Elec Coop | C74: Stoltze Biomass | D74: 2.5 | E74: 0 | F74: M | G74: =IF(E74="-",0,E74-H74) -> 0 | H74: =IF(F74="A",E74,0) -> 0 | L74: =N74=M74 -> TRUE | M74: 10235 | N74: 10235 | O74: 0 | P74: 0
A75: 10179 | B75: Flathead Elec Coop | C75: Sierra Pacific Industries (“SPI”) – Aberdeen, WA (purchased from Public Utility District No. 1 of Grays Harbor County) | D75: 9.404 | E75: 9.404 | F75: G | G75: =IF(E75="-",0,E75-H75) -> 9.404 | H75: =IF(F75="A",E75,0) -> 0 | L75: =N75=M75 -> TRUE | M75: 10236 | N75: 10236 | O75: 0 | P75: 0
A76: 10179 | B76: Flathead Elec Coop | C76: Nippon Paper Industries USA Co., Ltd. – Port Angeles, WA | D76: 0 | E76: 0 | F76: G | G76: =IF(E76="-",0,E76-H76) -> 0 | H76: =IF(F76="A",E76,0) -> 0 | L76: =N76=M76 -> TRUE | M76: 10237 | N76: 10237 | O76: 0.936 | P76: 0
A77: 10074 | B77: Forest Grove, City of | C77: Priest Rapids | D77: 1.577 | E77: 1.457 | F77: L | G77: =IF(E77="-",0,E77-H77) -> 1.457 | H77: =IF(F77="A",E77,0) -> 0 | L77: =N77=M77 -> TRUE | M77: 10239 | N77: 10239 | O77: 0 | P77: 0
A78: 10074 | B78: Forest Grove, City of | C78: Wanapum | D78: 1.6 | E78: 1.484 | F78: L | G78: =IF(E78="-",0,E78-H78) -> 1.484 | H78: =IF(F78="A",E78,0) -> 0 | L78: =N78=M78 -> TRUE | M78: 10242 | N78: 10242 | O78: 0 | P78: 0
A79: 10183 | B79: Franklin County PUD #1 | C79: Packwood | D79: 0.689 | E79: 0.689 | F79: J | G79: =IF(E79="-",0,E79-H79) -> 0.689 | H79: =IF(F79="A",E79,0) -> 0 | L79: =N79=M79 -> TRUE | M79: 10244 | N79: 10244 | O79: 1.03 | P79: 2.573
A80: 10186 | B80: Glacier Elec Coop | C80: Western Area Power Administration (WAPA) Blackfeet Tribal Allocation | D80: 3.316 | E80: 0 | F80: D | G80: =IF(E80="-",0,E80-H80) -> 0 | H80: =IF(F80="A",E80,0) -> 0 | L80: =N80=M80 -> TRUE | M80: 10246 | N80: 10246 | O80: 0 | P80: 0
A81: 10190 | B81: Grant County PUD #2 | C81: Priest Rapids Project | D81: N/A | E81: 400.836 | F81: F, L, S | G81: =IF(E81="-",0,E81-H81) -> 400.836 | H81: =IF(F81="A",E81,0) -> 0 | L81: =N81=M81 -> TRUE | M81: 10247 | N81: 10247 | O81: 0.656 | P81: 0.809
A82: 10190 | B82: Grant County PUD #2 | C82: Priest Rapids Project - NLSL | D82: N/A | E82: 0 | F82: F, H, L | G82: =IF(E82="-",0,E82-H82) -> 0 | H82: =IF(F82="A",E82,0) -> 0 | L82: =N82=M82 -> TRUE | M82: 10256 | N82: 10256 | O82: 0 | P82: 0
A83: 10190 | B83: Grant County PUD #2 | C83: PEC Headworks | D83: N/A | E83: 2.29 | F83: C, F | G83: =IF(E83="-",0,E83-H83) -> 2.29 | H83: =IF(F83="A",E83,0) -> 0 | L83: =N83=M83 -> TRUE | M83: 10258 | N83: 10258 | O83: 3.439 | P83: 0
A84: 10190 | B84: Grant County PUD #2 | C84: Quincy Chute | D84: N/A | E84: 0 | F84: C, F | G84: =IF(E84="-",0,E84-H84) -> 0 | H84: =IF(F84="A",E84,0) -> 0 | L84: =N84=M84 -> TRUE | M84: 10259 | N84: 10259 | O84: 0 | P84: 0
A85: 10190 | B85: Grant County PUD #2 | C85: Yakama Nation | D85: N/A | E85: 0 | F85: P | G85: =IF(E85="-",0,E85-H85) -> 0 | H85: =IF(F85="A",E85,0) -> 0 | L85: =N85=M85 -> TRUE | M85: 10260 | N85: 10260 | O85: 0 | P85: 0
A86: 10191 | B86: Grays Harbor PUD #1 | C86: Cosmo Specialty Fibers | D86: 13 | E86: 0 | F86: M | G86: =IF(E86="-",0,E86-H86) -> 0 | H86: =IF(F86="A",E86,0) -> 0 | L86: =N86=M86 -> TRUE | M86: 10273 | N86: 10273 | O86: 0 | P86: 0
A87: 10191 | B87: Grays Harbor PUD #1 | C87: Sierra Pacific Industries-Aberdeen, WA | D87: 14.446 | E87: 0 | F87: M | G87: =IF(E87="-",0,E87-H87) -> 0 | H87: =IF(F87="A",E87,0) -> 0 | L87: =N87=M87 -> TRUE | M87: 10278 | N87: 10278 | O87: 1.53 | P87: 0
A88: 10197 | B88: Harney Elec Coop | C88: [None] | D88: - | E88: - | G88: =IF(E88="-",0,E88-H88) -> 0 | H88: =IF(F88="A",E88,0) -> 0 | L88: =N88=M88 -> TRUE | M88: 10279 | N88: 10279 | O88: 4.404 | P88: 0
A89: 10597 | B89: Hermiston, City of | C89: [None] | D89: - | E89: - | G89: =IF(E89="-",0,E89-H89) -> 0 | H89: =IF(F89="A",E89,0) -> 0 | L89: =N89=M89 -> TRUE | M89: 10284 | N89: 10284 | O89: 0 | P89: 0
A90: 10076 | B90: Heyburn, City of | C90: [None] | D90: - | E90: - | G90: =IF(E90="-",0,E90-H90) -> 0 | H90: =IF(F90="A",E90,0) -> 0 | L90: =N90=M90 -> TRUE | M90: 10285 | N90: 10285 | O90: 0 | P90: 0
A91: 10202 | B91: Hood River Elec Coop | C91: Middle Fork Irrigation | D91: 2.686 | E91: 0 | F91: M | G91: =IF(E91="-",0,E91-H91) -> 0 | H91: =IF(F91="A",E91,0) -> 0 | L91: =N91=M91 -> TRUE | M91: 10286 | N91: 10286 | O91: 24.13 | P91: 0
A92: 10203 | B92: Idaho County L & P | C92: [None] | D92: - | E92: - | G92: =IF(E92="-",0,E92-H92) -> 0 | H92: =IF(F92="A",E92,0) -> 0 | L92: =N92=M92 -> TRUE | M92: 10288 | N92: 10288 | O92: 0 | P92: 0
A93: 10204 | B93: Idaho Falls Power | C93: Bulb Turbines | D93: 11.528 | E93: 11.528 | G93: =IF(E93="-",0,E93-H93) -> 11.528 | H93: =IF(F93="A",E93,0) -> 0 | L93: =N93=M93 -> TRUE | M93: 10291 | N93: 10291 | O93: 0 | P93: 0
A94: 10204 | B94: Idaho Falls Power | C94: Gem State | D94: 5.794 | E94: 5.794 | G94: =IF(E94="-",0,E94-H94) -> 5.794 | H94: =IF(F94="A",E94,0) -> 0 | L94: =N94=M94 -> TRUE | M94: 10294 | N94: 10294 | O94: 0 | P94: 0
A95: 10204 | B95: Idaho Falls Power | C95: Horse Butte | D95: 0.518 | E95: 0.518 | F95: A | G95: =IF(E95="-",0,E95-H95) -> 0 | H95: =IF(F95="A",E95,0) -> 0.518 | L95: =N95=M95 -> TRUE | M95: 10304 | N95: 10304 | O95: 0 | P95: 0
A96: 10209 | B96: Inland P & L | C96: [None] | D96: - | E96: - | G96: =IF(E96="-",0,E96-H96) -> 0 | H96: =IF(F96="A",E96,0) -> 0 | L96: =N96=M96 -> TRUE | M96: 10306 | N96: 10306 | O96: 36.024 | P96: 0
A97: 12026 | B97: Jefferson County PUD #1 | C97: [None] | D97: - | E97: - | G97: =IF(E97="-",0,E97-H97) -> 0 | H97: =IF(F97="A",E97,0) -> 0 | L97: =N97=M97 -> TRUE | M97: 10307 | N97: 10307 | O97: 0 | P97: 5
A98: 13927 | B98: Kalispel Tribe Utility | C98: [None] | D98: - | E98: - | G98: =IF(E98="-",0,E98-H98) -> 0 | H98: =IF(F98="A",E98,0) -> 0 | L98: =N98=M98 -> TRUE | M98: 10326 | N98: 10326 | O98: 0 | P98: 0
A99: 10230 | B99: Kittitas County PUD #1 | C99: Priest Rapids | D99: 0.526 | E99: 0.486 | F99: L | G99: =IF(E99="-",0,E99-H99) -> 0.486 | H99: =IF(F99="A",E99,0) -> 0 | L99: =N99=M99 -> TRUE | M99: 10331 | N99: 10331 | O99: 0 | P99: 0
A100: 10230 | B100: Kittitas County PUD #1 | C100: Wanapum | D100: 0.533 | E100: 0.494 | F100: L | G100: =IF(E100="-",0,E100-H100) -> 0.494 | H100: =IF(F100="A",E100,0) -> 0 | L100: =N100=M100 -> TRUE | M100: 10333 | N100: 10333 | O100: 0 | P100: 0
...

Sheet Proportional Share Calculation
B1: Unscaled System Size | C1: =SUM(Calculation!I7:M139) -> 6996.1951
A2: All data is in average megawatts (aMW)
A3: BES | B3: Customer | C3: CHWM w/adjustments | D3: Adjustment Share | E3: Proportional Share Adjustment
A4: 10015 | B4: Asotin County PUD #1 | C4: =SUM(Calculation!I7:M7) -> 0.523 | D4: =C4/$C$1 -> 7.4754919e-05 | E4: =IF($C$1<7250,$D4*(7250-$C$1),0) -> 0.018973166
A5: 10024 | B5: Benton County PUD #1 | C5: =SUM(Calculation!I8:M8) -> 205.5497 | D5: =C5/$C$1 -> 0.029380213 | E5: =IF($C$1<7250,$D5*(7250-$C$1),0) -> 7.4568425
A6: 10025 | B6: Benton REA | C6: =SUM(Calculation!I9:M9) -> 63.697541 | D6: =C6/$C$1 -> 0.0091045976 | E6: =IF($C$1<7250,$D6*(7250-$C$1),0) -> 2.3107916
A7: 10027 | B7: Big Bend Elec Coop | C7: =SUM(Calculation!I10:M10) -> 63.241256 | D7: =C7/$C$1 -> 0.0090393786 | E7: =IF($C$1<7250,$D7*(7250-$C$1),0) -> 2.2942387
A8: 10029 | B8: Blachly Lane Elec Coop | C8: =SUM(Calculation!I11:M11) -> 18.787 | D8: =C8/$C$1 -> 0.0026853168 | E8: =IF($C$1<7250,$D8*(7250-$C$1),0) -> 0.6815466
A9: 10044 | B9: Canby, City of | C9: =SUM(Calculation!I12:M12) -> 20.722 | D9: =C9/$C$1 -> 0.0029618957 | E9: =IF($C$1<7250,$D9*(7250-$C$1),0) -> 0.75174369
A10: 10046 | B10: Central Electric Coop | C10: =SUM(Calculation!I13:M13) -> 86.432758 | D10: =C10/$C$1 -> 0.012354252 | E10: =IF($C$1<7250,$D10*(7250-$C$1),0) -> 3.1355699
A11: 10047 | B11: Central Lincoln PUD | C11: =SUM(Calculation!I14:M14) -> 144.25478 | D11: =C11/$C$1 -> 0.020619034 | E11: =IF($C$1<7250,$D11*(7250-$C$1),0) -> 5.2332121
A12: 10055 | B12: Albion, City of | C12: =SUM(Calculation!I15:M15) -> 0.41375 | D12: =C12/$C$1 -> 5.9139289e-05 | E12: =IF($C$1<7250,$D12*(7250-$C$1),0) -> 0.015009842
A13: 10057 | B13: Ashland, City of | C13: =SUM(Calculation!I16:M16) -> 19.288 | D13: =C13/$C$1 -> 0.0027569271 | E13: =IF($C$1<7250,$D13*(7250-$C$1),0) -> 0.69972166
A14: 10059 | B14: Bandon, City of | C14: =SUM(Calculation!I17:M17) -> 7.75325 | D14: =C14/$C$1 -> 0.0011082095 | E14: =IF($C$1<7250,$D14*(7250-$C$1),0) -> 0.28126902
A15: 10061 | B15: Blaine, City of | C15: =SUM(Calculation!I18:M18) -> 8.98525 | D15: =C15/$C$1 -> 0.0012843052 | E15: =IF($C$1<7250,$D15*(7250-$C$1),0) -> 0.32596298
... A136: 12026 | B136: Jefferson County PUD #1 | C136: =SUM(Calculation!I139:M139) -> 45.487541 | D136: =C136/$C$1 -> 0.0065017542 | E136: =IF($C$1<7250,$D136*(7250-$C$1),0) -> 1.6501772

Sheet Lists
A1: Button | B1: Button
A2: Yes | B2: No
A3: No | B3: Yes
