Workbook

Sheet Info
B2: Resource Support Services Charges, Conceptual Illustration
B3: Date released | C3: 46132
B5: Disclaimer:
B6: This conceptual illustration is provided for discussion purposes as part of an ongoing workshop process. The design of RSS rates and billing factors is ongoing. Final rates and charges will be established in each 7(i) process.
B8: Table of Contents
B9: Tab | C9: Description
B10: HydroA (Dec) | C10: Hydroelectric Resource "Existing Resource." December Month Charges FORS-Based Fee, Using Embedded Capacity Cost
B11: HydroA (Jun) | C11: Hydroelectric Resource "Existing Resource." June Month Charges FORS-Based Fee, Using Embedded Capacity Cost
B12: SolarA (Dec) | C12: Solar Resource "Existing Resource." December Month Charges Capacity-Based Fee, Using Embedded Capacity Cost
B13: SolarA (Jun) | C13: Solar Resource "Existing Resource." June Month Charges Capacity-Based Fee, Using Embedded Capacity Cost
B14: WindA (Dec) | C14: Wind Resource "Existing Resource." December Month Charges Capacity-Based Fee, Using Embedded Capacity Cost
B15: WindA (Jun) | C15: Wind Resource "Existing Resource." June Month Charges Capacity-Based Fee, Using Embedded Capacity Cost
B16: HydroB (Dec) | C16: Hydroelectric Resource Resource Serving Above-CHWM Load. December Month Charges Capacity-Based Fee, Using Marginal Capacity Cost
B17: HydroB (Jun) | C17: Hydroelectric Resource Resource Serving Above-CHWM Load. June Month Charges Capacity-Based Fee, Using Marginal Capacity Cost
B18: SolarB (Dec) | C18: Solar Resource Resource Serving Above-CHWM Load. December Month Charges Capacity-Based Fee, Using Marginal Capacity Cost
B19: SolarB (Jun) | C19: Solar Resource Resource Serving Above-CHWM Load. June Month Charges Capacity-Based Fee, Using Marginal Capacity Cost
B20: WindB (Dec) | C20: Wind Resource Resource Serving Above-CHWM Load. December Month Charges Capacity-Based Fee, Using Marginal Capacity Cost
... B24: Capacity Rate | C24: Table of Illustrative Capacity Rates ($/kW/month) during Fiscal Year 2029 Marginal Cost of Capacity, and Embedded Cost of Capacity

Sheet HydroA (Dec)
B1: RSS Cost & Credits, Exhibit A Contractual Obligations (DEC FY29)
B3: Hour in Series | C3: Diurnal Category | D3: Exhibit-A MWh (Flat) | E3: Actual Metered | F3: Market | G3: Energy Charges | H3: Energy Credits
B4: ='DEC 2028 Metered Gen'!$B4 -> 1 | C4: ='DEC 2028 Metered Gen'!$C4 -> LLH | D4: =IF(C4="HLH",$P$8/COUNTIF($C$4:$C$747, "HLH"), $P$9/COUNTIF($C$4:$C$747, "LLH")) -> 0.81976744 | E4: ='DEC 2028 Metered Gen'!$D4 -> 2.3 | F4: ='DEC 2028 Metered Gen'!$L4 -> 40.525 | G4: =D4*F4 -> 33.221076 | H4: =E4*F4*(-1) -> -93.2075 | M4: Exhibit A Specified Resource Amounts (HydroA)
B5: ='DEC 2028 Metered Gen'!$B5 -> 2 | C5: ='DEC 2028 Metered Gen'!$C5 -> LLH | D5: =IF(C5="HLH",$P$8/COUNTIF($C$4:$C$747, "HLH"), $P$9/COUNTIF($C$4:$C$747, "LLH")) -> 0.81976744 | E5: ='DEC 2028 Metered Gen'!$D5 -> 2.11 | F5: ='DEC 2028 Metered Gen'!$L5 -> 40.616 | G5: =D5*F5 -> 33.295674 | H5: =E5*F5*(-1) -> -85.69976 | N5: Oct | O5: Nov | P5: Dec | Q5: Jan | R5: Feb | S5: Mar | T5: Apr | U5: May | V5: Jun | W5: Jul | X5: Aug | Y5: Sep | Z5: annual aMW
B6: ='DEC 2028 Metered Gen'!$B6 -> 3 | C6: ='DEC 2028 Metered Gen'!$C6 -> LLH | D6: =IF(C6="HLH",$P$8/COUNTIF($C$4:$C$747, "HLH"), $P$9/COUNTIF($C$4:$C$747, "LLH")) -> 0.81976744 | E6: ='DEC 2028 Metered Gen'!$D6 -> 2.31 | F6: ='DEC 2028 Metered Gen'!$L6 -> 37.251 | G6: =D6*F6 -> 30.537157 | H6: =E6*F6*(-1) -> -86.04981 | M6: Fiscal Year 2029
B7: ='DEC 2028 Metered Gen'!$B7 -> 4 | C7: ='DEC 2028 Metered Gen'!$C7 -> LLH | D7: =IF(C7="HLH",$P$8/COUNTIF($C$4:$C$747, "HLH"), $P$9/COUNTIF($C$4:$C$747, "LLH")) -> 0.81976744 | E7: ='DEC 2028 Metered Gen'!$D7 -> 2.21 | F7: ='DEC 2028 Metered Gen'!$L7 -> 37.81 | G7: =D7*F7 -> 30.995407 | H7: =E7*F7*(-1) -> -83.5601 | M7: Total (MWh) | N7: 933 | O7: 713 | P7: 610 | Q7: 546 | R7: 444 | S7: 586 | T7: 1125 | U7: 3600 | V7: 2728 | W7: 1091 | X7: 579 | Y7: 447 | Z7: 1.53
B8: ='DEC 2028 Metered Gen'!$B8 -> 5 | C8: ='DEC 2028 Metered Gen'!$C8 -> LLH | D8: =IF(C8="HLH",$P$8/COUNTIF($C$4:$C$747, "HLH"), $P$9/COUNTIF($C$4:$C$747, "LLH")) -> 0.81976744 | E8: ='DEC 2028 Metered Gen'!$D8 -> 2.18 | F8: ='DEC 2028 Metered Gen'!$L8 -> 36.164 | G8: =D8*F8 -> 29.64607 | H8: =E8*F8*(-1) -> -78.83752 | M8: HLH (MWh) | N8: 522 | O8: 396 | P8: 328 | Q8: 305 | R8: 254 | S8: 341 | T8: 625 | U8: 2013 | V8: 1576 | W8: 587 | X8: 336 | Y8: 238 | Z8: 1.536
B9: ='DEC 2028 Metered Gen'!$B9 -> 6 | C9: ='DEC 2028 Metered Gen'!$C9 -> LLH | D9: =IF(C9="HLH",$P$8/COUNTIF($C$4:$C$747, "HLH"), $P$9/COUNTIF($C$4:$C$747, "LLH")) -> 0.81976744 | E9: ='DEC 2028 Metered Gen'!$D9 -> 2.31 | F9: ='DEC 2028 Metered Gen'!$L9 -> 39.391 | G9: =D9*F9 -> 32.291459 | H9: =E9*F9*(-1) -> -90.99321 | M9: LLH (MWh) | N9: 411 | O9: 317 | P9: 282 | Q9: 241 | R9: 190 | S9: 245 | T9: 500 | U9: 1587 | V9: 1152 | W9: 504 | X9: 243 | Y9: 209 | Z9: 1.522
B10: ='DEC 2028 Metered Gen'!$B10 -> 7 | C10: ='DEC 2028 Metered Gen'!$C10 -> HLH | D10: =IF(C10="HLH",$P$8/COUNTIF($C$4:$C$747, "HLH"), $P$9/COUNTIF($C$4:$C$747, "LLH")) -> 0.82 | E10: ='DEC 2028 Metered Gen'!$D10 -> 2.06 | F10: ='DEC 2028 Metered Gen'!$L10 -> 41.121 | G10: =D10*F10 -> 33.71922 | H10: =E10*F10*(-1) -> -84.70926 | M10: Peak (MW) | N10: 0 | O10: 0 | P10: 0.2 | Q10: 0.3 | R10: 0.4 | S10: 0.8 | T10: 0.7 | U10: 0.7 | V10: 0.7 | W10: 0.7 | X10: 0.3 | Y10: 0.2 | Z10: N/A
B11: ='DEC 2028 Metered Gen'!$B11 -> 8 | C11: ='DEC 2028 Metered Gen'!$C11 -> HLH | D11: =IF(C11="HLH",$P$8/COUNTIF($C$4:$C$747, "HLH"), $P$9/COUNTIF($C$4:$C$747, "LLH")) -> 0.82 | E11: ='DEC 2028 Metered Gen'!$D11 -> 2.28 | F11: ='DEC 2028 Metered Gen'!$L11 -> 42.647 | G11: =D11*F11 -> 34.97054 | H11: =E11*F11*(-1) -> -97.23516
B12: ='DEC 2028 Metered Gen'!$B12 -> 9 | C12: ='DEC 2028 Metered Gen'!$C12 -> HLH | D12: =IF(C12="HLH",$P$8/COUNTIF($C$4:$C$747, "HLH"), $P$9/COUNTIF($C$4:$C$747, "LLH")) -> 0.82 | E12: ='DEC 2028 Metered Gen'!$D12 -> 2.26 | F12: ='DEC 2028 Metered Gen'!$L12 -> 42.495 | G12: =D12*F12 -> 34.8459 | H12: =E12*F12*(-1) -> -96.0387 | M12: Energy Charges | N12: =SUM(G:G) -> 21141.458 | P12: Comment: Under the 2029 Public Rate Design Methodology (PRDM), Section 6.2, BPA will apply a Forced Outage Reserves Service (FORS)-based fee to all Load Following Customer’s Non-Dispatchable Dedicated Resources that are Existing Resources but not Variable Energy Resources.
B13: ='DEC 2028 Metered Gen'!$B13 -> 10 | C13: ='DEC 2028 Metered Gen'!$C13 -> HLH | D13: =IF(C13="HLH",$P$8/COUNTIF($C$4:$C$747, "HLH"), $P$9/COUNTIF($C$4:$C$747, "LLH")) -> 0.82 | E13: ='DEC 2028 Metered Gen'!$D13 -> 2.09 | F13: ='DEC 2028 Metered Gen'!$L13 -> 46.782 | G13: =D13*F13 -> 38.36124 | H13: =E13*F13*(-1) -> -97.77438 | M13: Energy Credits | N13: =SUM(H:H) -> -65438.587
B14: ='DEC 2028 Metered Gen'!$B14 -> 11 | C14: ='DEC 2028 Metered Gen'!$C14 -> HLH | D14: =IF(C14="HLH",$P$8/COUNTIF($C$4:$C$747, "HLH"), $P$9/COUNTIF($C$4:$C$747, "LLH")) -> 0.82 | E14: ='DEC 2028 Metered Gen'!$D14 -> 2.22 | F14: ='DEC 2028 Metered Gen'!$L14 -> 42.815 | G14: =D14*F14 -> 35.1083 | H14: =E14*F14*(-1) -> -95.0493 | M14: Energy Net Charges/Credits | N14: =N12+N13 -> -44297.129
B15: ='DEC 2028 Metered Gen'!$B15 -> 12 | C15: ='DEC 2028 Metered Gen'!$C15 -> HLH | D15: =IF(C15="HLH",$P$8/COUNTIF($C$4:$C$747, "HLH"), $P$9/COUNTIF($C$4:$C$747, "LLH")) -> 0.82 | E15: ='DEC 2028 Metered Gen'!$D15 -> 2.26 | F15: ='DEC 2028 Metered Gen'!$L15 -> 40.335 | G15: =D15*F15 -> 33.0747 | H15: =E15*F15*(-1) -> -91.1571
B16: ='DEC 2028 Metered Gen'!$B16 -> 13 | C16: ='DEC 2028 Metered Gen'!$C16 -> HLH | D16: =IF(C16="HLH",$P$8/COUNTIF($C$4:$C$747, "HLH"), $P$9/COUNTIF($C$4:$C$747, "LLH")) -> 0.82 | E16: ='DEC 2028 Metered Gen'!$D16 -> 2.06 | F16: ='DEC 2028 Metered Gen'!$L16 -> 39.773 | G16: =D16*F16 -> 32.61386 | H16: =E16*F16*(-1) -> -81.93238
B17: ='DEC 2028 Metered Gen'!$B17 -> 14 | C17: ='DEC 2028 Metered Gen'!$C17 -> HLH | D17: =IF(C17="HLH",$P$8/COUNTIF($C$4:$C$747, "HLH"), $P$9/COUNTIF($C$4:$C$747, "LLH")) -> 0.82 | E17: ='DEC 2028 Metered Gen'!$D17 -> 2.27 | F17: ='DEC 2028 Metered Gen'!$L17 -> 37.972 | G17: =D17*F17 -> 31.13704 | H17: =E17*F17*(-1) -> -86.19644 | M17: Forced Outage Rating | N17: 0.05
B18: ='DEC 2028 Metered Gen'!$B18 -> 15 | C18: ='DEC 2028 Metered Gen'!$C18 -> HLH | D18: =IF(C18="HLH",$P$8/COUNTIF($C$4:$C$747, "HLH"), $P$9/COUNTIF($C$4:$C$747, "LLH")) -> 0.82 | E18: ='DEC 2028 Metered Gen'!$D18 -> 2.23 | F18: ='DEC 2028 Metered Gen'!$L18 -> 38.644 | G18: =D18*F18 -> 31.68808 | H18: =E18*F18*(-1) -> -86.17612
B19: ='DEC 2028 Metered Gen'!$B19 -> 16 | C19: ='DEC 2028 Metered Gen'!$C19 -> HLH | D19: =IF(C19="HLH",$P$8/COUNTIF($C$4:$C$747, "HLH"), $P$9/COUNTIF($C$4:$C$747, "LLH")) -> 0.82 | E19: ='DEC 2028 Metered Gen'!$D19 -> 2.08 | F19: ='DEC 2028 Metered Gen'!$L19 -> 39.681 | G19: =D19*F19 -> 32.53842 | H19: =E19*F19*(-1) -> -82.53648
B20: ='DEC 2028 Metered Gen'!$B20 -> 17 | C20: ='DEC 2028 Metered Gen'!$C20 -> HLH | D20: =IF(C20="HLH",$P$8/COUNTIF($C$4:$C$747, "HLH"), $P$9/COUNTIF($C$4:$C$747, "LLH")) -> 0.82 | E20: ='DEC 2028 Metered Gen'!$D20 -> 2.3 | F20: ='DEC 2028 Metered Gen'!$L20 -> 39.409 | G20: =D20*F20 -> 32.31538 | H20: =E20*F20*(-1) -> -90.6407
B21: ='DEC 2028 Metered Gen'!$B21 -> 18 | C21: ='DEC 2028 Metered Gen'!$C21 -> HLH | D21: =IF(C21="HLH",$P$8/COUNTIF($C$4:$C$747, "HLH"), $P$9/COUNTIF($C$4:$C$747, "LLH")) -> 0.82 | E21: ='DEC 2028 Metered Gen'!$D21 -> 2.25 | F21: ='DEC 2028 Metered Gen'!$L21 -> 42.864 | G21: =D21*F21 -> 35.14848 | H21: =E21*F21*(-1) -> -96.444 | M21: RSS FORS-Based Fee (FORS Rating * MW * Embedded Capacity) | N21: =N17*P7/COUNT(B4:B800)*'Capacity Rate'!D6*1000 -> 247.19758
B22: ='DEC 2028 Metered Gen'!$B22 -> 19 | C22: ='DEC 2028 Metered Gen'!$C22 -> HLH | D22: =IF(C22="HLH",$P$8/COUNTIF($C$4:$C$747, "HLH"), $P$9/COUNTIF($C$4:$C$747, "LLH")) -> 0.82 | E22: ='DEC 2028 Metered Gen'!$D22 -> 2.23 | F22: ='DEC 2028 Metered Gen'!$L22 -> 44.312 | G22: =D22*F22 -> 36.33584 | H22: =E22*F22*(-1) -> -98.81576
B23: ='DEC 2028 Metered Gen'!$B23 -> 20 | C23: ='DEC 2028 Metered Gen'!$C23 -> HLH | D23: =IF(C23="HLH",$P$8/COUNTIF($C$4:$C$747, "HLH"), $P$9/COUNTIF($C$4:$C$747, "LLH")) -> 0.82 | E23: ='DEC 2028 Metered Gen'!$D23 -> 2.08 | F23: ='DEC 2028 Metered Gen'!$L23 -> 50.382 | G23: =D23*F23 -> 41.31324 | H23: =E23*F23*(-1) -> -104.79456
B24: ='DEC 2028 Metered Gen'!$B24 -> 21 | C24: ='DEC 2028 Metered Gen'!$C24 -> HLH | D24: =IF(C24="HLH",$P$8/COUNTIF($C$4:$C$747, "HLH"), $P$9/COUNTIF($C$4:$C$747, "LLH")) -> 0.82 | E24: ='DEC 2028 Metered Gen'!$D24 -> 2.29 | F24: ='DEC 2028 Metered Gen'!$L24 -> 51.791 | G24: =D24*F24 -> 42.46862 | H24: =E24*F24*(-1) -> -118.60139
B25: ='DEC 2028 Metered Gen'!$B25 -> 22 | C25: ='DEC 2028 Metered Gen'!$C25 -> HLH | D25: =IF(C25="HLH",$P$8/COUNTIF($C$4:$C$747, "HLH"), $P$9/COUNTIF($C$4:$C$747, "LLH")) -> 0.82 | E25: ='DEC 2028 Metered Gen'!$D25 -> 2.28 | F25: ='DEC 2028 Metered Gen'!$L25 -> 42.278 | G25: =D25*F25 -> 34.66796 | H25: =E25*F25*(-1) -> -96.39384
B26: ='DEC 2028 Metered Gen'!$B26 -> 23 | C26: ='DEC 2028 Metered Gen'!$C26 -> LLH | D26: =IF(C26="HLH",$P$8/COUNTIF($C$4:$C$747, "HLH"), $P$9/COUNTIF($C$4:$C$747, "LLH")) -> 0.81976744 | E26: ='DEC 2028 Metered Gen'!$D26 -> 2.08 | F26: ='DEC 2028 Metered Gen'!$L26 -> 43.26 | G26: =D26*F26 -> 35.46314 | H26: =E26*F26*(-1) -> -89.9808
B27: ='DEC 2028 Metered Gen'!$B27 -> 24 | C27: ='DEC 2028 Metered Gen'!$C27 -> LLH | D27: =IF(C27="HLH",$P$8/COUNTIF($C$4:$C$747, "HLH"), $P$9/COUNTIF($C$4:$C$747, "LLH")) -> 0.81976744 | E27: ='DEC 2028 Metered Gen'!$D27 -> 2.27 | F27: ='DEC 2028 Metered Gen'!$L27 -> 40.711 | G27: =D27*F27 -> 33.373552 | H27: =E27*F27*(-1) -> -92.41397
B28: ='DEC 2028 Metered Gen'!$B28 -> 25 | C28: ='DEC 2028 Metered Gen'!$C28 -> LLH | D28: =IF(C28="HLH",$P$8/COUNTIF($C$4:$C$747, "HLH"), $P$9/COUNTIF($C$4:$C$747, "LLH")) -> 0.81976744 | E28: ='DEC 2028 Metered Gen'!$D28 -> 2.25 | F28: ='DEC 2028 Metered Gen'!$L28 -> 42.374 | G28: =D28*F28 -> 34.736826 | H28: =E28*F28*(-1) -> -95.3415
B29: ='DEC 2028 Metered Gen'!$B29 -> 26 | C29: ='DEC 2028 Metered Gen'!$C29 -> LLH | D29: =IF(C29="HLH",$P$8/COUNTIF($C$4:$C$747, "HLH"), $P$9/COUNTIF($C$4:$C$747, "LLH")) -> 0.81976744 | E29: ='DEC 2028 Metered Gen'!$D29 -> 2.08 | F29: ='DEC 2028 Metered Gen'!$L29 -> 43.466 | G29: =D29*F29 -> 35.632012 | H29: =E29*F29*(-1) -> -90.40928
B30: ='DEC 2028 Metered Gen'!$B30 -> 27 | C30: ='DEC 2028 Metered Gen'!$C30 -> LLH | D30: =IF(C30="HLH",$P$8/COUNTIF($C$4:$C$747, "HLH"), $P$9/COUNTIF($C$4:$C$747, "LLH")) -> 0.81976744 | E30: ='DEC 2028 Metered Gen'!$D30 -> 2.3 | F30: ='DEC 2028 Metered Gen'!$L30 -> 43.87 | G30: =D30*F30 -> 35.963198 | H30: =E30*F30*(-1) -> -100.901
B31: ='DEC 2028 Metered Gen'!$B31 -> 28 | C31: ='DEC 2028 Metered Gen'!$C31 -> LLH | D31: =IF(C31="HLH",$P$8/COUNTIF($C$4:$C$747, "HLH"), $P$9/COUNTIF($C$4:$C$747, "LLH")) -> 0.81976744 | E31: ='DEC 2028 Metered Gen'!$D31 -> 2.22 | F31: ='DEC 2028 Metered Gen'!$L31 -> 42.678 | G31: =D31*F31 -> 34.986035 | H31: =E31*F31*(-1) -> -94.74516
B32: ='DEC 2028 Metered Gen'!$B32 -> 29 | C32: ='DEC 2028 Metered Gen'!$C32 -> LLH | D32: =IF(C32="HLH",$P$8/COUNTIF($C$4:$C$747, "HLH"), $P$9/COUNTIF($C$4:$C$747, "LLH")) -> 0.81976744 | E32: ='DEC 2028 Metered Gen'!$D32 -> 2.07 | F32: ='DEC 2028 Metered Gen'!$L32 -> 43.748 | G32: =D32*F32 -> 35.863186 | H32: =E32*F32*(-1) -> -90.55836
B33: ='DEC 2028 Metered Gen'!$B33 -> 30 | C33: ='DEC 2028 Metered Gen'!$C33 -> LLH | D33: =IF(C33="HLH",$P$8/COUNTIF($C$4:$C$747, "HLH"), $P$9/COUNTIF($C$4:$C$747, "LLH")) -> 0.81976744 | E33: ='DEC 2028 Metered Gen'!$D33 -> 2.26 | F33: ='DEC 2028 Metered Gen'!$L33 -> 41.226 | G33: =D33*F33 -> 33.795733 | H33: =E33*F33*(-1) -> -93.17076
... B747: ='DEC 2028 Metered Gen'!$B747 -> 744 | C747: ='DEC 2028 Metered Gen'!$C747 -> LLH | D747: =IF(C747="HLH",$P$8/COUNTIF($C$4:$C$747, "HLH"), $P$9/COUNTIF($C$4:$C$747, "LLH")) -> 0.81976744 | E747: ='DEC 2028 Metered Gen'!$D747 -> 2.16 | F747: ='DEC 2028 Metered Gen'!$L747 -> 31.991 | G747: =D747*F747 -> 26.22518 | H747: =E747*F747*(-1) -> -69.10056

Sheet HydroA (Jun)
B1: RSS Cost & Credits, Exhibit A Contractual Obligations (JUN FY29)
B3: Hour in Series | C3: Diurnal Category | D3: Exhibit-A MWh (Flat) | E3: Actual Metered | F3: Market | G3: Energy Charges | H3: Energy Credits
B4: ='JUN 2029 Metered Gen'!$B4 -> 1 | C4: ='JUN 2029 Metered Gen'!$C4 -> LLH | D4: =IF(C4="HLH",$V$8/COUNTIF($C$4:$C$747, "HLH"), $V$9/COUNTIF($C$4:$C$747, "LLH")) -> 3.7894737 | E4: ='JUN 2029 Metered Gen'!$D4 -> 5.32 | F4: ='JUN 2029 Metered Gen'!$L4 -> 25.032 | G4: =D4*F4 -> 94.858105 | H4: =E4*F4*(-1) -> -133.17024 | M4: Exhibit A Specified Resource Amounts (HydroA)
B5: ='JUN 2029 Metered Gen'!$B5 -> 2 | C5: ='JUN 2029 Metered Gen'!$C5 -> LLH | D5: =IF(C5="HLH",$V$8/COUNTIF($C$4:$C$747, "HLH"), $V$9/COUNTIF($C$4:$C$747, "LLH")) -> 3.7894737 | E5: ='JUN 2029 Metered Gen'!$D5 -> 5.33 | F5: ='JUN 2029 Metered Gen'!$L5 -> 26.272 | G5: =D5*F5 -> 99.557053 | H5: =E5*F5*(-1) -> -140.02976 | N5: Oct | O5: Nov | P5: Dec | Q5: Jan | R5: Feb | S5: Mar | T5: Apr | U5: May | V5: Jun | W5: Jul | X5: Aug | Y5: Sep | Z5: annual aMW
B6: ='JUN 2029 Metered Gen'!$B6 -> 3 | C6: ='JUN 2029 Metered Gen'!$C6 -> LLH | D6: =IF(C6="HLH",$V$8/COUNTIF($C$4:$C$747, "HLH"), $V$9/COUNTIF($C$4:$C$747, "LLH")) -> 3.7894737 | E6: ='JUN 2029 Metered Gen'!$D6 -> 5.34 | F6: ='JUN 2029 Metered Gen'!$L6 -> 26.922 | G6: =D6*F6 -> 102.02021 | H6: =E6*F6*(-1) -> -143.76348 | M6: Fiscal Year 2029
B7: ='JUN 2029 Metered Gen'!$B7 -> 4 | C7: ='JUN 2029 Metered Gen'!$C7 -> LLH | D7: =IF(C7="HLH",$V$8/COUNTIF($C$4:$C$747, "HLH"), $V$9/COUNTIF($C$4:$C$747, "LLH")) -> 3.7894737 | E7: ='JUN 2029 Metered Gen'!$D7 -> 5.32 | F7: ='JUN 2029 Metered Gen'!$L7 -> 27.18 | G7: =D7*F7 -> 102.99789 | H7: =E7*F7*(-1) -> -144.5976 | M7: Total (MWh) | N7: 933 | O7: 713 | P7: 610 | Q7: 546 | R7: 444 | S7: 586 | T7: 1125 | U7: 3600 | V7: 2728 | W7: 1091 | X7: 579 | Y7: 447 | Z7: 1.53
B8: ='JUN 2029 Metered Gen'!$B8 -> 5 | C8: ='JUN 2029 Metered Gen'!$C8 -> LLH | D8: =IF(C8="HLH",$V$8/COUNTIF($C$4:$C$747, "HLH"), $V$9/COUNTIF($C$4:$C$747, "LLH")) -> 3.7894737 | E8: ='JUN 2029 Metered Gen'!$D8 -> 5.33 | F8: ='JUN 2029 Metered Gen'!$L8 -> 27.513 | G8: =D8*F8 -> 104.25979 | H8: =E8*F8*(-1) -> -146.64429 | M8: HLH (MWh) | N8: 522 | O8: 396 | P8: 328 | Q8: 305 | R8: 254 | S8: 341 | T8: 625 | U8: 2013 | V8: 1576 | W8: 587 | X8: 336 | Y8: 238 | Z8: 1.536
B9: ='JUN 2029 Metered Gen'!$B9 -> 6 | C9: ='JUN 2029 Metered Gen'!$C9 -> LLH | D9: =IF(C9="HLH",$V$8/COUNTIF($C$4:$C$747, "HLH"), $V$9/COUNTIF($C$4:$C$747, "LLH")) -> 3.7894737 | E9: ='JUN 2029 Metered Gen'!$D9 -> 5.32 | F9: ='JUN 2029 Metered Gen'!$L9 -> 26.751 | G9: =D9*F9 -> 101.37221 | H9: =E9*F9*(-1) -> -142.31532 | M9: LLH (MWh) | N9: 411 | O9: 317 | P9: 282 | Q9: 241 | R9: 190 | S9: 245 | T9: 500 | U9: 1587 | V9: 1152 | W9: 504 | X9: 243 | Y9: 209 | Z9: 1.522
B10: ='JUN 2029 Metered Gen'!$B10 -> 7 | C10: ='JUN 2029 Metered Gen'!$C10 -> HLH | D10: =IF(C10="HLH",$V$8/COUNTIF($C$4:$C$747, "HLH"), $V$9/COUNTIF($C$4:$C$747, "LLH")) -> 3.7884615 | E10: ='JUN 2029 Metered Gen'!$D10 -> 5.32 | F10: ='JUN 2029 Metered Gen'!$L10 -> 21.959 | G10: =D10*F10 -> 83.190827 | H10: =E10*F10*(-1) -> -116.82188 | M10: Peak (MW) | N10: 0 | O10: 0 | P10: 0.2 | Q10: 0.3 | R10: 0.4 | S10: 0.8 | T10: 0.7 | U10: 0.7 | V10: 0.7 | W10: 0.7 | X10: 0.3 | Y10: 0.2 | Z10: N/A
B11: ='JUN 2029 Metered Gen'!$B11 -> 8 | C11: ='JUN 2029 Metered Gen'!$C11 -> HLH | D11: =IF(C11="HLH",$V$8/COUNTIF($C$4:$C$747, "HLH"), $V$9/COUNTIF($C$4:$C$747, "LLH")) -> 3.7884615 | E11: ='JUN 2029 Metered Gen'!$D11 -> 5.32 | F11: ='JUN 2029 Metered Gen'!$L11 -> 21.648 | G11: =D11*F11 -> 82.012615 | H11: =E11*F11*(-1) -> -115.16736
B12: ='JUN 2029 Metered Gen'!$B12 -> 9 | C12: ='JUN 2029 Metered Gen'!$C12 -> HLH | D12: =IF(C12="HLH",$V$8/COUNTIF($C$4:$C$747, "HLH"), $V$9/COUNTIF($C$4:$C$747, "LLH")) -> 3.7884615 | E12: ='JUN 2029 Metered Gen'!$D12 -> 5.33 | F12: ='JUN 2029 Metered Gen'!$L12 -> 24.361 | G12: =D12*F12 -> 92.290712 | H12: =E12*F12*(-1) -> -129.84413 | M12: Energy Charges | N12: =SUM(G:G) -> 87958.371 | P12: Comment: Under the 2029 Public Rate Design Methodology (PRDM), Section 6.2, BPA will apply a Forced Outage Reserves Service (FORS)-based fee to all Load Following Customer’s Non-Dispatchable Dedicated Resources that are Existing Resources but not Variable Energy Resources.
B13: ='JUN 2029 Metered Gen'!$B13 -> 10 | C13: ='JUN 2029 Metered Gen'!$C13 -> HLH | D13: =IF(C13="HLH",$V$8/COUNTIF($C$4:$C$747, "HLH"), $V$9/COUNTIF($C$4:$C$747, "LLH")) -> 3.7884615 | E13: ='JUN 2029 Metered Gen'!$D13 -> 5.33 | F13: ='JUN 2029 Metered Gen'!$L13 -> 26.351 | G13: =D13*F13 -> 99.82975 | H13: =E13*F13*(-1) -> -140.45083 | M13: Energy Credits | N13: =SUM(H:H) -> -108537.63
B14: ='JUN 2029 Metered Gen'!$B14 -> 11 | C14: ='JUN 2029 Metered Gen'!$C14 -> HLH | D14: =IF(C14="HLH",$V$8/COUNTIF($C$4:$C$747, "HLH"), $V$9/COUNTIF($C$4:$C$747, "LLH")) -> 3.7884615 | E14: ='JUN 2029 Metered Gen'!$D14 -> 5.33 | F14: ='JUN 2029 Metered Gen'!$L14 -> 21.516 | G14: =D14*F14 -> 81.512538 | H14: =E14*F14*(-1) -> -114.68028 | M14: Energy Net Charges/Credits | N14: =N12+N13 -> -20579.258
B15: ='JUN 2029 Metered Gen'!$B15 -> 12 | C15: ='JUN 2029 Metered Gen'!$C15 -> HLH | D15: =IF(C15="HLH",$V$8/COUNTIF($C$4:$C$747, "HLH"), $V$9/COUNTIF($C$4:$C$747, "LLH")) -> 3.7884615 | E15: ='JUN 2029 Metered Gen'!$D15 -> 5.33 | F15: ='JUN 2029 Metered Gen'!$L15 -> 21.273 | G15: =D15*F15 -> 80.591942 | H15: =E15*F15*(-1) -> -113.38509
B16: ='JUN 2029 Metered Gen'!$B16 -> 13 | C16: ='JUN 2029 Metered Gen'!$C16 -> HLH | D16: =IF(C16="HLH",$V$8/COUNTIF($C$4:$C$747, "HLH"), $V$9/COUNTIF($C$4:$C$747, "LLH")) -> 3.7884615 | E16: ='JUN 2029 Metered Gen'!$D16 -> 5.33 | F16: ='JUN 2029 Metered Gen'!$L16 -> 21.98 | G16: =D16*F16 -> 83.270385 | H16: =E16*F16*(-1) -> -117.1534
B17: ='JUN 2029 Metered Gen'!$B17 -> 14 | C17: ='JUN 2029 Metered Gen'!$C17 -> HLH | D17: =IF(C17="HLH",$V$8/COUNTIF($C$4:$C$747, "HLH"), $V$9/COUNTIF($C$4:$C$747, "LLH")) -> 3.7884615 | E17: ='JUN 2029 Metered Gen'!$D17 -> 5.34 | F17: ='JUN 2029 Metered Gen'!$L17 -> 20.702 | G17: =D17*F17 -> 78.428731 | H17: =E17*F17*(-1) -> -110.54868 | M17: Forced Outage Rating | N17: 0.05
B18: ='JUN 2029 Metered Gen'!$B18 -> 15 | C18: ='JUN 2029 Metered Gen'!$C18 -> HLH | D18: =IF(C18="HLH",$V$8/COUNTIF($C$4:$C$747, "HLH"), $V$9/COUNTIF($C$4:$C$747, "LLH")) -> 3.7884615 | E18: ='JUN 2029 Metered Gen'!$D18 -> 5.33 | F18: ='JUN 2029 Metered Gen'!$L18 -> 26.282 | G18: =D18*F18 -> 99.568346 | H18: =E18*F18*(-1) -> -140.08306
B19: ='JUN 2029 Metered Gen'!$B19 -> 16 | C19: ='JUN 2029 Metered Gen'!$C19 -> HLH | D19: =IF(C19="HLH",$V$8/COUNTIF($C$4:$C$747, "HLH"), $V$9/COUNTIF($C$4:$C$747, "LLH")) -> 3.7884615 | E19: ='JUN 2029 Metered Gen'!$D19 -> 5.33 | F19: ='JUN 2029 Metered Gen'!$L19 -> 34.466 | G19: =D19*F19 -> 130.57312 | H19: =E19*F19*(-1) -> -183.70378
B20: ='JUN 2029 Metered Gen'!$B20 -> 17 | C20: ='JUN 2029 Metered Gen'!$C20 -> HLH | D20: =IF(C20="HLH",$V$8/COUNTIF($C$4:$C$747, "HLH"), $V$9/COUNTIF($C$4:$C$747, "LLH")) -> 3.7884615 | E20: ='JUN 2029 Metered Gen'!$D20 -> 5.34 | F20: ='JUN 2029 Metered Gen'!$L20 -> 30.974 | G20: =D20*F20 -> 117.34381 | H20: =E20*F20*(-1) -> -165.40116
B21: ='JUN 2029 Metered Gen'!$B21 -> 18 | C21: ='JUN 2029 Metered Gen'!$C21 -> HLH | D21: =IF(C21="HLH",$V$8/COUNTIF($C$4:$C$747, "HLH"), $V$9/COUNTIF($C$4:$C$747, "LLH")) -> 3.7884615 | E21: ='JUN 2029 Metered Gen'!$D21 -> 5.33 | F21: ='JUN 2029 Metered Gen'!$L21 -> 27.53 | G21: =D21*F21 -> 104.29635 | H21: =E21*F21*(-1) -> -146.7349 | M21: RSS FORS-Based Fee (FORS Rating * MW * Embedded Capacity) | N21: =N17*V7/COUNT(B4:B800)*'Capacity Rate'!D12*1000 -> 361.83889
B22: ='JUN 2029 Metered Gen'!$B22 -> 19 | C22: ='JUN 2029 Metered Gen'!$C22 -> HLH | D22: =IF(C22="HLH",$V$8/COUNTIF($C$4:$C$747, "HLH"), $V$9/COUNTIF($C$4:$C$747, "LLH")) -> 3.7884615 | E22: ='JUN 2029 Metered Gen'!$D22 -> 5.34 | F22: ='JUN 2029 Metered Gen'!$L22 -> 29.261 | G22: =D22*F22 -> 110.85417 | H22: =E22*F22*(-1) -> -156.25374
B23: ='JUN 2029 Metered Gen'!$B23 -> 20 | C23: ='JUN 2029 Metered Gen'!$C23 -> HLH | D23: =IF(C23="HLH",$V$8/COUNTIF($C$4:$C$747, "HLH"), $V$9/COUNTIF($C$4:$C$747, "LLH")) -> 3.7884615 | E23: ='JUN 2029 Metered Gen'!$D23 -> 5.34 | F23: ='JUN 2029 Metered Gen'!$L23 -> 28.339 | G23: =D23*F23 -> 107.36121 | H23: =E23*F23*(-1) -> -151.33026
B24: ='JUN 2029 Metered Gen'!$B24 -> 21 | C24: ='JUN 2029 Metered Gen'!$C24 -> HLH | D24: =IF(C24="HLH",$V$8/COUNTIF($C$4:$C$747, "HLH"), $V$9/COUNTIF($C$4:$C$747, "LLH")) -> 3.7884615 | E24: ='JUN 2029 Metered Gen'!$D24 -> 5.34 | F24: ='JUN 2029 Metered Gen'!$L24 -> 28.326 | G24: =D24*F24 -> 107.31196 | H24: =E24*F24*(-1) -> -151.26084
B25: ='JUN 2029 Metered Gen'!$B25 -> 22 | C25: ='JUN 2029 Metered Gen'!$C25 -> HLH | D25: =IF(C25="HLH",$V$8/COUNTIF($C$4:$C$747, "HLH"), $V$9/COUNTIF($C$4:$C$747, "LLH")) -> 3.7884615 | E25: ='JUN 2029 Metered Gen'!$D25 -> 5.34 | F25: ='JUN 2029 Metered Gen'!$L25 -> 29.13 | G25: =D25*F25 -> 110.35788 | H25: =E25*F25*(-1) -> -155.5542
B26: ='JUN 2029 Metered Gen'!$B26 -> 23 | C26: ='JUN 2029 Metered Gen'!$C26 -> LLH | D26: =IF(C26="HLH",$V$8/COUNTIF($C$4:$C$747, "HLH"), $V$9/COUNTIF($C$4:$C$747, "LLH")) -> 3.7894737 | E26: ='JUN 2029 Metered Gen'!$D26 -> 5.33 | F26: ='JUN 2029 Metered Gen'!$L26 -> 28.003 | G26: =D26*F26 -> 106.11663 | H26: =E26*F26*(-1) -> -149.25599
B27: ='JUN 2029 Metered Gen'!$B27 -> 24 | C27: ='JUN 2029 Metered Gen'!$C27 -> LLH | D27: =IF(C27="HLH",$V$8/COUNTIF($C$4:$C$747, "HLH"), $V$9/COUNTIF($C$4:$C$747, "LLH")) -> 3.7894737 | E27: ='JUN 2029 Metered Gen'!$D27 -> 5.34 | F27: ='JUN 2029 Metered Gen'!$L27 -> 26.678 | G27: =D27*F27 -> 101.09558 | H27: =E27*F27*(-1) -> -142.46052
B28: ='JUN 2029 Metered Gen'!$B28 -> 25 | C28: ='JUN 2029 Metered Gen'!$C28 -> LLH | D28: =IF(C28="HLH",$V$8/COUNTIF($C$4:$C$747, "HLH"), $V$9/COUNTIF($C$4:$C$747, "LLH")) -> 3.7894737 | E28: ='JUN 2029 Metered Gen'!$D28 -> 5.34 | F28: ='JUN 2029 Metered Gen'!$L28 -> 26.705 | G28: =D28*F28 -> 101.19789 | H28: =E28*F28*(-1) -> -142.6047
B29: ='JUN 2029 Metered Gen'!$B29 -> 26 | C29: ='JUN 2029 Metered Gen'!$C29 -> LLH | D29: =IF(C29="HLH",$V$8/COUNTIF($C$4:$C$747, "HLH"), $V$9/COUNTIF($C$4:$C$747, "LLH")) -> 3.7894737 | E29: ='JUN 2029 Metered Gen'!$D29 -> 5.34 | F29: ='JUN 2029 Metered Gen'!$L29 -> 25.828 | G29: =D29*F29 -> 97.874526 | H29: =E29*F29*(-1) -> -137.92152
B30: ='JUN 2029 Metered Gen'!$B30 -> 27 | C30: ='JUN 2029 Metered Gen'!$C30 -> LLH | D30: =IF(C30="HLH",$V$8/COUNTIF($C$4:$C$747, "HLH"), $V$9/COUNTIF($C$4:$C$747, "LLH")) -> 3.7894737 | E30: ='JUN 2029 Metered Gen'!$D30 -> 5.34 | F30: ='JUN 2029 Metered Gen'!$L30 -> 24.622 | G30: =D30*F30 -> 93.304421 | H30: =E30*F30*(-1) -> -131.48148
B31: ='JUN 2029 Metered Gen'!$B31 -> 28 | C31: ='JUN 2029 Metered Gen'!$C31 -> LLH | D31: =IF(C31="HLH",$V$8/COUNTIF($C$4:$C$747, "HLH"), $V$9/COUNTIF($C$4:$C$747, "LLH")) -> 3.7894737 | E31: ='JUN 2029 Metered Gen'!$D31 -> 5.32 | F31: ='JUN 2029 Metered Gen'!$L31 -> 26.335 | G31: =D31*F31 -> 99.795789 | H31: =E31*F31*(-1) -> -140.1022
B32: ='JUN 2029 Metered Gen'!$B32 -> 29 | C32: ='JUN 2029 Metered Gen'!$C32 -> LLH | D32: =IF(C32="HLH",$V$8/COUNTIF($C$4:$C$747, "HLH"), $V$9/COUNTIF($C$4:$C$747, "LLH")) -> 3.7894737 | E32: ='JUN 2029 Metered Gen'!$D32 -> 5.32 | F32: ='JUN 2029 Metered Gen'!$L32 -> 31.073 | G32: =D32*F32 -> 117.75032 | H32: =E32*F32*(-1) -> -165.30836
B33: ='JUN 2029 Metered Gen'!$B33 -> 30 | C33: ='JUN 2029 Metered Gen'!$C33 -> LLH | D33: =IF(C33="HLH",$V$8/COUNTIF($C$4:$C$747, "HLH"), $V$9/COUNTIF($C$4:$C$747, "LLH")) -> 3.7894737 | E33: ='JUN 2029 Metered Gen'!$D33 -> 5.32 | F33: ='JUN 2029 Metered Gen'!$L33 -> 33.488 | G33: =D33*F33 -> 126.90189 | H33: =E33*F33*(-1) -> -178.15616
... B723: ='JUN 2029 Metered Gen'!$B723 -> 720 | C723: ='JUN 2029 Metered Gen'!$C723 -> LLH | D723: =IF(C723="HLH",$V$8/COUNTIF($C$4:$C$747, "HLH"), $V$9/COUNTIF($C$4:$C$747, "LLH")) -> 3.7894737 | E723: ='JUN 2029 Metered Gen'!$D723 -> 3.14 | F723: ='JUN 2029 Metered Gen'!$L723 -> 32.833 | G723: =D723*F723 -> 124.41979 | H723: =E723*F723*(-1) -> -103.09562

Sheet SolarA (Dec)
B1: RSS Cost & Credits, Exhibit A Contractual Obligations (DEC FY29)
B3: Hour in Series | C3: Diurnal Category | D3: Exhibit-A MWh (Flat) | E3: Actual Metered | F3: Market | G3: Energy Charges | H3: Energy Credits
B4: ='DEC 2028 Metered Gen'!$B4 -> 1 | C4: ='DEC 2028 Metered Gen'!$C4 -> LLH | D4: =IF(C4="HLH",$P$8/COUNTIF($C$4:$C$747, "HLH"), $P$9/COUNTIF($C$4:$C$747, "LLH")) -> 0.084302326 | E4: ='DEC 2028 Metered Gen'!$E4 -> 0 | F4: ='DEC 2028 Metered Gen'!$L4 -> 40.525 | G4: =D4*F4 -> 3.4163517 | H4: =E4*F4*(-1) -> 0 | M4: Exhibit A Specified Resource Amounts (SolarA)
B5: ='DEC 2028 Metered Gen'!$B5 -> 2 | C5: ='DEC 2028 Metered Gen'!$C5 -> LLH | D5: =IF(C5="HLH",$P$8/COUNTIF($C$4:$C$747, "HLH"), $P$9/COUNTIF($C$4:$C$747, "LLH")) -> 0.084302326 | E5: ='DEC 2028 Metered Gen'!$E5 -> 0 | F5: ='DEC 2028 Metered Gen'!$L5 -> 40.616 | G5: =D5*F5 -> 3.4240233 | H5: =E5*F5*(-1) -> 0 | N5: Oct | O5: Nov | P5: Dec | Q5: Jan | R5: Feb | S5: Mar | T5: Apr | U5: May | V5: Jun | W5: Jul | X5: Aug | Y5: Sep | Z5: annual aMW
B6: ='DEC 2028 Metered Gen'!$B6 -> 3 | C6: ='DEC 2028 Metered Gen'!$C6 -> LLH | D6: =IF(C6="HLH",$P$8/COUNTIF($C$4:$C$747, "HLH"), $P$9/COUNTIF($C$4:$C$747, "LLH")) -> 0.084302326 | E6: ='DEC 2028 Metered Gen'!$E6 -> 0 | F6: ='DEC 2028 Metered Gen'!$L6 -> 37.251 | G6: =D6*F6 -> 3.1403459 | H6: =E6*F6*(-1) -> 0 | M6: Fiscal Year 2029
B7: ='DEC 2028 Metered Gen'!$B7 -> 4 | C7: ='DEC 2028 Metered Gen'!$C7 -> LLH | D7: =IF(C7="HLH",$P$8/COUNTIF($C$4:$C$747, "HLH"), $P$9/COUNTIF($C$4:$C$747, "LLH")) -> 0.084302326 | E7: ='DEC 2028 Metered Gen'!$E7 -> 0 | F7: ='DEC 2028 Metered Gen'!$L7 -> 37.81 | G7: =D7*F7 -> 3.1874709 | H7: =E7*F7*(-1) -> 0 | M7: Total (MWh) | N7: 361 | O7: 196 | P7: 148 | Q7: 155 | R7: 267 | S7: 416 | T7: 537 | U7: 609 | V7: 631 | W7: 667 | X7: 618 | Y7: 496 | Z7: 0.582
B8: ='DEC 2028 Metered Gen'!$B8 -> 5 | C8: ='DEC 2028 Metered Gen'!$C8 -> LLH | D8: =IF(C8="HLH",$P$8/COUNTIF($C$4:$C$747, "HLH"), $P$9/COUNTIF($C$4:$C$747, "LLH")) -> 0.084302326 | E8: ='DEC 2028 Metered Gen'!$E8 -> 0 | F8: ='DEC 2028 Metered Gen'!$L8 -> 36.164 | G8: =D8*F8 -> 3.0487093 | H8: =E8*F8*(-1) -> 0 | M8: HLH (MWh) | N8: 303 | O8: 163 | P8: 119 | Q8: 130 | R8: 229 | S8: 362 | T8: 448 | U8: 511 | V8: 547 | W8: 538 | X8: 538 | Y8: 396 | Z8: 0.875
B9: ='DEC 2028 Metered Gen'!$B9 -> 6 | C9: ='DEC 2028 Metered Gen'!$C9 -> LLH | D9: =IF(C9="HLH",$P$8/COUNTIF($C$4:$C$747, "HLH"), $P$9/COUNTIF($C$4:$C$747, "LLH")) -> 0.084302326 | E9: ='DEC 2028 Metered Gen'!$E9 -> 0 | F9: ='DEC 2028 Metered Gen'!$L9 -> 39.391 | G9: =D9*F9 -> 3.3207529 | H9: =E9*F9*(-1) -> 0 | M9: LLH (MWh) | N9: 58 | O9: 34 | P9: 29 | Q9: 25 | R9: 38 | S9: 54 | T9: 89 | U9: 98 | V9: 84 | W9: 129 | X9: 80 | Y9: 100 | Z9: 0.211
B10: ='DEC 2028 Metered Gen'!$B10 -> 7 | C10: ='DEC 2028 Metered Gen'!$C10 -> HLH | D10: =IF(C10="HLH",$P$8/COUNTIF($C$4:$C$747, "HLH"), $P$9/COUNTIF($C$4:$C$747, "LLH")) -> 0.2975 | E10: ='DEC 2028 Metered Gen'!$E10 -> 0 | F10: ='DEC 2028 Metered Gen'!$L10 -> 41.121 | G10: =D10*F10 -> 12.233498 | H10: =E10*F10*(-1) -> 0 | M10: Peak (MW) | N10: 0 | O10: 0 | P10: 0.3 | Q10: 0 | R10: 0.5 | S10: 0.2 | T10: 0.2 | U10: 0.2 | V10: 2.2 | W10: 1.3 | X10: 1.1 | Y10: 0.7 | Z10: N/A
B11: ='DEC 2028 Metered Gen'!$B11 -> 8 | C11: ='DEC 2028 Metered Gen'!$C11 -> HLH | D11: =IF(C11="HLH",$P$8/COUNTIF($C$4:$C$747, "HLH"), $P$9/COUNTIF($C$4:$C$747, "LLH")) -> 0.2975 | E11: ='DEC 2028 Metered Gen'!$E11 -> 0 | F11: ='DEC 2028 Metered Gen'!$L11 -> 42.647 | G11: =D11*F11 -> 12.687482 | H11: =E11*F11*(-1) -> 0
B12: ='DEC 2028 Metered Gen'!$B12 -> 9 | C12: ='DEC 2028 Metered Gen'!$C12 -> HLH | D12: =IF(C12="HLH",$P$8/COUNTIF($C$4:$C$747, "HLH"), $P$9/COUNTIF($C$4:$C$747, "LLH")) -> 0.2975 | E12: ='DEC 2028 Metered Gen'!$E12 -> 0.05 | F12: ='DEC 2028 Metered Gen'!$L12 -> 42.495 | G12: =D12*F12 -> 12.642262 | H12: =E12*F12*(-1) -> -2.12475 | M12: Energy Charges | N12: =SUM(G:G) -> 5120.7374
B13: ='DEC 2028 Metered Gen'!$B13 -> 10 | C13: ='DEC 2028 Metered Gen'!$C13 -> HLH | D13: =IF(C13="HLH",$P$8/COUNTIF($C$4:$C$747, "HLH"), $P$9/COUNTIF($C$4:$C$747, "LLH")) -> 0.2975 | E13: ='DEC 2028 Metered Gen'!$E13 -> 0.13 | F13: ='DEC 2028 Metered Gen'!$L13 -> 46.782 | G13: =D13*F13 -> 13.917645 | H13: =E13*F13*(-1) -> -6.08166 | M13: Energy Credits | N13: =SUM(H:H) -> -2755.0704
B14: ='DEC 2028 Metered Gen'!$B14 -> 11 | C14: ='DEC 2028 Metered Gen'!$C14 -> HLH | D14: =IF(C14="HLH",$P$8/COUNTIF($C$4:$C$747, "HLH"), $P$9/COUNTIF($C$4:$C$747, "LLH")) -> 0.2975 | E14: ='DEC 2028 Metered Gen'!$E14 -> 0.22 | F14: ='DEC 2028 Metered Gen'!$L14 -> 42.815 | G14: =D14*F14 -> 12.737462 | H14: =E14*F14*(-1) -> -9.4193 | M14: Energy Net Charges/Credits | N14: =N12+N13 -> 2365.667
B15: ='DEC 2028 Metered Gen'!$B15 -> 12 | C15: ='DEC 2028 Metered Gen'!$C15 -> HLH | D15: =IF(C15="HLH",$P$8/COUNTIF($C$4:$C$747, "HLH"), $P$9/COUNTIF($C$4:$C$747, "LLH")) -> 0.2975 | E15: ='DEC 2028 Metered Gen'!$E15 -> 0.25 | F15: ='DEC 2028 Metered Gen'!$L15 -> 40.335 | G15: =D15*F15 -> 11.999662 | H15: =E15*F15*(-1) -> -10.08375
B16: ='DEC 2028 Metered Gen'!$B16 -> 13 | C16: ='DEC 2028 Metered Gen'!$C16 -> HLH | D16: =IF(C16="HLH",$P$8/COUNTIF($C$4:$C$747, "HLH"), $P$9/COUNTIF($C$4:$C$747, "LLH")) -> 0.2975 | E16: ='DEC 2028 Metered Gen'!$E16 -> 0.22 | F16: ='DEC 2028 Metered Gen'!$L16 -> 39.773 | G16: =D16*F16 -> 11.832467 | H16: =E16*F16*(-1) -> -8.75006 | M16: Resource QCC Capacity (MW) | N16: =$P$10 -> 0.3
B17: ='DEC 2028 Metered Gen'!$B17 -> 14 | C17: ='DEC 2028 Metered Gen'!$C17 -> HLH | D17: =IF(C17="HLH",$P$8/COUNTIF($C$4:$C$747, "HLH"), $P$9/COUNTIF($C$4:$C$747, "LLH")) -> 0.2975 | E17: ='DEC 2028 Metered Gen'!$E17 -> 0.2 | F17: ='DEC 2028 Metered Gen'!$L17 -> 37.972 | G17: =D17*F17 -> 11.29667 | H17: =E17*F17*(-1) -> -7.5944 | M17: Forced Outage Rating | N17: 0
B18: ='DEC 2028 Metered Gen'!$B18 -> 15 | C18: ='DEC 2028 Metered Gen'!$C18 -> HLH | D18: =IF(C18="HLH",$P$8/COUNTIF($C$4:$C$747, "HLH"), $P$9/COUNTIF($C$4:$C$747, "LLH")) -> 0.2975 | E18: ='DEC 2028 Metered Gen'!$E18 -> 0.11 | F18: ='DEC 2028 Metered Gen'!$L18 -> 38.644 | G18: =D18*F18 -> 11.49659 | H18: =E18*F18*(-1) -> -4.25084 | M18: BPA Capacity Obligation (MW) | N18: =P7/COUNT(B4:B800)-N16 -> -0.10107527
B19: ='DEC 2028 Metered Gen'!$B19 -> 16 | C19: ='DEC 2028 Metered Gen'!$C19 -> HLH | D19: =IF(C19="HLH",$P$8/COUNTIF($C$4:$C$747, "HLH"), $P$9/COUNTIF($C$4:$C$747, "LLH")) -> 0.2975 | E19: ='DEC 2028 Metered Gen'!$E19 -> 0.03 | F19: ='DEC 2028 Metered Gen'!$L19 -> 39.681 | G19: =D19*F19 -> 11.805097 | H19: =E19*F19*(-1) -> -1.19043 | M19: Additional Capacity (Forced Outage) | N19: =N16*N17 -> 0
B20: ='DEC 2028 Metered Gen'!$B20 -> 17 | C20: ='DEC 2028 Metered Gen'!$C20 -> HLH | D20: =IF(C20="HLH",$P$8/COUNTIF($C$4:$C$747, "HLH"), $P$9/COUNTIF($C$4:$C$747, "LLH")) -> 0.2975 | E20: ='DEC 2028 Metered Gen'!$E20 -> 0 | F20: ='DEC 2028 Metered Gen'!$L20 -> 39.409 | G20: =D20*F20 -> 11.724177 | H20: =E20*F20*(-1) -> 0
B21: ='DEC 2028 Metered Gen'!$B21 -> 18 | C21: ='DEC 2028 Metered Gen'!$C21 -> HLH | D21: =IF(C21="HLH",$P$8/COUNTIF($C$4:$C$747, "HLH"), $P$9/COUNTIF($C$4:$C$747, "LLH")) -> 0.2975 | E21: ='DEC 2028 Metered Gen'!$E21 -> 0 | F21: ='DEC 2028 Metered Gen'!$L21 -> 42.864 | G21: =D21*F21 -> 12.75204 | H21: =E21*F21*(-1) -> 0 | M21: RSS Capacity Charge (Obligation * Embedded Capacity) | N21: =(N18+N19)*'Capacity Rate'!D6*1000 -> -609.48387
B22: ='DEC 2028 Metered Gen'!$B22 -> 19 | C22: ='DEC 2028 Metered Gen'!$C22 -> HLH | D22: =IF(C22="HLH",$P$8/COUNTIF($C$4:$C$747, "HLH"), $P$9/COUNTIF($C$4:$C$747, "LLH")) -> 0.2975 | E22: ='DEC 2028 Metered Gen'!$E22 -> 0 | F22: ='DEC 2028 Metered Gen'!$L22 -> 44.312 | G22: =D22*F22 -> 13.18282 | H22: =E22*F22*(-1) -> 0
B23: ='DEC 2028 Metered Gen'!$B23 -> 20 | C23: ='DEC 2028 Metered Gen'!$C23 -> HLH | D23: =IF(C23="HLH",$P$8/COUNTIF($C$4:$C$747, "HLH"), $P$9/COUNTIF($C$4:$C$747, "LLH")) -> 0.2975 | E23: ='DEC 2028 Metered Gen'!$E23 -> 0 | F23: ='DEC 2028 Metered Gen'!$L23 -> 50.382 | G23: =D23*F23 -> 14.988645 | H23: =E23*F23*(-1) -> 0
B24: ='DEC 2028 Metered Gen'!$B24 -> 21 | C24: ='DEC 2028 Metered Gen'!$C24 -> HLH | D24: =IF(C24="HLH",$P$8/COUNTIF($C$4:$C$747, "HLH"), $P$9/COUNTIF($C$4:$C$747, "LLH")) -> 0.2975 | E24: ='DEC 2028 Metered Gen'!$E24 -> 0 | F24: ='DEC 2028 Metered Gen'!$L24 -> 51.791 | G24: =D24*F24 -> 15.407822 | H24: =E24*F24*(-1) -> 0
B25: ='DEC 2028 Metered Gen'!$B25 -> 22 | C25: ='DEC 2028 Metered Gen'!$C25 -> HLH | D25: =IF(C25="HLH",$P$8/COUNTIF($C$4:$C$747, "HLH"), $P$9/COUNTIF($C$4:$C$747, "LLH")) -> 0.2975 | E25: ='DEC 2028 Metered Gen'!$E25 -> 0 | F25: ='DEC 2028 Metered Gen'!$L25 -> 42.278 | G25: =D25*F25 -> 12.577705 | H25: =E25*F25*(-1) -> 0
B26: ='DEC 2028 Metered Gen'!$B26 -> 23 | C26: ='DEC 2028 Metered Gen'!$C26 -> LLH | D26: =IF(C26="HLH",$P$8/COUNTIF($C$4:$C$747, "HLH"), $P$9/COUNTIF($C$4:$C$747, "LLH")) -> 0.084302326 | E26: ='DEC 2028 Metered Gen'!$E26 -> 0 | F26: ='DEC 2028 Metered Gen'!$L26 -> 43.26 | G26: =D26*F26 -> 3.6469186 | H26: =E26*F26*(-1) -> 0
B27: ='DEC 2028 Metered Gen'!$B27 -> 24 | C27: ='DEC 2028 Metered Gen'!$C27 -> LLH | D27: =IF(C27="HLH",$P$8/COUNTIF($C$4:$C$747, "HLH"), $P$9/COUNTIF($C$4:$C$747, "LLH")) -> 0.084302326 | E27: ='DEC 2028 Metered Gen'!$E27 -> 0 | F27: ='DEC 2028 Metered Gen'!$L27 -> 40.711 | G27: =D27*F27 -> 3.432032 | H27: =E27*F27*(-1) -> 0
B28: ='DEC 2028 Metered Gen'!$B28 -> 25 | C28: ='DEC 2028 Metered Gen'!$C28 -> LLH | D28: =IF(C28="HLH",$P$8/COUNTIF($C$4:$C$747, "HLH"), $P$9/COUNTIF($C$4:$C$747, "LLH")) -> 0.084302326 | E28: ='DEC 2028 Metered Gen'!$E28 -> 0 | F28: ='DEC 2028 Metered Gen'!$L28 -> 42.374 | G28: =D28*F28 -> 3.5722267 | H28: =E28*F28*(-1) -> 0
B29: ='DEC 2028 Metered Gen'!$B29 -> 26 | C29: ='DEC 2028 Metered Gen'!$C29 -> LLH | D29: =IF(C29="HLH",$P$8/COUNTIF($C$4:$C$747, "HLH"), $P$9/COUNTIF($C$4:$C$747, "LLH")) -> 0.084302326 | E29: ='DEC 2028 Metered Gen'!$E29 -> 0 | F29: ='DEC 2028 Metered Gen'!$L29 -> 43.466 | G29: =D29*F29 -> 3.6642849 | H29: =E29*F29*(-1) -> 0
B30: ='DEC 2028 Metered Gen'!$B30 -> 27 | C30: ='DEC 2028 Metered Gen'!$C30 -> LLH | D30: =IF(C30="HLH",$P$8/COUNTIF($C$4:$C$747, "HLH"), $P$9/COUNTIF($C$4:$C$747, "LLH")) -> 0.084302326 | E30: ='DEC 2028 Metered Gen'!$E30 -> 0 | F30: ='DEC 2028 Metered Gen'!$L30 -> 43.87 | G30: =D30*F30 -> 3.698343 | H30: =E30*F30*(-1) -> 0
B31: ='DEC 2028 Metered Gen'!$B31 -> 28 | C31: ='DEC 2028 Metered Gen'!$C31 -> LLH | D31: =IF(C31="HLH",$P$8/COUNTIF($C$4:$C$747, "HLH"), $P$9/COUNTIF($C$4:$C$747, "LLH")) -> 0.084302326 | E31: ='DEC 2028 Metered Gen'!$E31 -> 0 | F31: ='DEC 2028 Metered Gen'!$L31 -> 42.678 | G31: =D31*F31 -> 3.5978547 | H31: =E31*F31*(-1) -> 0
B32: ='DEC 2028 Metered Gen'!$B32 -> 29 | C32: ='DEC 2028 Metered Gen'!$C32 -> LLH | D32: =IF(C32="HLH",$P$8/COUNTIF($C$4:$C$747, "HLH"), $P$9/COUNTIF($C$4:$C$747, "LLH")) -> 0.084302326 | E32: ='DEC 2028 Metered Gen'!$E32 -> 0 | F32: ='DEC 2028 Metered Gen'!$L32 -> 43.748 | G32: =D32*F32 -> 3.6880581 | H32: =E32*F32*(-1) -> 0
B33: ='DEC 2028 Metered Gen'!$B33 -> 30 | C33: ='DEC 2028 Metered Gen'!$C33 -> LLH | D33: =IF(C33="HLH",$P$8/COUNTIF($C$4:$C$747, "HLH"), $P$9/COUNTIF($C$4:$C$747, "LLH")) -> 0.084302326 | E33: ='DEC 2028 Metered Gen'!$E33 -> 0 | F33: ='DEC 2028 Metered Gen'!$L33 -> 41.226 | G33: =D33*F33 -> 3.4754477 | H33: =E33*F33*(-1) -> 0
... B747: ='DEC 2028 Metered Gen'!$B747 -> 744 | C747: ='DEC 2028 Metered Gen'!$C747 -> LLH | D747: =IF(C747="HLH",$P$8/COUNTIF($C$4:$C$747, "HLH"), $P$9/COUNTIF($C$4:$C$747, "LLH")) -> 0.084302326 | E747: ='DEC 2028 Metered Gen'!$E747 -> 0 | F747: ='DEC 2028 Metered Gen'!$L747 -> 31.991 | G747: =D747*F747 -> 2.6969157 | H747: =E747*F747*(-1) -> 0

Sheet SolarA (Jun)
B1: RSS Cost & Credits, Exhibit A Contractual Obligations (JUN FY29)
B3: Hour in Series | C3: Diurnal Category | D3: Exhibit-A MWh (Flat) | E3: Actual Metered | F3: Market | G3: Energy Charges | H3: Energy Credits
B4: ='JUN 2029 Metered Gen'!$B4 -> 1 | C4: ='JUN 2029 Metered Gen'!$C4 -> LLH | D4: =IF(C4="HLH",$V$8/COUNTIF($C$4:$C$747, "HLH"), $V$9/COUNTIF($C$4:$C$747, "LLH")) -> 0.27631579 | E4: ='JUN 2029 Metered Gen'!$E4 -> 0 | F4: ='JUN 2029 Metered Gen'!$L4 -> 25.032 | G4: =D4*F4 -> 6.9167368 | H4: =E4*F4*(-1) -> 0 | M4: Exhibit A Specified Resource Amounts (SolarA)
B5: ='JUN 2029 Metered Gen'!$B5 -> 2 | C5: ='JUN 2029 Metered Gen'!$C5 -> LLH | D5: =IF(C5="HLH",$V$8/COUNTIF($C$4:$C$747, "HLH"), $V$9/COUNTIF($C$4:$C$747, "LLH")) -> 0.27631579 | E5: ='JUN 2029 Metered Gen'!$E5 -> 0 | F5: ='JUN 2029 Metered Gen'!$L5 -> 26.272 | G5: =D5*F5 -> 7.2593684 | H5: =E5*F5*(-1) -> 0 | N5: Oct | O5: Nov | P5: Dec | Q5: Jan | R5: Feb | S5: Mar | T5: Apr | U5: May | V5: Jun | W5: Jul | X5: Aug | Y5: Sep | Z5: annual aMW
B6: ='JUN 2029 Metered Gen'!$B6 -> 3 | C6: ='JUN 2029 Metered Gen'!$C6 -> LLH | D6: =IF(C6="HLH",$V$8/COUNTIF($C$4:$C$747, "HLH"), $V$9/COUNTIF($C$4:$C$747, "LLH")) -> 0.27631579 | E6: ='JUN 2029 Metered Gen'!$E6 -> 0 | F6: ='JUN 2029 Metered Gen'!$L6 -> 26.922 | G6: =D6*F6 -> 7.4389737 | H6: =E6*F6*(-1) -> 0 | M6: Fiscal Year 2029
B7: ='JUN 2029 Metered Gen'!$B7 -> 4 | C7: ='JUN 2029 Metered Gen'!$C7 -> LLH | D7: =IF(C7="HLH",$V$8/COUNTIF($C$4:$C$747, "HLH"), $V$9/COUNTIF($C$4:$C$747, "LLH")) -> 0.27631579 | E7: ='JUN 2029 Metered Gen'!$E7 -> 0 | F7: ='JUN 2029 Metered Gen'!$L7 -> 27.18 | G7: =D7*F7 -> 7.5102632 | H7: =E7*F7*(-1) -> 0 | M7: Total (MWh) | N7: 361 | O7: 196 | P7: 148 | Q7: 155 | R7: 267 | S7: 416 | T7: 537 | U7: 609 | V7: 631 | W7: 667 | X7: 618 | Y7: 496 | Z7: 0.582
B8: ='JUN 2029 Metered Gen'!$B8 -> 5 | C8: ='JUN 2029 Metered Gen'!$C8 -> LLH | D8: =IF(C8="HLH",$V$8/COUNTIF($C$4:$C$747, "HLH"), $V$9/COUNTIF($C$4:$C$747, "LLH")) -> 0.27631579 | E8: ='JUN 2029 Metered Gen'!$E8 -> 0 | F8: ='JUN 2029 Metered Gen'!$L8 -> 27.513 | G8: =D8*F8 -> 7.6022763 | H8: =E8*F8*(-1) -> 0 | M8: HLH (MWh) | N8: 303 | O8: 163 | P8: 119 | Q8: 130 | R8: 229 | S8: 362 | T8: 448 | U8: 511 | V8: 547 | W8: 538 | X8: 538 | Y8: 396 | Z8: 0.875
B9: ='JUN 2029 Metered Gen'!$B9 -> 6 | C9: ='JUN 2029 Metered Gen'!$C9 -> LLH | D9: =IF(C9="HLH",$V$8/COUNTIF($C$4:$C$747, "HLH"), $V$9/COUNTIF($C$4:$C$747, "LLH")) -> 0.27631579 | E9: ='JUN 2029 Metered Gen'!$E9 -> 0.04 | F9: ='JUN 2029 Metered Gen'!$L9 -> 26.751 | G9: =D9*F9 -> 7.3917237 | H9: =E9*F9*(-1) -> -1.07004 | M9: LLH (MWh) | N9: 58 | O9: 34 | P9: 29 | Q9: 25 | R9: 38 | S9: 54 | T9: 89 | U9: 98 | V9: 84 | W9: 129 | X9: 80 | Y9: 100 | Z9: 0.211
B10: ='JUN 2029 Metered Gen'!$B10 -> 7 | C10: ='JUN 2029 Metered Gen'!$C10 -> HLH | D10: =IF(C10="HLH",$V$8/COUNTIF($C$4:$C$747, "HLH"), $V$9/COUNTIF($C$4:$C$747, "LLH")) -> 1.3149038 | E10: ='JUN 2029 Metered Gen'!$E10 -> 0.22 | F10: ='JUN 2029 Metered Gen'!$L10 -> 21.959 | G10: =D10*F10 -> 28.873974 | H10: =E10*F10*(-1) -> -4.83098 | M10: Peak (MW) | N10: 0 | O10: 0 | P10: 0.3 | Q10: 0 | R10: 0.5 | S10: 0.2 | T10: 0.2 | U10: 0.2 | V10: 2.2 | W10: 1.3 | X10: 1.1 | Y10: 0.7 | Z10: N/A
B11: ='JUN 2029 Metered Gen'!$B11 -> 8 | C11: ='JUN 2029 Metered Gen'!$C11 -> HLH | D11: =IF(C11="HLH",$V$8/COUNTIF($C$4:$C$747, "HLH"), $V$9/COUNTIF($C$4:$C$747, "LLH")) -> 1.3149038 | E11: ='JUN 2029 Metered Gen'!$E11 -> 0.6 | F11: ='JUN 2029 Metered Gen'!$L11 -> 21.648 | G11: =D11*F11 -> 28.465038 | H11: =E11*F11*(-1) -> -12.9888
B12: ='JUN 2029 Metered Gen'!$B12 -> 9 | C12: ='JUN 2029 Metered Gen'!$C12 -> HLH | D12: =IF(C12="HLH",$V$8/COUNTIF($C$4:$C$747, "HLH"), $V$9/COUNTIF($C$4:$C$747, "LLH")) -> 1.3149038 | E12: ='JUN 2029 Metered Gen'!$E12 -> 1.25 | F12: ='JUN 2029 Metered Gen'!$L12 -> 24.361 | G12: =D12*F12 -> 32.032373 | H12: =E12*F12*(-1) -> -30.45125 | M12: Energy Charges | N12: =SUM(G:G) -> 20476.276
B13: ='JUN 2029 Metered Gen'!$B13 -> 10 | C13: ='JUN 2029 Metered Gen'!$C13 -> HLH | D13: =IF(C13="HLH",$V$8/COUNTIF($C$4:$C$747, "HLH"), $V$9/COUNTIF($C$4:$C$747, "LLH")) -> 1.3149038 | E13: ='JUN 2029 Metered Gen'!$E13 -> 1.78 | F13: ='JUN 2029 Metered Gen'!$L13 -> 26.351 | G13: =D13*F13 -> 34.649031 | H13: =E13*F13*(-1) -> -46.90478 | M13: Energy Credits | N13: =SUM(H:H) -> -20484.438
B14: ='JUN 2029 Metered Gen'!$B14 -> 11 | C14: ='JUN 2029 Metered Gen'!$C14 -> HLH | D14: =IF(C14="HLH",$V$8/COUNTIF($C$4:$C$747, "HLH"), $V$9/COUNTIF($C$4:$C$747, "LLH")) -> 1.3149038 | E14: ='JUN 2029 Metered Gen'!$E14 -> 2.29 | F14: ='JUN 2029 Metered Gen'!$L14 -> 21.516 | G14: =D14*F14 -> 28.291471 | H14: =E14*F14*(-1) -> -49.27164 | M14: Energy Net Charges/Credits | N14: =N12+N13 -> -8.1620503
B15: ='JUN 2029 Metered Gen'!$B15 -> 12 | C15: ='JUN 2029 Metered Gen'!$C15 -> HLH | D15: =IF(C15="HLH",$V$8/COUNTIF($C$4:$C$747, "HLH"), $V$9/COUNTIF($C$4:$C$747, "LLH")) -> 1.3149038 | E15: ='JUN 2029 Metered Gen'!$E15 -> 2.51 | F15: ='JUN 2029 Metered Gen'!$L15 -> 21.273 | G15: =D15*F15 -> 27.97195 | H15: =E15*F15*(-1) -> -53.39523
B16: ='JUN 2029 Metered Gen'!$B16 -> 13 | C16: ='JUN 2029 Metered Gen'!$C16 -> HLH | D16: =IF(C16="HLH",$V$8/COUNTIF($C$4:$C$747, "HLH"), $V$9/COUNTIF($C$4:$C$747, "LLH")) -> 1.3149038 | E16: ='JUN 2029 Metered Gen'!$E16 -> 2.55 | F16: ='JUN 2029 Metered Gen'!$L16 -> 21.98 | G16: =D16*F16 -> 28.901587 | H16: =E16*F16*(-1) -> -56.049 | M16: Resource QCC Capacity (MW) | N16: =$V$10 -> 2.2
B17: ='JUN 2029 Metered Gen'!$B17 -> 14 | C17: ='JUN 2029 Metered Gen'!$C17 -> HLH | D17: =IF(C17="HLH",$V$8/COUNTIF($C$4:$C$747, "HLH"), $V$9/COUNTIF($C$4:$C$747, "LLH")) -> 1.3149038 | E17: ='JUN 2029 Metered Gen'!$E17 -> 2.54 | F17: ='JUN 2029 Metered Gen'!$L17 -> 20.702 | G17: =D17*F17 -> 27.221139 | H17: =E17*F17*(-1) -> -52.58308 | M17: Forced Outage Rating | N17: 0
B18: ='JUN 2029 Metered Gen'!$B18 -> 15 | C18: ='JUN 2029 Metered Gen'!$C18 -> HLH | D18: =IF(C18="HLH",$V$8/COUNTIF($C$4:$C$747, "HLH"), $V$9/COUNTIF($C$4:$C$747, "LLH")) -> 1.3149038 | E18: ='JUN 2029 Metered Gen'!$E18 -> 2.49 | F18: ='JUN 2029 Metered Gen'!$L18 -> 26.282 | G18: =D18*F18 -> 34.558303 | H18: =E18*F18*(-1) -> -65.44218 | M18: BPA Capacity Obligation (MW) | N18: =V7/COUNT(B4:B800)-N16 -> -1.3236111
B19: ='JUN 2029 Metered Gen'!$B19 -> 16 | C19: ='JUN 2029 Metered Gen'!$C19 -> HLH | D19: =IF(C19="HLH",$V$8/COUNTIF($C$4:$C$747, "HLH"), $V$9/COUNTIF($C$4:$C$747, "LLH")) -> 1.3149038 | E19: ='JUN 2029 Metered Gen'!$E19 -> 2.21 | F19: ='JUN 2029 Metered Gen'!$L19 -> 34.466 | G19: =D19*F19 -> 45.319476 | H19: =E19*F19*(-1) -> -76.16986 | M19: Additional Capacity (Forced Outage) | N19: =N16*N17 -> 0
B20: ='JUN 2029 Metered Gen'!$B20 -> 17 | C20: ='JUN 2029 Metered Gen'!$C20 -> HLH | D20: =IF(C20="HLH",$V$8/COUNTIF($C$4:$C$747, "HLH"), $V$9/COUNTIF($C$4:$C$747, "LLH")) -> 1.3149038 | E20: ='JUN 2029 Metered Gen'!$E20 -> 1.67 | F20: ='JUN 2029 Metered Gen'!$L20 -> 30.974 | G20: =D20*F20 -> 40.727832 | H20: =E20*F20*(-1) -> -51.72658
B21: ='JUN 2029 Metered Gen'!$B21 -> 18 | C21: ='JUN 2029 Metered Gen'!$C21 -> HLH | D21: =IF(C21="HLH",$V$8/COUNTIF($C$4:$C$747, "HLH"), $V$9/COUNTIF($C$4:$C$747, "LLH")) -> 1.3149038 | E21: ='JUN 2029 Metered Gen'!$E21 -> 1.11 | F21: ='JUN 2029 Metered Gen'!$L21 -> 27.53 | G21: =D21*F21 -> 36.199303 | H21: =E21*F21*(-1) -> -30.5583 | M21: RSS Capacity Charge (Obligation * Embedded Capacity) | N21: =(N18+N19)*'Capacity Rate'!D12*1000 -> -2528.0972
B22: ='JUN 2029 Metered Gen'!$B22 -> 19 | C22: ='JUN 2029 Metered Gen'!$C22 -> HLH | D22: =IF(C22="HLH",$V$8/COUNTIF($C$4:$C$747, "HLH"), $V$9/COUNTIF($C$4:$C$747, "LLH")) -> 1.3149038 | E22: ='JUN 2029 Metered Gen'!$E22 -> 0.49 | F22: ='JUN 2029 Metered Gen'!$L22 -> 29.261 | G22: =D22*F22 -> 38.475401 | H22: =E22*F22*(-1) -> -14.33789
B23: ='JUN 2029 Metered Gen'!$B23 -> 20 | C23: ='JUN 2029 Metered Gen'!$C23 -> HLH | D23: =IF(C23="HLH",$V$8/COUNTIF($C$4:$C$747, "HLH"), $V$9/COUNTIF($C$4:$C$747, "LLH")) -> 1.3149038 | E23: ='JUN 2029 Metered Gen'!$E23 -> 0.15 | F23: ='JUN 2029 Metered Gen'!$L23 -> 28.339 | G23: =D23*F23 -> 37.26306 | H23: =E23*F23*(-1) -> -4.25085
B24: ='JUN 2029 Metered Gen'!$B24 -> 21 | C24: ='JUN 2029 Metered Gen'!$C24 -> HLH | D24: =IF(C24="HLH",$V$8/COUNTIF($C$4:$C$747, "HLH"), $V$9/COUNTIF($C$4:$C$747, "LLH")) -> 1.3149038 | E24: ='JUN 2029 Metered Gen'!$E24 -> 0.02 | F24: ='JUN 2029 Metered Gen'!$L24 -> 28.326 | G24: =D24*F24 -> 37.245966 | H24: =E24*F24*(-1) -> -0.56652
B25: ='JUN 2029 Metered Gen'!$B25 -> 22 | C25: ='JUN 2029 Metered Gen'!$C25 -> HLH | D25: =IF(C25="HLH",$V$8/COUNTIF($C$4:$C$747, "HLH"), $V$9/COUNTIF($C$4:$C$747, "LLH")) -> 1.3149038 | E25: ='JUN 2029 Metered Gen'!$E25 -> 0 | F25: ='JUN 2029 Metered Gen'!$L25 -> 29.13 | G25: =D25*F25 -> 38.303149 | H25: =E25*F25*(-1) -> 0
B26: ='JUN 2029 Metered Gen'!$B26 -> 23 | C26: ='JUN 2029 Metered Gen'!$C26 -> LLH | D26: =IF(C26="HLH",$V$8/COUNTIF($C$4:$C$747, "HLH"), $V$9/COUNTIF($C$4:$C$747, "LLH")) -> 0.27631579 | E26: ='JUN 2029 Metered Gen'!$E26 -> 0 | F26: ='JUN 2029 Metered Gen'!$L26 -> 28.003 | G26: =D26*F26 -> 7.7376711 | H26: =E26*F26*(-1) -> 0
B27: ='JUN 2029 Metered Gen'!$B27 -> 24 | C27: ='JUN 2029 Metered Gen'!$C27 -> LLH | D27: =IF(C27="HLH",$V$8/COUNTIF($C$4:$C$747, "HLH"), $V$9/COUNTIF($C$4:$C$747, "LLH")) -> 0.27631579 | E27: ='JUN 2029 Metered Gen'!$E27 -> 0 | F27: ='JUN 2029 Metered Gen'!$L27 -> 26.678 | G27: =D27*F27 -> 7.3715526 | H27: =E27*F27*(-1) -> 0
B28: ='JUN 2029 Metered Gen'!$B28 -> 25 | C28: ='JUN 2029 Metered Gen'!$C28 -> LLH | D28: =IF(C28="HLH",$V$8/COUNTIF($C$4:$C$747, "HLH"), $V$9/COUNTIF($C$4:$C$747, "LLH")) -> 0.27631579 | E28: ='JUN 2029 Metered Gen'!$E28 -> 0 | F28: ='JUN 2029 Metered Gen'!$L28 -> 26.705 | G28: =D28*F28 -> 7.3790132 | H28: =E28*F28*(-1) -> 0
B29: ='JUN 2029 Metered Gen'!$B29 -> 26 | C29: ='JUN 2029 Metered Gen'!$C29 -> LLH | D29: =IF(C29="HLH",$V$8/COUNTIF($C$4:$C$747, "HLH"), $V$9/COUNTIF($C$4:$C$747, "LLH")) -> 0.27631579 | E29: ='JUN 2029 Metered Gen'!$E29 -> 0 | F29: ='JUN 2029 Metered Gen'!$L29 -> 25.828 | G29: =D29*F29 -> 7.1366842 | H29: =E29*F29*(-1) -> 0
B30: ='JUN 2029 Metered Gen'!$B30 -> 27 | C30: ='JUN 2029 Metered Gen'!$C30 -> LLH | D30: =IF(C30="HLH",$V$8/COUNTIF($C$4:$C$747, "HLH"), $V$9/COUNTIF($C$4:$C$747, "LLH")) -> 0.27631579 | E30: ='JUN 2029 Metered Gen'!$E30 -> 0 | F30: ='JUN 2029 Metered Gen'!$L30 -> 24.622 | G30: =D30*F30 -> 6.8034474 | H30: =E30*F30*(-1) -> 0
B31: ='JUN 2029 Metered Gen'!$B31 -> 28 | C31: ='JUN 2029 Metered Gen'!$C31 -> LLH | D31: =IF(C31="HLH",$V$8/COUNTIF($C$4:$C$747, "HLH"), $V$9/COUNTIF($C$4:$C$747, "LLH")) -> 0.27631579 | E31: ='JUN 2029 Metered Gen'!$E31 -> 0 | F31: ='JUN 2029 Metered Gen'!$L31 -> 26.335 | G31: =D31*F31 -> 7.2767763 | H31: =E31*F31*(-1) -> 0
B32: ='JUN 2029 Metered Gen'!$B32 -> 29 | C32: ='JUN 2029 Metered Gen'!$C32 -> LLH | D32: =IF(C32="HLH",$V$8/COUNTIF($C$4:$C$747, "HLH"), $V$9/COUNTIF($C$4:$C$747, "LLH")) -> 0.27631579 | E32: ='JUN 2029 Metered Gen'!$E32 -> 0 | F32: ='JUN 2029 Metered Gen'!$L32 -> 31.073 | G32: =D32*F32 -> 8.5859605 | H32: =E32*F32*(-1) -> 0
B33: ='JUN 2029 Metered Gen'!$B33 -> 30 | C33: ='JUN 2029 Metered Gen'!$C33 -> LLH | D33: =IF(C33="HLH",$V$8/COUNTIF($C$4:$C$747, "HLH"), $V$9/COUNTIF($C$4:$C$747, "LLH")) -> 0.27631579 | E33: ='JUN 2029 Metered Gen'!$E33 -> 0.04 | F33: ='JUN 2029 Metered Gen'!$L33 -> 33.488 | G33: =D33*F33 -> 9.2532632 | H33: =E33*F33*(-1) -> -1.33952
... B723: ='JUN 2029 Metered Gen'!$B723 -> 720 | C723: ='JUN 2029 Metered Gen'!$C723 -> LLH | D723: =IF(C723="HLH",$V$8/COUNTIF($C$4:$C$747, "HLH"), $V$9/COUNTIF($C$4:$C$747, "LLH")) -> 0.27631579 | E723: ='JUN 2029 Metered Gen'!$E723 -> 0 | F723: ='JUN 2029 Metered Gen'!$L723 -> 32.833 | G723: =D723*F723 -> 9.0722763 | H723: =E723*F723*(-1) -> 0

Sheet WindA (Dec)
B1: RSS Cost & Credits, Exhibit A Contractual Obligations (DEC FY29)
B3: Hour in Series | C3: Diurnal Category | D3: Exhibit-A MWh (Flat) | E3: Actual Metered | F3: Market | G3: Energy Charges | H3: Energy Credits
B4: ='DEC 2028 Metered Gen'!$B4 -> 1 | C4: ='DEC 2028 Metered Gen'!$C4 -> LLH | D4: =IF(C4="HLH",$P$8/COUNTIF($C$4:$C$747, "HLH"), $P$9/COUNTIF($C$4:$C$747, "LLH")) -> 0.25581395 | E4: ='DEC 2028 Metered Gen'!F4 -> 0 | F4: ='DEC 2028 Metered Gen'!$L4 -> 40.525 | G4: =D4*F4 -> 10.36686 | H4: =E4*F4*(-1) -> 0 | M4: Exhibit A Specified Resource Amounts (WindA)
B5: ='DEC 2028 Metered Gen'!$B5 -> 2 | C5: ='DEC 2028 Metered Gen'!$C5 -> LLH | D5: =IF(C5="HLH",$P$8/COUNTIF($C$4:$C$747, "HLH"), $P$9/COUNTIF($C$4:$C$747, "LLH")) -> 0.25581395 | E5: ='DEC 2028 Metered Gen'!F5 -> 0 | F5: ='DEC 2028 Metered Gen'!$L5 -> 40.616 | G5: =D5*F5 -> 10.39014 | H5: =E5*F5*(-1) -> 0 | N5: Oct | O5: Nov | P5: Dec | Q5: Jan | R5: Feb | S5: Mar | T5: Apr | U5: May | V5: Jun | W5: Jul | X5: Aug | Y5: Sep | Z5: annual aMW
B6: ='DEC 2028 Metered Gen'!$B6 -> 3 | C6: ='DEC 2028 Metered Gen'!$C6 -> LLH | D6: =IF(C6="HLH",$P$8/COUNTIF($C$4:$C$747, "HLH"), $P$9/COUNTIF($C$4:$C$747, "LLH")) -> 0.25581395 | E6: ='DEC 2028 Metered Gen'!F6 -> 0 | F6: ='DEC 2028 Metered Gen'!$L6 -> 37.251 | G6: =D6*F6 -> 9.5293256 | H6: =E6*F6*(-1) -> 0 | M6: Fiscal Year 2029
B7: ='DEC 2028 Metered Gen'!$B7 -> 4 | C7: ='DEC 2028 Metered Gen'!$C7 -> LLH | D7: =IF(C7="HLH",$P$8/COUNTIF($C$4:$C$747, "HLH"), $P$9/COUNTIF($C$4:$C$747, "LLH")) -> 0.25581395 | E7: ='DEC 2028 Metered Gen'!F7 -> 0 | F7: ='DEC 2028 Metered Gen'!$L7 -> 37.81 | G7: =D7*F7 -> 9.6723256 | H7: =E7*F7*(-1) -> 0 | M7: Total (MWh) | N7: 190 | O7: 213 | P7: 190 | Q7: 213 | R7: 164 | S7: 261 | T7: 213 | U7: 190 | V7: 213 | W7: 166 | X7: 190 | Y7: 167 | Z7: 0.271
B8: ='DEC 2028 Metered Gen'!$B8 -> 5 | C8: ='DEC 2028 Metered Gen'!$C8 -> LLH | D8: =IF(C8="HLH",$P$8/COUNTIF($C$4:$C$747, "HLH"), $P$9/COUNTIF($C$4:$C$747, "LLH")) -> 0.25581395 | E8: ='DEC 2028 Metered Gen'!F8 -> 0 | F8: ='DEC 2028 Metered Gen'!$L8 -> 36.164 | G8: =D8*F8 -> 9.2512558 | H8: =E8*F8*(-1) -> 0 | M8: HLH (MWh) | N8: 106 | O8: 118 | P8: 102 | Q8: 119 | R8: 94 | S8: 152 | T8: 118 | U8: 106 | V8: 123 | W8: 89 | X8: 110 | Y8: 89 | Z8: 0.271
B9: ='DEC 2028 Metered Gen'!$B9 -> 6 | C9: ='DEC 2028 Metered Gen'!$C9 -> LLH | D9: =IF(C9="HLH",$P$8/COUNTIF($C$4:$C$747, "HLH"), $P$9/COUNTIF($C$4:$C$747, "LLH")) -> 0.25581395 | E9: ='DEC 2028 Metered Gen'!F9 -> 0 | F9: ='DEC 2028 Metered Gen'!$L9 -> 39.391 | G9: =D9*F9 -> 10.076767 | H9: =E9*F9*(-1) -> 0 | M9: LLH (MWh) | N9: 84 | O9: 95 | P9: 88 | Q9: 94 | R9: 70 | S9: 109 | T9: 95 | U9: 84 | V9: 90 | W9: 77 | X9: 80 | Y9: 78 | Z9: 0.27
B10: ='DEC 2028 Metered Gen'!$B10 -> 7 | C10: ='DEC 2028 Metered Gen'!$C10 -> HLH | D10: =IF(C10="HLH",$P$8/COUNTIF($C$4:$C$747, "HLH"), $P$9/COUNTIF($C$4:$C$747, "LLH")) -> 0.255 | E10: ='DEC 2028 Metered Gen'!F10 -> 0 | F10: ='DEC 2028 Metered Gen'!$L10 -> 41.121 | G10: =D10*F10 -> 10.485855 | H10: =E10*F10*(-1) -> 0 | M10: Peak (MW) | N10: 0.1 | O10: 0.1 | P10: 0.1 | Q10: 0.1 | R10: 0.2 | S10: 0.2 | T10: 0 | U10: 0 | V10: 0 | W10: 0 | X10: 0 | Y10: 0.1 | Z10: N/A
B11: ='DEC 2028 Metered Gen'!$B11 -> 8 | C11: ='DEC 2028 Metered Gen'!$C11 -> HLH | D11: =IF(C11="HLH",$P$8/COUNTIF($C$4:$C$747, "HLH"), $P$9/COUNTIF($C$4:$C$747, "LLH")) -> 0.255 | E11: ='DEC 2028 Metered Gen'!F11 -> 0 | F11: ='DEC 2028 Metered Gen'!$L11 -> 42.647 | G11: =D11*F11 -> 10.874985 | H11: =E11*F11*(-1) -> 0
B12: ='DEC 2028 Metered Gen'!$B12 -> 9 | C12: ='DEC 2028 Metered Gen'!$C12 -> HLH | D12: =IF(C12="HLH",$P$8/COUNTIF($C$4:$C$747, "HLH"), $P$9/COUNTIF($C$4:$C$747, "LLH")) -> 0.255 | E12: ='DEC 2028 Metered Gen'!F12 -> 0 | F12: ='DEC 2028 Metered Gen'!$L12 -> 42.495 | G12: =D12*F12 -> 10.836225 | H12: =E12*F12*(-1) -> 0 | M12: Energy Charges | N12: =SUM(G:G) -> 6585.0804
B13: ='DEC 2028 Metered Gen'!$B13 -> 10 | C13: ='DEC 2028 Metered Gen'!$C13 -> HLH | D13: =IF(C13="HLH",$P$8/COUNTIF($C$4:$C$747, "HLH"), $P$9/COUNTIF($C$4:$C$747, "LLH")) -> 0.255 | E13: ='DEC 2028 Metered Gen'!F13 -> 0 | F13: ='DEC 2028 Metered Gen'!$L13 -> 46.782 | G13: =D13*F13 -> 11.92941 | H13: =E13*F13*(-1) -> 0 | M13: Energy Credits | N13: =SUM(H:H) -> -5368.431
B14: ='DEC 2028 Metered Gen'!$B14 -> 11 | C14: ='DEC 2028 Metered Gen'!$C14 -> HLH | D14: =IF(C14="HLH",$P$8/COUNTIF($C$4:$C$747, "HLH"), $P$9/COUNTIF($C$4:$C$747, "LLH")) -> 0.255 | E14: ='DEC 2028 Metered Gen'!F14 -> 0 | F14: ='DEC 2028 Metered Gen'!$L14 -> 42.815 | G14: =D14*F14 -> 10.917825 | H14: =E14*F14*(-1) -> 0 | M14: Energy Net Charges/Credits | N14: =N12+N13 -> 1216.6494
B15: ='DEC 2028 Metered Gen'!$B15 -> 12 | C15: ='DEC 2028 Metered Gen'!$C15 -> HLH | D15: =IF(C15="HLH",$P$8/COUNTIF($C$4:$C$747, "HLH"), $P$9/COUNTIF($C$4:$C$747, "LLH")) -> 0.255 | E15: ='DEC 2028 Metered Gen'!F15 -> 0 | F15: ='DEC 2028 Metered Gen'!$L15 -> 40.335 | G15: =D15*F15 -> 10.285425 | H15: =E15*F15*(-1) -> 0
B16: ='DEC 2028 Metered Gen'!$B16 -> 13 | C16: ='DEC 2028 Metered Gen'!$C16 -> HLH | D16: =IF(C16="HLH",$P$8/COUNTIF($C$4:$C$747, "HLH"), $P$9/COUNTIF($C$4:$C$747, "LLH")) -> 0.255 | E16: ='DEC 2028 Metered Gen'!F16 -> 0 | F16: ='DEC 2028 Metered Gen'!$L16 -> 39.773 | G16: =D16*F16 -> 10.142115 | H16: =E16*F16*(-1) -> 0 | M16: Resource QCC Capacity (MW) | N16: =$P$10 -> 0.1
B17: ='DEC 2028 Metered Gen'!$B17 -> 14 | C17: ='DEC 2028 Metered Gen'!$C17 -> HLH | D17: =IF(C17="HLH",$P$8/COUNTIF($C$4:$C$747, "HLH"), $P$9/COUNTIF($C$4:$C$747, "LLH")) -> 0.255 | E17: ='DEC 2028 Metered Gen'!F17 -> 0 | F17: ='DEC 2028 Metered Gen'!$L17 -> 37.972 | G17: =D17*F17 -> 9.68286 | H17: =E17*F17*(-1) -> 0 | M17: Forced Outage Rating | N17: 0.05
B18: ='DEC 2028 Metered Gen'!$B18 -> 15 | C18: ='DEC 2028 Metered Gen'!$C18 -> HLH | D18: =IF(C18="HLH",$P$8/COUNTIF($C$4:$C$747, "HLH"), $P$9/COUNTIF($C$4:$C$747, "LLH")) -> 0.255 | E18: ='DEC 2028 Metered Gen'!F18 -> 0 | F18: ='DEC 2028 Metered Gen'!$L18 -> 38.644 | G18: =D18*F18 -> 9.85422 | H18: =E18*F18*(-1) -> 0 | M18: BPA Capacity Obligation (MW) | N18: =P7/COUNT(B4:B800)-N16 -> 0.15537634
B19: ='DEC 2028 Metered Gen'!$B19 -> 16 | C19: ='DEC 2028 Metered Gen'!$C19 -> HLH | D19: =IF(C19="HLH",$P$8/COUNTIF($C$4:$C$747, "HLH"), $P$9/COUNTIF($C$4:$C$747, "LLH")) -> 0.255 | E19: ='DEC 2028 Metered Gen'!F19 -> 0 | F19: ='DEC 2028 Metered Gen'!$L19 -> 39.681 | G19: =D19*F19 -> 10.118655 | H19: =E19*F19*(-1) -> 0 | M19: Additional Capacity (Forced Outage) | N19: =N16*N17 -> 0.005
B20: ='DEC 2028 Metered Gen'!$B20 -> 17 | C20: ='DEC 2028 Metered Gen'!$C20 -> HLH | D20: =IF(C20="HLH",$P$8/COUNTIF($C$4:$C$747, "HLH"), $P$9/COUNTIF($C$4:$C$747, "LLH")) -> 0.255 | E20: ='DEC 2028 Metered Gen'!F20 -> 0 | F20: ='DEC 2028 Metered Gen'!$L20 -> 39.409 | G20: =D20*F20 -> 10.049295 | H20: =E20*F20*(-1) -> 0
B21: ='DEC 2028 Metered Gen'!$B21 -> 18 | C21: ='DEC 2028 Metered Gen'!$C21 -> HLH | D21: =IF(C21="HLH",$P$8/COUNTIF($C$4:$C$747, "HLH"), $P$9/COUNTIF($C$4:$C$747, "LLH")) -> 0.255 | E21: ='DEC 2028 Metered Gen'!F21 -> 0 | F21: ='DEC 2028 Metered Gen'!$L21 -> 42.864 | G21: =D21*F21 -> 10.93032 | H21: =E21*F21*(-1) -> 0 | M21: RSS Capacity Charge (Obligation * Embedded Capacity) | N21: =(N18+N19)*'Capacity Rate'!D6*1000 -> 967.06935
B22: ='DEC 2028 Metered Gen'!$B22 -> 19 | C22: ='DEC 2028 Metered Gen'!$C22 -> HLH | D22: =IF(C22="HLH",$P$8/COUNTIF($C$4:$C$747, "HLH"), $P$9/COUNTIF($C$4:$C$747, "LLH")) -> 0.255 | E22: ='DEC 2028 Metered Gen'!F22 -> 0 | F22: ='DEC 2028 Metered Gen'!$L22 -> 44.312 | G22: =D22*F22 -> 11.29956 | H22: =E22*F22*(-1) -> 0
B23: ='DEC 2028 Metered Gen'!$B23 -> 20 | C23: ='DEC 2028 Metered Gen'!$C23 -> HLH | D23: =IF(C23="HLH",$P$8/COUNTIF($C$4:$C$747, "HLH"), $P$9/COUNTIF($C$4:$C$747, "LLH")) -> 0.255 | E23: ='DEC 2028 Metered Gen'!F23 -> 0 | F23: ='DEC 2028 Metered Gen'!$L23 -> 50.382 | G23: =D23*F23 -> 12.84741 | H23: =E23*F23*(-1) -> 0
B24: ='DEC 2028 Metered Gen'!$B24 -> 21 | C24: ='DEC 2028 Metered Gen'!$C24 -> HLH | D24: =IF(C24="HLH",$P$8/COUNTIF($C$4:$C$747, "HLH"), $P$9/COUNTIF($C$4:$C$747, "LLH")) -> 0.255 | E24: ='DEC 2028 Metered Gen'!F24 -> 0 | F24: ='DEC 2028 Metered Gen'!$L24 -> 51.791 | G24: =D24*F24 -> 13.206705 | H24: =E24*F24*(-1) -> 0
B25: ='DEC 2028 Metered Gen'!$B25 -> 22 | C25: ='DEC 2028 Metered Gen'!$C25 -> HLH | D25: =IF(C25="HLH",$P$8/COUNTIF($C$4:$C$747, "HLH"), $P$9/COUNTIF($C$4:$C$747, "LLH")) -> 0.255 | E25: ='DEC 2028 Metered Gen'!F25 -> 0 | F25: ='DEC 2028 Metered Gen'!$L25 -> 42.278 | G25: =D25*F25 -> 10.78089 | H25: =E25*F25*(-1) -> 0
B26: ='DEC 2028 Metered Gen'!$B26 -> 23 | C26: ='DEC 2028 Metered Gen'!$C26 -> LLH | D26: =IF(C26="HLH",$P$8/COUNTIF($C$4:$C$747, "HLH"), $P$9/COUNTIF($C$4:$C$747, "LLH")) -> 0.25581395 | E26: ='DEC 2028 Metered Gen'!F26 -> 0 | F26: ='DEC 2028 Metered Gen'!$L26 -> 43.26 | G26: =D26*F26 -> 11.066512 | H26: =E26*F26*(-1) -> 0
B27: ='DEC 2028 Metered Gen'!$B27 -> 24 | C27: ='DEC 2028 Metered Gen'!$C27 -> LLH | D27: =IF(C27="HLH",$P$8/COUNTIF($C$4:$C$747, "HLH"), $P$9/COUNTIF($C$4:$C$747, "LLH")) -> 0.25581395 | E27: ='DEC 2028 Metered Gen'!F27 -> 0 | F27: ='DEC 2028 Metered Gen'!$L27 -> 40.711 | G27: =D27*F27 -> 10.414442 | H27: =E27*F27*(-1) -> 0
B28: ='DEC 2028 Metered Gen'!$B28 -> 25 | C28: ='DEC 2028 Metered Gen'!$C28 -> LLH | D28: =IF(C28="HLH",$P$8/COUNTIF($C$4:$C$747, "HLH"), $P$9/COUNTIF($C$4:$C$747, "LLH")) -> 0.25581395 | E28: ='DEC 2028 Metered Gen'!F28 -> 0 | F28: ='DEC 2028 Metered Gen'!$L28 -> 42.374 | G28: =D28*F28 -> 10.83986 | H28: =E28*F28*(-1) -> 0
B29: ='DEC 2028 Metered Gen'!$B29 -> 26 | C29: ='DEC 2028 Metered Gen'!$C29 -> LLH | D29: =IF(C29="HLH",$P$8/COUNTIF($C$4:$C$747, "HLH"), $P$9/COUNTIF($C$4:$C$747, "LLH")) -> 0.25581395 | E29: ='DEC 2028 Metered Gen'!F29 -> 0 | F29: ='DEC 2028 Metered Gen'!$L29 -> 43.466 | G29: =D29*F29 -> 11.119209 | H29: =E29*F29*(-1) -> 0
B30: ='DEC 2028 Metered Gen'!$B30 -> 27 | C30: ='DEC 2028 Metered Gen'!$C30 -> LLH | D30: =IF(C30="HLH",$P$8/COUNTIF($C$4:$C$747, "HLH"), $P$9/COUNTIF($C$4:$C$747, "LLH")) -> 0.25581395 | E30: ='DEC 2028 Metered Gen'!F30 -> 0 | F30: ='DEC 2028 Metered Gen'!$L30 -> 43.87 | G30: =D30*F30 -> 11.222558 | H30: =E30*F30*(-1) -> 0
