Workbook

Sheet Info
B2: Resource Support Services Charges, Conceptual Illustration
B3: Date released | C3: 46132
B5: Disclaimer:
B6: This conceptual illustration is provided for discussion purposes as part of an ongoing workshop process. The design of RSS rates and billing factors is ongoing. Final rates and charges will be established in each 7(i) process.
B8: Table of Contents
B9: Tab | C9: Description
B10: HydroA (Dec) | C10: Hydroelectric Resource "Existing Resource." December Month Charges FORS-Based Fee, Using Embedded Capacity Cost
B11: HydroA (Jun) | C11: Hydroelectric Resource "Existing Resource." June Month Charges FORS-Based Fee, Using Embedded Capacity Cost
B12: SolarA (Dec) | C12: Solar Resource "Existing Resource." December Month Charges Capacity-Based Fee, Using Embedded Capacity Cost
B13: SolarA (Jun) | C13: Solar Resource "Existing Resource." June Month Charges Capacity-Based Fee, Using Embedded Capacity Cost
B14: WindA (Dec) | C14: Wind Resource "Existing Resource." December Month Charges Capacity-Based Fee, Using Embedded Capacity Cost
B15: WindA (Jun) | C15: Wind Resource "Existing Resource." June Month Charges Capacity-Based Fee, Using Embedded Capacity Cost
B16: HydroB (Dec) | C16: Hydroelectric Resource Resource Serving Above-CHWM Load. December Month Charges Capacity-Based Fee, Using Marginal Capacity Cost
B17: HydroB (Jun) | C17: Hydroelectric Resource Resource Serving Above-CHWM Load. June Month Charges Capacity-Based Fee, Using Marginal Capacity Cost
B18: SolarB (Dec) | C18: Solar Resource Resource Serving Above-CHWM Load. December Month Charges Capacity-Based Fee, Using Marginal Capacity Cost
B19: SolarB (Jun) | C19: Solar Resource Resource Serving Above-CHWM Load. June Month Charges Capacity-Based Fee, Using Marginal Capacity Cost
B20: WindB (Dec) | C20: Wind Resource Resource Serving Above-CHWM Load. December Month Charges Capacity-Based Fee, Using Marginal Capacity Cost
... B24: Capacity Rate | C24: Table of Illustrative Capacity Rates ($/kW/month) during Fiscal Year 2029 Marginal Cost of Capacity, and Embedded Cost of Capacity

Sheet HydroA (Dec)
B1: RSS Cost & Credits, Exhibit A Contractual Obligations (DEC FY29)
B3: Hour in Series | C3: Diurnal Category | D3: Exhibit-A MWh (Flat) | E3: Actual Metered | F3: Market | G3: Energy Charges | H3: Energy Credits
B4: ='DEC 2028 Metered Gen'!$B4 -> 1 | C4: ='DEC 2028 Metered Gen'!$C4 -> LLH | D4: =IF(C4="HLH",$P$8/COUNTIF($C$4:$C$747, "HLH"), $P$9/COUNTIF($C$4:$C$747, "LLH")) -> 0.81976744 | E4: ='DEC 2028 Metered Gen'!$D4 -> 2.3 | F4: ='DEC 2028 Metered Gen'!$L4 -> 40.525 | G4: =D4*F4 -> 33.221076 | H4: =E4*F4*(-1) -> -93.2075 | M4: Exhibit A Specified Resource Amounts (HydroA)
B5: ='DEC 2028 Metered Gen'!$B5 -> 2 | C5: ='DEC 2028 Metered Gen'!$C5 -> LLH | D5: =IF(C5="HLH",$P$8/COUNTIF($C$4:$C$747, "HLH"), $P$9/COUNTIF($C$4:$C$747, "LLH")) -> 0.81976744 | E5: ='DEC 2028 Metered Gen'!$D5 -> 2.11 | F5: ='DEC 2028 Metered Gen'!$L5 -> 40.616 | G5: =D5*F5 -> 33.295674 | H5: =E5*F5*(-1) -> -85.69976 | N5: Oct | O5: Nov | P5: Dec | Q5: Jan | R5: Feb | S5: Mar | T5: Apr | U5: May | V5: Jun | W5: Jul | X5: Aug | Y5: Sep | Z5: annual aMW
B6: ='DEC 2028 Metered Gen'!$B6 -> 3 | C6: ='DEC 2028 Metered Gen'!$C6 -> LLH | D6: =IF(C6="HLH",$P$8/COUNTIF($C$4:$C$747, "HLH"), $P$9/COUNTIF($C$4:$C$747, "LLH")) -> 0.81976744 | E6: ='DEC 2028 Metered Gen'!$D6 -> 2.31 | F6: ='DEC 2028 Metered Gen'!$L6 -> 37.251 | G6: =D6*F6 -> 30.537157 | H6: =E6*F6*(-1) -> -86.04981 | M6: Fiscal Year 2029
B7: ='DEC 2028 Metered Gen'!$B7 -> 4 | C7: ='DEC 2028 Metered Gen'!$C7 -> LLH | D7: =IF(C7="HLH",$P$8/COUNTIF($C$4:$C$747, "HLH"), $P$9/COUNTIF($C$4:$C$747, "LLH")) -> 0.81976744 | E7: ='DEC 2028 Metered Gen'!$D7 -> 2.21 | F7: ='DEC 2028 Metered Gen'!$L7 -> 37.81 | G7: =D7*F7 -> 30.995407 | H7: =E7*F7*(-1) -> -83.5601 | M7: Total (MWh) | N7: 933 | O7: 713 | P7: 610 | Q7: 546 | R7: 444 | S7: 586 | T7: 1125 | U7: 3600 | V7: 2728 | W7: 1091 | X7: 579 | Y7: 447 | Z7: 1.53
B8: ='DEC 2028 Metered Gen'!$B8 -> 5 | C8: ='DEC 2028 Metered Gen'!$C8 -> LLH | D8: =IF(C8="HLH",$P$8/COUNTIF($C$4:$C$747, "HLH"), $P$9/COUNTIF($C$4:$C$747, "LLH")) -> 0.81976744 | E8: ='DEC 2028 Metered Gen'!$D8 -> 2.18 | F8: ='DEC 2028 Metered Gen'!$L8 -> 36.164 | G8: =D8*F8 -> 29.64607 | H8: =E8*F8*(-1) -> -78.83752 | M8: HLH (MWh) | N8: 522 | O8: 396 | P8: 328 | Q8: 305 | R8: 254 | S8: 341 | T8: 625 | U8: 2013 | V8: 1576 | W8: 587 | X8: 336 | Y8: 238 | Z8: 1.536
B9: ='DEC 2028 Metered Gen'!$B9 -> 6 | C9: ='DEC 2028 Metered Gen'!$C9 -> LLH | D9: =IF(C9="HLH",$P$8/COUNTIF($C$4:$C$747, "HLH"), $P$9/COUNTIF($C$4:$C$747, "LLH")) -> 0.81976744 | E9: ='DEC 2028 Metered Gen'!$D9 -> 2.31 | F9: ='DEC 2028 Metered Gen'!$L9 -> 39.391 | G9: =D9*F9 -> 32.291459 | H9: =E9*F9*(-1) -> -90.99321 | M9: LLH (MWh) | N9: 411 | O9: 317 | P9: 282 | Q9: 241 | R9: 190 | S9: 245 | T9: 500 | U9: 1587 | V9: 1152 | W9: 504 | X9: 243 | Y9: 209 | Z9: 1.522
B10: ='DEC 2028 Metered Gen'!$B10 -> 7 | C10: ='DEC 2028 Metered Gen'!$C10 -> HLH | D10: =IF(C10="HLH",$P$8/COUNTIF($C$4:$C$747, "HLH"), $P$9/COUNTIF($C$4:$C$747, "LLH")) -> 0.82 | E10: ='DEC 2028 Metered Gen'!$D10 -> 2.06 | F10: ='DEC 2028 Metered Gen'!$L10 -> 41.121 | G10: =D10*F10 -> 33.71922 | H10: =E10*F10*(-1) -> -84.70926 | M10: Peak (MW) | N10: 0 | O10: 0 | P10: 0.2 | Q10: 0.3 | R10: 0.4 | S10: 0.8 | T10: 0.7 | U10: 0.7 | V10: 0.7 | W10: 0.7 | X10: 0.3 | Y10: 0.2 | Z10: N/A
B11: ='DEC 2028 Metered Gen'!$B11 -> 8 | C11: ='DEC 2028 Metered Gen'!$C11 -> HLH | D11: =IF(C11="HLH",$P$8/COUNTIF($C$4:$C$747, "HLH"), $P$9/COUNTIF($C$4:$C$747, "LLH")) -> 0.82 | E11: ='DEC 2028 Metered Gen'!$D11 -> 2.28 | F11: ='DEC 2028 Metered Gen'!$L11 -> 42.647 | G11: =D11*F11 -> 34.97054 | H11: =E11*F11*(-1) -> -97.23516
B12: ='DEC 2028 Metered Gen'!$B12 -> 9 | C12: ='DEC 2028 Metered Gen'!$C12 -> HLH | D12: =IF(C12="HLH",$P$8/COUNTIF($C$4:$C$747, "HLH"), $P$9/COUNTIF($C$4:$C$747, "LLH")) -> 0.82 | E12: ='DEC 2028 Metered Gen'!$D12 -> 2.26 | F12: ='DEC 2028 Metered Gen'!$L12 -> 42.495 | G12: =D12*F12 -> 34.8459 | H12: =E12*F12*(-1) -> -96.0387 | M12: Energy Charges | N12: =SUM(G:G) -> 21141.458 | P12: Comment: Under the 2029 Public Rate Design Methodology (PRDM), Section 6.2, BPA will apply a Forced Outage Reserves Service (FORS)-based fee to all Load Following Customer’s Non-Dispatchable Dedicated Resources that are Existing Resources but not Variable Energy Resources.
B13: ='DEC 2028 Metered Gen'!$B13 -> 10 | C13: ='DEC 2028 Metered Gen'!$C13 -> HLH | D13: =IF(C13="HLH",$P$8/COUNTIF($C$4:$C$747, "HLH"), $P$9/COUNTIF($C$4:$C$747, "LLH")) -> 0.82 | E13: ='DEC 2028 Metered Gen'!$D13 -> 2.09 | F13: ='DEC 2028 Metered Gen'!$L13 -> 46.782 | G13: =D13*F13 -> 38.36124 | H13: =E13*F13*(-1) -> -97.77438 | M13: Energy Credits | N13: =SUM(H:H) -> -65438.587
B14: ='DEC 2028 Metered Gen'!$B14 -> 11 | C14: ='DEC 2028 Metered Gen'!$C14 -> HLH | D14: =IF(C14="HLH",$P$8/COUNTIF($C$4:$C$747, "HLH"), $P$9/COUNTIF($C$4:$C$747, "LLH")) -> 0.82 | E14: ='DEC 2028 Metered Gen'!$D14 -> 2.22 | F14: ='DEC 2028 Metered Gen'!$L14 -> 42.815 | G14: =D14*F14 -> 35.1083 | H14: =E14*F14*(-1) -> -95.0493 | M14: Energy Net Charges/Credits | N14: =N12+N13 -> -44297.129
B15: ='DEC 2028 Metered Gen'!$B15 -> 12 | C15: ='DEC 2028 Metered Gen'!$C15 -> HLH | D15: =IF(C15="HLH",$P$8/COUNTIF($C$4:$C$747, "HLH"), $P$9/COUNTIF($C$4:$C$747, "LLH")) -> 0.82 | E15: ='DEC 2028 Metered Gen'!$D15 -> 2.26 | F15: ='DEC 2028 Metered Gen'!$L15 -> 40.335 | G15: =D15*F15 -> 33.0747 | H15: =E15*F15*(-1) -> -91.1571
B16: ='DEC 2028 Metered Gen'!$B16 -> 13 | C16: ='DEC 2028 Metered Gen'!$C16 -> HLH | D16: =IF(C16="HLH",$P$8/COUNTIF($C$4:$C$747, "HLH"), $P$9/COUNTIF($C$4:$C$747, "LLH")) -> 0.82 | E16: ='DEC 2028 Metered Gen'!$D16 -> 2.06 | F16: ='DEC 2028 Metered Gen'!$L16 -> 39.773 | G16: =D16*F16 -> 32.61386 | H16: =E16*F16*(-1) -> -81.93238
B17: ='DEC 2028 Metered Gen'!$B17 -> 14 | C17: ='DEC 2028 Metered Gen'!$C17 -> HLH | D17: =IF(C17="HLH",$P$8/COUNTIF($C$4:$C$747, "HLH"), $P$9/COUNTIF($C$4:$C$747, "LLH")) -> 0.82 | E17: ='DEC 2028 Metered Gen'!$D17 -> 2.27 | F17: ='DEC 2028 Metered Gen'!$L17 -> 37.972 | G17: =D17*F17 -> 31.13704 | H17: =E17*F17*(-1) -> -86.19644 | M17: Forced Outage Rating | N17: 0.05
B18: ='DEC 2028 Metered Gen'!$B18 -> 15 | C18: ='DEC 2028 Metered Gen'!$C18 -> HLH | D18: =IF(C18="HLH",$P$8/COUNTIF($C$4:$C$747, "HLH"), $P$9/COUNTIF($C$4:$C$747, "LLH")) -> 0.82 | E18: ='DEC 2028 Metered Gen'!$D18 -> 2.23 | F18: ='DEC 2028 Metered Gen'!$L18 -> 38.644 | G18: =D18*F18 -> 31.68808 | H18: =E18*F18*(-1) -> -86.17612
B19: ='DEC 2028 Metered Gen'!$B19 -> 16 | C19: ='DEC 2028 Metered Gen'!$C19 -> HLH | D19: =IF(C19="HLH",$P$8/COUNTIF($C$4:$C$747, "HLH"), $P$9/COUNTIF($C$4:$C$747, "LLH")) -> 0.82 | E19: ='DEC 2028 Metered Gen'!$D19 -> 2.08 | F19: ='DEC 2028 Metered Gen'!$L19 -> 39.681 | G19: =D19*F19 -> 32.53842 | H19: =E19*F19*(-1) -> -82.53648
B20: ='DEC 2028 Metered Gen'!$B20 -> 17 | C20: ='DEC 2028 Metered Gen'!$C20 -> HLH | D20: =IF(C20="HLH",$P$8/COUNTIF($C$4:$C$747, "HLH"), $P$9/COUNTIF($C$4:$C$747, "LLH")) -> 0.82 | E20: ='DEC 2028 Metered Gen'!$D20 -> 2.3 | F20: ='DEC 2028 Metered Gen'!$L20 -> 39.409 | G20: =D20*F20 -> 32.31538 | H20: =E20*F20*(-1) -> -90.6407
B21: ='DEC 2028 Metered Gen'!$B21 -> 18 | C21: ='DEC 2028 Metered Gen'!$C21 -> HLH | D21: =IF(C21="HLH",$P$8/COUNTIF($C$4:$C$747, "HLH"), $P$9/COUNTIF($C$4:$C$747, "LLH")) -> 0.82 | E21: ='DEC 2028 Metered Gen'!$D21 -> 2.25 | F21: ='DEC 2028 Metered Gen'!$L21 -> 42.864 | G21: =D21*F21 -> 35.14848 | H21: =E21*F21*(-1) -> -96.444 | M21: RSS FORS-Based Fee (FORS Rating * MW * Embedded Capacity) | N21: =N17*P7/COUNT(B4:B800)*'Capacity Rate'!D6*1000 -> 247.19758
B22: ='DEC 2028 Metered Gen'!$B22 -> 19 | C22: ='DEC 2028 Metered Gen'!$C22 -> HLH | D22: =IF(C22="HLH",$P$8/COUNTIF($C$4:$C$747, "HLH"), $P$9/COUNTIF($C$4:$C$747, "LLH")) -> 0.82 | E22: ='DEC 2028 Metered Gen'!$D22 -> 2.23 | F22: ='DEC 2028 Metered Gen'!$L22 -> 44.312 | G22: =D22*F22 -> 36.33584 | H22: =E22*F22*(-1) -> -98.81576
B23: ='DEC 2028 Metered Gen'!$B23 -> 20 | C23: ='DEC 2028 Metered Gen'!$C23 -> HLH | D23: =IF(C23="HLH",$P$8/COUNTIF($C$4:$C$747, "HLH"), $P$9/COUNTIF($C$4:$C$747, "LLH")) -> 0.82 | E23: ='DEC 2028 Metered Gen'!$D23 -> 2.08 | F23: ='DEC 2028 Metered Gen'!$L23 -> 50.382 | G23: =D23*F23 -> 41.31324 | H23: =E23*F23*(-1) -> -104.79456
B24: ='DEC 2028 Metered Gen'!$B24 -> 21 | C24: ='DEC 2028 Metered Gen'!$C24 -> HLH | D24: =IF(C24="HLH",$P$8/COUNTIF($C$4:$C$747, "HLH"), $P$9/COUNTIF($C$4:$C$747, "LLH")) -> 0.82 | E24: ='DEC 2028 Metered Gen'!$D24 -> 2.29 | F24: ='DEC 2028 Metered Gen'!$L24 -> 51.791 | G24: =D24*F24 -> 42.46862 | H24: =E24*F24*(-1) -> -118.60139
B25: ='DEC 2028 Metered Gen'!$B25 -> 22 | C25: ='DEC 2028 Metered Gen'!$C25 -> HLH | D25: =IF(C25="HLH",$P$8/COUNTIF($C$4:$C$747, "HLH"), $P$9/COUNTIF($C$4:$C$747, "LLH")) -> 0.82 | E25: ='DEC 2028 Metered Gen'!$D25 -> 2.28 | F25: ='DEC 2028 Metered Gen'!$L25 -> 42.278 | G25: =D25*F25 -> 34.66796 | H25: =E25*F25*(-1) -> -96.39384
B26: ='DEC 2028 Metered Gen'!$B26 -> 23 | C26: ='DEC 2028 Metered Gen'!$C26 -> LLH | D26: =IF(C26="HLH",$P$8/COUNTIF($C$4:$C$747, "HLH"), $P$9/COUNTIF($C$4:$C$747, "LLH")) -> 0.81976744 | E26: ='DEC 2028 Metered Gen'!$D26 -> 2.08 | F26: ='DEC 2028 Metered Gen'!$L26 -> 43.26 | G26: =D26*F26 -> 35.46314 | H26: =E26*F26*(-1) -> -89.9808
B27: ='DEC 2028 Metered Gen'!$B27 -> 24 | C27: ='DEC 2028 Metered Gen'!$C27 -> LLH | D27: =IF(C27="HLH",$P$8/COUNTIF($C$4:$C$747, "HLH"), $P$9/COUNTIF($C$4:$C$747, "LLH")) -> 0.81976744 | E27: ='DEC 2028 Metered Gen'!$D27 -> 2.27 | F27: ='DEC 2028 Metered Gen'!$L27 -> 40.711 | G27: =D27*F27 -> 33.373552 | H27: =E27*F27*(-1) -> -92.41397
B28: ='DEC 2028 Metered Gen'!$B28 -> 25 | C28: ='DEC 2028 Metered Gen'!$C28 -> LLH | D28: =IF(C28="HLH",$P$8/COUNTIF($C$4:$C$747, "HLH"), $P$9/COUNTIF($C$4:$C$747, "LLH")) -> 0.81976744 | E28: ='DEC 2028 Metered Gen'!$D28 -> 2.25 | F28: ='DEC 2028 Metered Gen'!$L28 -> 42.374 | G28: =D28*F28 -> 34.736826 | H28: =E28*F28*(-1) -> -95.3415
B29: ='DEC 2028 Metered Gen'!$B29 -> 26 | C29: ='DEC 2028 Metered Gen'!$C29 -> LLH | D29: =IF(C29="HLH",$P$8/COUNTIF($C$4:$C$747, "HLH"), $P$9/COUNTIF($C$4:$C$747, "LLH")) -> 0.81976744 | E29: ='DEC 2028 Metered Gen'!$D29 -> 2.08 | F29: ='DEC 2028 Metered Gen'!$L29 -> 43.466 | G29: =D29*F29 -> 35.632012 | H29: =E29*F29*(-1) -> -90.40928
B30: ='DEC 2028 Metered Gen'!$B30 -> 27 | C30: ='DEC 2028 Metered Gen'!$C30 -> LLH | D30: =IF(C30="HLH",$P$8/COUNTIF($C$4:$C$747, "HLH"), $P$9/COUNTIF($C$4:$C$747, "LLH")) -> 0.81976744 | E30: ='DEC 2028 Metered Gen'!$D30 -> 2.3 | F30: ='DEC 2028 Metered Gen'!$L30 -> 43.87 | G30: =D30*F30 -> 35.963198 | H30: =E30*F30*(-1) -> -100.901
B31: ='DEC 2028 Metered Gen'!$B31 -> 28 | C31: ='DEC 2028 Metered Gen'!$C31 -> LLH | D31: =IF(C31="HLH",$P$8/COUNTIF($C$4:$C$747, "HLH"), $P$9/COUNTIF($C$4:$C$747, "LLH")) -> 0.81976744 | E31: ='DEC 2028 Metered Gen'!$D31 -> 2.22 | F31: ='DEC 2028 Metered Gen'!$L31 -> 42.678 | G31: =D31*F31 -> 34.986035 | H31: =E31*F31*(-1) -> -94.74516
B32: ='DEC 2028 Metered Gen'!$B32 -> 29 | C32: ='DEC 2028 Metered Gen'!$C32 -> LLH | D32: =IF(C32="HLH",$P$8/COUNTIF($C$4:$C$747, "HLH"), $P$9/COUNTIF($C$4:$C$747, "LLH")) -> 0.81976744 | E32: ='DEC 2028 Metered Gen'!$D32 -> 2.07 | F32: ='DEC 2028 Metered Gen'!$L32 -> 43.748 | G32: =D32*F32 -> 35.863186 | H32: =E32*F32*(-1) -> -90.55836
B33: ='DEC 2028 Metered Gen'!$B33 -> 30 | C33: ='DEC 2028 Metered Gen'!$C33 -> LLH | D33: =IF(C33="HLH",$P$8/COUNTIF($C$4:$C$747, "HLH"), $P$9/COUNTIF($C$4:$C$747, "LLH")) -> 0.81976744 | E33: ='DEC 2028 Metered Gen'!$D33 -> 2.26 | F33: ='DEC 2028 Metered Gen'!$L33 -> 41.226 | G33: =D33*F33 -> 33.795733 | H33: =E33*F33*(-1) -> -93.17076
... B747: ='DEC 2028 Metered Gen'!$B747 -> 744 | C747: ='DEC 2028 Metered Gen'!$C747 -> LLH | D747: =IF(C747="HLH",$P$8/COUNTIF($C$4:$C$747, "HLH"), $P$9/COUNTIF($C$4:$C$747, "LLH")) -> 0.81976744 | E747: ='DEC 2028 Metered Gen'!$D747 -> 2.16 | F747: ='DEC 2028 Metered Gen'!$L747 -> 31.991 | G747: =D747*F747 -> 26.22518 | H747: =E747*F747*(-1) -> -69.10056

Sheet HydroA (Jun)
B1: RSS Cost & Credits, Exhibit A Contractual Obligations (JUN FY29)
B3: Hour in Series | C3: Diurnal Category | D3: Exhibit-A MWh (Flat) | E3: Actual Metered | F3: Market | G3: Energy Charges | H3: Energy Credits
B4: ='JUN 2029 Metered Gen'!$B4 -> 1 | C4: ='JUN 2029 Metered Gen'!$C4 -> LLH | D4: =IF(C4="HLH",$V$8/COUNTIF($C$4:$C$747, "HLH"), $V$9/COUNTIF($C$4:$C$747, "LLH")) -> 3.7894737 | E4: ='JUN 2029 Metered Gen'!$D4 -> 5.32 | F4: ='JUN 2029 Metered Gen'!$L4 -> 25.032 | G4: =D4*F4 -> 94.858105 | H4: =E4*F4*(-1) -> -133.17024 | M4: Exhibit A Specified Resource Amounts (HydroA)
B5: ='JUN 2029 Metered Gen'!$B5 -> 2 | C5: ='JUN 2029 Metered Gen'!$C5 -> LLH | D5: =IF(C5="HLH",$V$8/COUNTIF($C$4:$C$747, "HLH"), $V$9/COUNTIF($C$4:$C$747, "LLH")) -> 3.7894737 | E5: ='JUN 2029 Metered Gen'!$D5 -> 5.33 | F5: ='JUN 2029 Metered Gen'!$L5 -> 26.272 | G5: =D5*F5 -> 99.557053 | H5: =E5*F5*(-1) -> -140.02976 | N5: Oct | O5: Nov | P5: Dec | Q5: Jan | R5: Feb | S5: Mar | T5: Apr | U5: May | V5: Jun | W5: Jul | X5: Aug | Y5: Sep | Z5: annual aMW
B6: ='JUN 2029 Metered Gen'!$B6 -> 3 | C6: ='JUN 2029 Metered Gen'!$C6 -> LLH | D6: =IF(C6="HLH",$V$8/COUNTIF($C$4:$C$747, "HLH"), $V$9/COUNTIF($C$4:$C$747, "LLH")) -> 3.7894737 | E6: ='JUN 2029 Metered Gen'!$D6 -> 5.34 | F6: ='JUN 2029 Metered Gen'!$L6 -> 26.922 | G6: =D6*F6 -> 102.02021 | H6: =E6*F6*(-1) -> -143.76348 | M6: Fiscal Year 2029
B7: ='JUN 2029 Metered Gen'!$B7 -> 4 | C7: ='JUN 2029 Metered Gen'!$C7 -> LLH | D7: =IF(C7="HLH",$V$8/COUNTIF($C$4:$C$747, "HLH"), $V$9/COUNTIF($C$4:$C$747, "LLH")) -> 3.7894737 | E7: ='JUN 2029 Metered Gen'!$D7 -> 5.32 | F7: ='JUN 2029 Metered Gen'!$L7 -> 27.18 | G7: =D7*F7 -> 102.99789 | H7: =E7*F7*(-1) -> -144.5976 | M7: Total (MWh) | N7: 933 | O7: 713 | P7: 610 | Q7: 546 | R7: 444 | S7: 586 | T7: 1125 | U7: 3600 | V7: 2728 | W7: 1091 | X7: 579 | Y7: 447 | Z7: 1.53
B8: ='JUN 2029 Metered Gen'!$B8 -> 5 | C8: ='JUN 2029 Metered Gen'!$C8 -> LLH | D8: =IF(C8="HLH",$V$8/COUNTIF($C$4:$C$747, "HLH"), $V$9/COUNTIF($C$4:$C$747, "LLH")) -> 3.7894737 | E8: ='JUN 2029 Metered Gen'!$D8 -> 5.33 | F8: ='JUN 2029 Metered Gen'!$L8 -> 27.513 | G8: =D8*F8 -> 104.25979 | H8: =E8*F8*(-1) -> -146.64429 | M8: HLH (MWh) | N8: 522 | O8: 396 | P8: 328 | Q8: 305 | R8: 254 | S8: 341 | T8: 625 | U8: 2013 | V8: 1576 | W8: 587 | X8: 336 | Y8: 238 | Z8: 1.536
B9: ='JUN 2029 Metered Gen'!$B9 -> 6 | C9: ='JUN 2029 Metered Gen'!$C9 -> LLH | D9: =IF(C9="HLH",$V$8/COUNTIF($C$4:$C$747, "HLH"), $V$9/COUNTIF($C$4:$C$747, "LLH")) -> 3.7894737 | E9: ='JUN 2029 Metered Gen'!$D9 -> 5.32 | F9: ='JUN 2029 Metered Gen'!$L9 -> 26.751 | G9: =D9*F9 -> 101.37221 | H9: =E9*F9*(-1) -> -142.31532 | M9: LLH (MWh) | N9: 411 | O9: 317 | P9: 282 | Q9: 241 | R9: 190 | S9: 245 | T9: 500 | U9: 1587 | V9: 1152 | W9: 504 | X9: 243 | Y9: 209 | Z9: 1.522
B10: ='JUN 2029 Metered Gen'!$B10 -> 7 | C10: ='JUN 2029 Metered Gen'!$C10 -> HLH | D10: =IF(C10="HLH",$V$8/COUNTIF($C$4:$C$747, "HLH"), $V$9/COUNTIF($C$4:$C$747, "LLH")) -> 3.7884615 | E10: ='JUN 2029 Metered Gen'!$D10 -> 5.32 | F10: ='JUN 2029 Metered Gen'!$L10 -> 21.959 | G10: =D10*F10 -> 83.190827 | H10: =E10*F10*(-1) -> -116.82188 | M10: Peak (MW) | N10: 0 | O10: 0 | P10: 0.2 | Q10: 0.3 | R10: 0.4 | S10: 0.8 | T10: 0.7 | U10: 0.7 | V10: 0.7 | W10: 0.7 | X10: 0.3 | Y10: 0.2 | Z10: N/A
B11: ='JUN 2029 Metered Gen'!$B11 -> 8 | C11: ='JUN 2029 Metered Gen'!$C11 -> HLH | D11: =IF(C11="HLH",$V$8/COUNTIF($C$4:$C$747, "HLH"), $V$9/COUNTIF($C$4:$C$747, "LLH")) -> 3.7884615 | E11: ='JUN 2029 Metered Gen'!$D11 -> 5.32 | F11: ='JUN 2029 Metered Gen'!$L11 -> 21.648 | G11: =D11*F11 -> 82.012615 | H11: =E11*F11*(-1) -> -115.16736
B12: ='JUN 2029 Metered Gen'!$B12 -> 9 | C12: ='JUN 2029 Metered Gen'!$C12 -> HLH | D12: =IF(C12="HLH",$V$8/COUNTIF($C$4:$C$747, "HLH"), $V$9/COUNTIF($C$4:$C$747, "LLH")) -> 3.7884615 | E12: ='JUN 2029 Metered Gen'!$D12 -> 5.33 | F12: ='JUN 2029 Metered Gen'!$L12 -> 24.361 | G12: =D12*F12 -> 92.290712 | H12: =E12*F12*(-1) -> -129.84413 | M12: Energy Charges | N12: =SUM(G:G) -> 87958.371 | P12: Comment: Under the 2029 Public Rate Design Methodology (PRDM), Section 6.2, BPA will apply a Forced Outage Reserves Service (FORS)-based fee to all Load Following Customer’s Non-Dispatchable Dedicated Resources that are Existing Resources but not Variable Energy Resources.
B13: ='JUN 2029 Metered Gen'!$B13 -> 10 | C13: ='JUN 2029 Metered Gen'!$C13 -> HLH | D13: =IF(C13="HLH",$V$8/COUNTIF($C$4:$C$747, "HLH"), $V$9/COUNTIF($C$4:$C$747, "LLH")) -> 3.7884615 | E13: ='JUN 2029 Metered Gen'!$D13 -> 5.33 | F13: ='JUN 2029 Metered Gen'!$L13 -> 26.351 | G13: =D13*F13 -> 99.82975 | H13: =E13*F13*(-1) -> -140.45083 | M13: Energy Credits | N13: =SUM(H:H) -> -108537.63
B14: ='JUN 2029 Metered Gen'!$B14 -> 11 | C14: ='JUN 2029 Metered Gen'!$C14 -> HLH | D14: =IF(C14="HLH",$V$8/COUNTIF($C$4:$C$747, "HLH"), $V$9/COUNTIF($C$4:$C$747, "LLH")) -> 3.7884615 | E14: ='JUN 2029 Metered Gen'!$D14 -> 5.33 | F14: ='JUN 2029 Metered Gen'!$L14 -> 21.516 | G14: =D14*F14 -> 81.512538 | H14: =E14*F14*(-1) -> -114.68028 | M14: Energy Net Charges/Credits | N14: =N12+N13 -> -20579.258
B15: ='JUN 2029 Metered Gen'!$B15 -> 12 | C15: ='JUN 2029 Metered Gen'!$C15 -> HLH | D15: =IF(C15="HLH",$V$8/COUNTIF($C$4:$C$747, "HLH"), $V$9/COUNTIF($C$4:$C$747, "LLH")) -> 3.7884615 | E15: ='JUN 2029 Metered Gen'!$D15 -> 5.33 | F15: ='JUN 2029 Metered Gen'!$L15 -> 21.273 | G15: =D15*F15 -> 80.591942 | H15: =E15*F15*(-1) -> -113.38509
B16: ='JUN 2029 Metered Gen'!$B16 -> 13 | C16: ='JUN 2029 Metered Gen'!$C16 -> HLH | D16: =IF(C16="HLH",$V$8/COUNTIF($C$4:$C$747, "HLH"), $V$9/COUNTIF($C$4:$C$747, "LLH")) -> 3.7884615 | E16: ='JUN 2029 Metered Gen'!$D16 -> 5.33 | F16: ='JUN 2029 Metered Gen'!$L16 -> 21.98 | G16: =D16*F16 -> 83.270385 | H16: =E16*F16*(-1) -> -117.1534
B17: ='JUN 2029 Metered Gen'!$B17 -> 14 | C17: ='JUN 2029 Metered Gen'!$C17 -> HLH | D17: =IF(C17="HLH",$V$8/COUNTIF($C$4:$C$747, "HLH"), $V$9/COUNTIF($C$4:$C$747, "LLH")) -> 3.7884615 | E17: ='JUN 2029 Metered Gen'!$D17 -> 5.34 | F17: ='JUN 2029 Metered Gen'!$L17 -> 20.702 | G17: =D17*F17 -> 78.428731 | H17: =E17*F17*(-1) -> -110.54868 | M17: Forced Outage Rating | N17: 0.05
B18: ='JUN 2029 Metered Gen'!$B18 -> 15 | C18: ='JUN 2029 Metered Gen'!$C18 -> HLH | D18: =IF(C18="HLH",$V$8/COUNTIF($C$4:$C$747, "HLH"), $V$9/COUNTIF($C$4:$C$747, "LLH")) -> 3.7884615 | E18: ='JUN 2029 Metered Gen'!$D18 -> 5.33 | F18: ='JUN 2029 Metered Gen'!$L18 -> 26.282 | G18: =D18*F18 -> 99.568346 | H18: =E18*F18*(-1) -> -140.08306
B19: ='JUN 2029 Metered Gen'!$B19 -> 16 | C19: ='JUN 2029 Metered Gen'!$C19 -> HLH | D19: =IF(C19="HLH",$V$8/COUNTIF($C$4:$C$747, "HLH"), $V$9/COUNTIF($C$4:$C$747, "LLH")) -> 3.7884615 | E19: ='JUN 2029 Metered Gen'!$D19 -> 5.33 | F19: ='JUN 2029 Metered Gen'!$L19 -> 34.466 | G19: =D19*F19 -> 130.57312 | H19: =E19*F19*(-1) -> -183.70378
B20: ='JUN 2029 Metered Gen'!$B20 -> 17 | C20: ='JUN 2029 Metered Gen'!$C20 -> HLH | D20: =IF(C20="HLH",$V$8/COUNTIF($C$4:$C$747, "HLH"), $V$9/COUNTIF($C$4:$C$747, "LLH")) -> 3.7884615 | E20: ='JUN 2029 Metered Gen'!$D20 -> 5.34 | F20: ='JUN 2029 Metered Gen'!$L20 -> 30.974 | G20: =D20*F20 -> 117.34381 | H20: =E20*F20*(-1) -> -165.40116
B21: ='JUN 2029 Metered Gen'!$B21 -> 18 | C21: ='JUN 2029 Metered Gen'!$C21 -> HLH | D21: =IF(C21="HLH",$V$8/COUNTIF($C$4:$C$747, "HLH"), $V$9/COUNTIF($C$4:$C$747, "LLH")) -> 3.7884615 | E21: ='JUN 2029 Metered Gen'!$D21 -> 5.33 | F21: ='JUN 2029 Metered Gen'!$L21 -> 27.53 | G21: =D21*F21 -> 104.29635 | H21: =E21*F21*(-1) -> -146.7349 | M21: RSS FORS-Based Fee (FORS Rating * MW * Embedded Capacity) | N21: =N17*V7/COUNT(B4:B800)*'Capacity Rate'!D12*1000 -> 361.83889
B22: ='JUN 2029 Metered Gen'!$B22 -> 19 | C22: ='JUN 2029 Metered Gen'!$C22 -> HLH | D22: =IF(C22="HLH",$V$8/COUNTIF($C$4:$C$747, "HLH"), $V$9/COUNTIF($C$4:$C$747, "LLH")) -> 3.7884615 | E22: ='JUN 2029 Metered Gen'!$D22 -> 5.34 | F22: ='JUN 2029 Metered Gen'!$L22 -> 29.261 | G22: =D22*F22 -> 110.85417 | H22: =E22*F22*(-1) -> -156.25374
B23: ='JUN 2029 Metered Gen'!$B23 -> 20 | C23: ='JUN 2029 Metered Gen'!$C23 -> HLH | D23: =IF(C23="HLH",$V$8/COUNTIF($C$4:$C$747, "HLH"), $V$9/COUNTIF($C$4:$C$747, "LLH")) -> 3.7884615 | E23: ='JUN 2029 Metered Gen'!$D23 -> 5.34 | F23: ='JUN 2029 Metered Gen'!$L23 -> 28.339 | G23: =D23*F23 -> 107.36121 | H23: =E23*F23*(-1) -> -151.33026
B24: ='JUN 2029 Metered Gen'!$B24 -> 21 | C24: ='JUN 2029 Metered Gen'!$C24 -> HLH | D24: =IF(C24="HLH",$V$8/COUNTIF($C$4:$C$747, "HLH"), $V$9/COUNTIF($C$4:$C$747, "LLH")) -> 3.7884615 | E24: ='JUN 2029 Metered Gen'!$D24 -> 5.34 | F24: ='JUN 2029 Metered Gen'!$L24 -> 28.326 | G24: =D24*F24 -> 107.31196 | H24: =E24*F24*(-1) -> -151.26084
B25: ='JUN 2029 Metered Gen'!$B25 -> 22 | C25: ='JUN 2029 Metered Gen'!$C25 -> HLH | D25: =IF(C25="HLH",$V$8/COUNTIF($C$4:$C$747, "HLH"), $V$9/COUNTIF($C$4:$C$747, "LLH")) -> 3.7884615 | E25: ='JUN 2029 Metered Gen'!$D25 -> 5.34 | F25: ='JUN 2029 Metered Gen'!$L25 -> 29.13 | G25: =D25*F25 -> 110.35788 | H25: =E25*F25*(-1) -> -155.5542
B26: ='JUN 2029 Metered Gen'!$B26 -> 23 | C26: ='JUN 2029 Metered Gen'!$C26 -> LLH | D26: =IF(C26="HLH",$V$8/COUNTIF($C$4:$C$747, "HLH"), $V$9/COUNTIF($C$4:$C$747, "LLH")) -> 3.7894737 | E26: ='JUN 2029 Metered Gen'!$D26 -> 5.33 | F26: ='JUN 2029 Metered Gen'!$L26 -> 28.003 | G26: =D26*F26 -> 106.11663 | H26: =E26*F26*(-1) -> -149.25599
B27: ='JUN 2029 Metered Gen'!$B27 -> 24 | C27: ='JUN 2029 Metered Gen'!$C27 -> LLH | D27: =IF(C27="HLH",$V$8/COUNTIF($C$4:$C$747, "HLH"), $V$9/COUNTIF($C$4:$C$747, "LLH")) -> 3.7894737 | E27: ='JUN 2029 Metered Gen'!$D27 -> 5.34 | F27: ='JUN 2029 Metered Gen'!$L27 -> 26.678 | G27: =D27*F27 -> 101.09558 | H27: =E27*F27*(-1) -> -142.46052
B28: ='JUN 2029 Metered Gen'!$B28 -> 25 | C28: ='JUN 2029 Metered Gen'!$C28 -> LLH | D28: =IF(C28="HLH",$V$8/COUNTIF($C$4:$C$747, "HLH"), $V$9/COUNTIF($C$4:$C$747, "LLH")) -> 3.7894737 | E28: ='JUN 2029 Metered Gen'!$D28 -> 5.34 | F28: ='JUN 2029 Metered Gen'!$L28 -> 26.705 | G28: =D28*F28 -> 101.19789 | H28: =E28*F28*(-1) -> -142.6047
B29: ='JUN 2029 Metered Gen'!$B29 -> 26 | C29: ='JUN 2029 Metered Gen'!$C29 -> LLH | D29: =IF(C29="HLH",$V$8/COUNTIF($C$4:$C$747, "HLH"), $V$9/COUNTIF($C$4:$C$747, "LLH")) -> 3.7894737 | E29: ='JUN 2029 Metered Gen'!$D29 -> 5.34 | F29: ='JUN 2029 Metered Gen'!$L29 -> 25.828 | G29: =D29*F29 -> 97.874526 | H29: =E29*F29*(-1) -> -137.92152
B30: ='JUN 2029 Metered Gen'!$B30 -> 27 | C30: ='JUN 2029 Metered Gen'!$C30 -> LLH | D30: =IF(C30="HLH",$V$8/COUNTIF($C$4:$C$747, "HLH"), $V$9/COUNTIF($C$4:$C$747, "LLH")) -> 3.7894737 | E30: ='JUN 2029 Metered Gen'!$D30 -> 5.34 | F30: ='JUN 2029 Metered Gen'!$L30 -> 24.622 | G30: =D30*F30 -> 93.304421 | H30: =E30*F30*(-1) -> -131.48148
B31: ='JUN 2029 Metered Gen'!$B31 -> 28 | C31: ='JUN 2029 Metered Gen'!$C31 -> LLH | D31: =IF(C31="HLH",$V$8/COUNTIF($C$4:$C$747, "HLH"), $V$9/COUNTIF($C$4:$C$747, "LLH")) -> 3.7894737 | E31: ='JUN 2029 Metered Gen'!$D31 -> 5.32 | F31: ='JUN 2029 Metered Gen'!$L31 -> 26.335 | G31: =D31*F31 -> 99.795789 | H31: =E31*F31*(-1) -> -140.1022
B32: ='JUN 2029 Metered Gen'!$B32 -> 29 | C32: ='JUN 2029 Metered Gen'!$C32 -> LLH | D32: =IF(C32="HLH",$V$8/COUNTIF($C$4:$C$747, "HLH"), $V$9/COUNTIF($C$4:$C$747, "LLH")) -> 3.7894737 | E32: ='JUN 2029 Metered Gen'!$D32 -> 5.32 | F32: ='JUN 2029 Metered Gen'!$L32 -> 31.073 | G32: =D32*F32 -> 117.75032 | H32: =E32*F32*(-1) -> -165.30836
B33: ='JUN 2029 Metered Gen'!$B33 -> 30 | C33: ='JUN 2029 Metered Gen'!$C33 -> LLH | D33: =IF(C33="HLH",$V$8/COUNTIF($C$4:$C$747, "HLH"), $V$9/COUNTIF($C$4:$C$747, "LLH")) -> 3.7894737 | E33: ='JUN 2029 Metered Gen'!$D33 -> 5.32 | F33: ='JUN 2029 Metered Gen'!$L33 -> 33.488 | G33: =D33*F33 -> 126.90189 | H33: =E33*F33*(-1) -> -178.15616
... B723: ='JUN 2029 Metered Gen'!$B723 -> 720 | C723: ='JUN 2029 Metered Gen'!$C723 -> LLH | D723: =IF(C723="HLH",$V$8/COUNTIF($C$4:$C$747, "HLH"), $V$9/COUNTIF($C$4:$C$747, "LLH")) -> 3.7894737 | E723: ='JUN 2029 Metered Gen'!$D723 -> 3.14 | F723: ='JUN 2029 Metered Gen'!$L723 -> 32.833 | G723: =D723*F723 -> 124.41979 | H723: =E723*F723*(-1) -> -103.09562

Sheet SolarA (Dec)
B1: RSS Cost & Credits, Exhibit A Contractual Obligations (DEC FY29)
B3: Hour in Series | C3: Diurnal Category | D3: Exhibit-A MWh (Flat) | E3: Actual Metered | F3: Market | G3: Energy Charges | H3: Energy Credits
B4: ='DEC 2028 Metered Gen'!$B4 -> 1 | C4: ='DEC 2028 Metered Gen'!$C4 -> LLH | D4: =IF(C4="HLH",$P$8/COUNTIF($C$4:$C$747, "HLH"), $P$9/COUNTIF($C$4:$C$747, "LLH")) -> 0.084302326 | E4: ='DEC 2028 Metered Gen'!$E4 -> 0 | F4: ='DEC 2028 Metered Gen'!$L4 -> 40.525 | G4: =D4*F4 -> 3.4163517 | H4: =E4*F4*(-1) -> 0 | M4: Exhibit A Specified Resource Amounts (SolarA)
B5: ='DEC 2028 Metered Gen'!$B5 -> 2 | C5: ='DEC 2028 Metered Gen'!$C5 -> LLH | D5: =IF(C5="HLH",$P$8/COUNTIF($C$4:$C$747, "HLH"), $P$9/COUNTIF($C$4:$C$747, "LLH")) -> 0.084302326 | E5: ='DEC 2028 Metered Gen'!$E5 -> 0 | F5: ='DEC 2028 Metered Gen'!$L5 -> 40.616 | G5: =D5*F5 -> 3.4240233 | H5: =E5*F5*(-1) -> 0 | N5: Oct | O5: Nov | P5: Dec | Q5: Jan | R5: Feb | S5: Mar | T5: Apr | U5: May | V5: Jun | W5: Jul | X5: Aug | Y5: Sep | Z5: annual aMW
B6: ='DEC 2028 Metered Gen'!$B6 -> 3 | C6: ='DEC 2028 Metered Gen'!$C6 -> LLH | D6: =IF(C6="HLH",$P$8/COUNTIF($C$4:$C$747, "HLH"), $P$9/COUNTIF($C$4:$C$747, "LLH")) -> 0.084302326 | E6: ='DEC 2028 Metered Gen'!$E6 -> 0 | F6: ='DEC 2028 Metered Gen'!$L6 -> 37.251 | G6: =D6*F6 -> 3.1403459 | H6: =E6*F6*(-1) -> 0 | M6: Fiscal Year 2029
B7: ='DEC 2028 Metered Gen'!$B7 -> 4 | C7: ='DEC 2028 Metered Gen'!$C7 -> LLH | D7: =IF(C7="HLH",$P$8/COUNTIF($C$4:$C$747, "HLH"), $P$9/COUNTIF($C$4:$C$747, "LLH")) -> 0.084302326 | E7: ='DEC 2028 Metered Gen'!$E7 -> 0 | F7: ='DEC 2028 Metered Gen'!$L7 -> 37.81 | G7: =D7*F7 -> 3.1874709 | H7: =E7*F7*(-1) -> 0 | M7: Total (MWh) | N7: 361 | O7: 196 | P7: 148 | Q7: 155 | R7: 267 | S7: 416 | T7: 537 | U7: 609 | V7: 631 | W7: 667 | X7: 618 | Y7: 496 | Z7: 0.582
B8: ='DEC 2028 Metered Gen'!$B8 -> 5 | C8: ='DEC 2028 Metered Gen'!$C8 -> LLH | D8: =IF(C8="HLH",$P$8/COUNTIF($C$4:$C$747, "HLH"), $P$9/COUNTIF($C$4:$C$747, "LLH")) -> 0.084302326 | E8: ='DEC 2028 Metered Gen'!$E8 -> 0 | F8: ='DEC 2028 Metered Gen'!$L8 -> 36.164 | G8: =D8*F8 -> 3.0487093 | H8: =E8*F8*(-1) -> 0 | M8: HLH (MWh) | N8: 303 | O8: 163 | P8: 119 | Q8: 130 | R8: 229 | S8: 362 | T8: 448 | U8: 511 | V8: 547 | W8: 538 | X8: 538 | Y8: 396 | Z8: 0.875
B9: ='DEC 2028 Metered Gen'!$B9 -> 6 | C9: ='DEC 2028 Metered Gen'!$C9 -> LLH | D9: =IF(C9="HLH",$P$8/COUNTIF($C$4:$C$747, "HLH"), $P$9/COUNTIF($C$4:$C$747, "LLH")) -> 0.084302326 | E9: ='DEC 2028 Metered Gen'!$E9 -> 0 | F9: ='DEC 2028 Metered Gen'!$L9 -> 39.391 | G9: =D9*F9 -> 3.3207529 | H9: =E9*F9*(-1) -> 0 | M9: LLH (MWh) | N9: 58 | O9: 34 | P9: 29 | Q9: 25 | R9: 38 | S9: 54 | T9: 89 | U9: 98 | V9: 84 | W9: 129 | X9: 80 | Y9: 100 | Z9: 0.211
B10: ='DEC 2028 Metered Gen'!$B10 -> 7 | C10: ='DEC 2028 Metered Gen'!$C10 -> HLH | D10: =IF(C10="HLH",$P$8/COUNTIF($C$4:$C$747, "HLH"), $P$9/COUNTIF($C$4:$C$747, "LLH")) -> 0.2975 | E10: ='DEC 2028 Metered Gen'!$E10 -> 0 | F10: ='DEC 2028 Metered Gen'!$L10 -> 41.121 | G10: =D10*F10 -> 12.233498 | H10: =E10*F10*(-1) -> 0 | M10: Peak (MW) | N10: 0 | O10: 0 | P10: 0.3 | Q10: 0 | R10: 0.5 | S10: 0.2 | T10: 0.2 | U10: 0.2 | V10: 2.2 | W10: 1.3 | X10: 1.1 | Y10: 0.7 | Z10: N/A
B11: ='DEC 2028 Metered Gen'!$B11 -> 8 | C11: ='DEC 2028 Metered Gen'!$C11 -> HLH | D11: =IF(C11="HLH",$P$8/COUNTIF($C$4:$C$747, "HLH"), $P$9/COUNTIF($C$4:$C$747, "LLH")) -> 0.2975 | E11: ='DEC 2028 Metered Gen'!$E11 -> 0 | F11: ='DEC 2028 Metered Gen'!$L11 -> 42.647 | G11: =D11*F11 -> 12.687482 | H11: =E11*F11*(-1) -> 0
B12: ='DEC 2028 Metered Gen'!$B12 -> 9 | C12: ='DEC 2028 Metered Gen'!$C12 -> HLH | D12: =IF(C12="HLH",$P$8/COUNTIF($C$4:$C$747, "HLH"), $P$9/COUNTIF($C$4:$C$747, "LLH")) -> 0.2975 | E12: ='DEC 2028 Metered Gen'!$E12 -> 0.05 | F12: ='DEC 2028 Metered Gen'!$L12 -> 42.495 | G12: =D12*F12 -> 12.642262 | H12: =E12*F12*(-1) -> -2.12475 | M12: Energy Charges | N12: =SUM(G:G) -> 5120.7374
B13: ='DEC 2028 Metered Gen'!$B13 -> 10 | C13: ='DEC 2028 Metered Gen'!$C13 -> HLH | D13: =IF(C13="HLH",$P$8/COUNTIF($C$4:$C$747, "HLH"), $P$9/COUNTIF($C$4:$C$747, "LLH")) -> 0.2975 | E13: ='DEC 2028 Metered Gen'!$E13 -> 0.13 | F13: ='DEC 2028 Metered Gen'!$L13 -> 46.782 | G13: =D13*F13 -> 13.917645 | H13: =E13*F13*(-1) -> -6.08166 | M13: Energy Credits | N13: =SUM(H:H) -> -2755.0704
B14: ='DEC 2028 Metered Gen'!$B14 -> 11 | C14: ='DEC 2028 Metered Gen'!$C14 -> HLH | D14: =IF(C14="HLH",$P$8/COUNTIF($C$4:$C$747, "HLH"), $P$9/COUNTIF($C$4:$C$747, "LLH")) -> 0.2975 | E14: ='DEC 2028 Metered Gen'!$E14 -> 0.22 | F14: ='DEC 2028 Metered Gen'!$L14 -> 42.815 | G14: =D14*F14 -> 12.737462 | H14: =E14*F14*(-1) -> -9.4193 | M14: Energy Net Charges/Credits | N14: =N12+N13 -> 2365.667
B15: ='DEC 2028 Metered Gen'!$B15 -> 12 | C15: ='DEC 2028 Metered Gen'!$C15 -> HLH | D15: =IF(C15="HLH",$P$8/COUNTIF($C$4:$C$747, "HLH"), $P$9/COUNTIF($C$4:$C$747, "LLH")) -> 0.2975 | E15: ='DEC 2028 Metered Gen'!$E15 -> 0.25 | F15: ='DEC 2028 Metered Gen'!$L15 -> 40.335 | G15: =D15*F15 -> 11.999662 | H15: =E15*F15*(-1) -> -10.08375
B16: ='DEC 2028 Metered Gen'!$B16 -> 13 | C16: ='DEC 2028 Metered Gen'!$C16 -> HLH | D16: =IF(C16="HLH",$P$8/COUNTIF($C$4:$C$747, "HLH"), $P$9/COUNTIF($C$4:$C$747, "LLH")) -> 0.2975 | E16: ='DEC 2028 Metered Gen'!$E16 -> 0.22 | F16: ='DEC 2028 Metered Gen'!$L16 -> 39.773 | G16: =D16*F16 -> 11.832467 | H16: =E16*F16*(-1) -> -8.75006 | M16: Resource QCC Capacity (MW) | N16: =$P$10 -> 0.3
B17: ='DEC 2028 Metered Gen'!$B17 -> 14 | C17: ='DEC 2028 Metered Gen'!$C17 -> HLH | D17: =IF(C17="HLH",$P$8/COUNTIF($C$4:$C$747, "HLH"), $P$9/COUNTIF($C$4:$C$747, "LLH")) -> 0.2975 | E17: ='DEC 2028 Metered Gen'!$E17 -> 0.2 | F17: ='DEC 2028 Metered Gen'!$L17 -> 37.972 | G17: =D17*F17 -> 11.29667 | H17: =E17*F17*(-1) -> -7.5944 | M17: Forced Outage Rating | N17: 0
B18: ='DEC 2028 Metered Gen'!$B18 -> 15 | C18: ='DEC 2028 Metered Gen'!$C18 -> HLH | D18: =IF(C18="HLH",$P$8/COUNTIF($C$4:$C$747, "HLH"), $P$9/COUNTIF($C$4:$C$747, "LLH")) -> 0.2975 | E18: ='DEC 2028 Metered Gen'!$E18 -> 0.11 | F18: ='DEC 2028 Metered Gen'!$L18 -> 38.644 | G18: =D18*F18 -> 11.49659 | H18: =E18*F18*(-1) -> -4.25084 | M18: BPA Capacity Obligation (MW) | N18: =P7/COUNT(B4:B800)-N16 -> -0.10107527
B19: ='DEC 2028 Metered Gen'!$B19 -> 16 | C19: ='DEC 2028 Metered Gen'!$C19 -> HLH | D19: =IF(C19="HLH",$P$8/COUNTIF($C$4:$C$747, "HLH"), $P$9/COUNTIF($C$4:$C$747, "LLH")) -> 0.2975 | E19: ='DEC 2028 Metered Gen'!$E19 -> 0.03 | F19: ='DEC 2028 Metered Gen'!$L19 -> 39.681 | G19: =D19*F19 -> 11.805097 | H19: =E19*F19*(-1) -> -1.19043 | M19: Additional Capacity (Forced Outage) | N19: =N16*N17 -> 0
B20: ='DEC 2028 Metered Gen'!$B20 -> 17 | C20: ='DEC 2028 Metered Gen'!$C20 -> HLH | D20: =IF(C20="HLH",$P$8/COUNTIF($C$4:$C$747, "HLH"), $P$9/COUNTIF($C$4:$C$747, "LLH")) -> 0.2975 | E20: ='DEC 2028 Metered Gen'!$E20 -> 0 | F20: ='DEC 2028 Metered Gen'!$L20 -> 39.409 | G20: =D20*F20 -> 11.724177 | H20: =E20*F20*(-1) -> 0
B21: ='DEC 2028 Metered Gen'!$B21 -> 18 | C21: ='DEC 2028 Metered Gen'!$C21 -> HLH | D21: =IF(C21="HLH",$P$8/COUNTIF($C$4:$C$747, "HLH"), $P$9/COUNTIF($C$4:$C$747, "LLH")) -> 0.2975 | E21: ='DEC 2028 Metered Gen'!$E21 -> 0 | F21: ='DEC 2028 Metered Gen'!$L21 -> 42.864 | G21: =D21*F21 -> 12.75204 | H21: =E21*F21*(-1) -> 0 | M21: RSS Capacity Charge (Obligation * Embedded Capacity) | N21: =(N18+N19)*'Capacity Rate'!D6*1000 -> -609.48387
B22: ='DEC 2028 Metered Gen'!$B22 -> 19 | C22: ='DEC 2028 Metered Gen'!$C22 -> HLH | D22: =IF(C22="HLH",$P$8/COUNTIF($C$4:$C$747, "HLH"), $P$9/COUNTIF($C$4:$C$747, "LLH")) -> 0.2975 | E22: ='DEC 2028 Metered Gen'!$E22 -> 0 | F22: ='DEC 2028 Metered Gen'!$L22 -> 44.312 | G22: =D22*F22 -> 13.18282 | H22: =E22*F22*(-1) -> 0
B23: ='DEC 2028 Metered Gen'!$B23 -> 20 | C23: ='DEC 2028 Metered Gen'!$C23 -> HLH | D23: =IF(C23="HLH",$P$8/COUNTIF($C$4:$C$747, "HLH"), $P$9/COUNTIF($C$4:$C$747, "LLH")) -> 0.2975 | E23: ='DEC 2028 Metered Gen'!$E23 -> 0 | F23: ='DEC 2028 Metered Gen'!$L23 -> 50.382 | G23: =D23*F23 -> 14.988645 | H23: =E23*F23*(-1) -> 0
B24: ='DEC 2028 Metered Gen'!$B24 -> 21 | C24: ='DEC 2028 Metered Gen'!$C24 -> HLH | D24: =IF(C24="HLH",$P$8/COUNTIF($C$4:$C$747, "HLH"), $P$9/COUNTIF($C$4:$C$747, "LLH")) -> 0.2975 | E24: ='DEC 2028 Metered Gen'!$E24 -> 0 | F24: ='DEC 2028 Metered Gen'!$L24 -> 51.791 | G24: =D24*F24 -> 15.407822 | H24: =E24*F24*(-1) -> 0
B25: ='DEC 2028 Metered Gen'!$B25 -> 22 | C25: ='DEC 2028 Metered Gen'!$C25 -> HLH | D25: =IF(C25="HLH",$P$8/COUNTIF($C$4:$C$747, "HLH"), $P$9/COUNTIF($C$4:$C$747, "LLH")) -> 0.2975 | E25: ='DEC 2028 Metered Gen'!$E25 -> 0 | F25: ='DEC 2028 Metered Gen'!$L25 -> 42.278 | G25: =D25*F25 -> 12.577705 | H25: =E25*F25*(-1) -> 0
B26: ='DEC 2028 Metered Gen'!$B26 -> 23 | C26: ='DEC 2028 Metered Gen'!$C26 -> LLH | D26: =IF(C26="HLH",$P$8/COUNTIF($C$4:$C$747, "HLH"), $P$9/COUNTIF($C$4:$C$747, "LLH")) -> 0.084302326 | E26: ='DEC 2028 Metered Gen'!$E26 -> 0 | F26: ='DEC 2028 Metered Gen'!$L26 -> 43.26 | G26: =D26*F26 -> 3.6469186 | H26: =E26*F26*(-1) -> 0
B27: ='DEC 2028 Metered Gen'!$B27 -> 24 | C27: ='DEC 2028 Metered Gen'!$C27 -> LLH | D27: =IF(C27="HLH",$P$8/COUNTIF($C$4:$C$747, "HLH"), $P$9/COUNTIF($C$4:$C$747, "LLH")) -> 0.084302326 | E27: ='DEC 2028 Metered Gen'!$E27 -> 0 | F27: ='DEC 2028 Metered Gen'!$L27 -> 40.711 | G27: =D27*F27 -> 3.432032 | H27: =E27*F27*(-1) -> 0
B28: ='DEC 2028 Metered Gen'!$B28 -> 25 | C28: ='DEC 2028 Metered Gen'!$C28 -> LLH | D28: =IF(C28="HLH",$P$8/COUNTIF($C$4:$C$747, "HLH"), $P$9/COUNTIF($C$4:$C$747, "LLH")) -> 0.084302326 | E28: ='DEC 2028 Metered Gen'!$E28 -> 0 | F28: ='DEC 2028 Metered Gen'!$L28 -> 42.374 | G28: =D28*F28 -> 3.5722267 | H28: =E28*F28*(-1) -> 0
B29: ='DEC 2028 Metered Gen'!$B29 -> 26 | C29: ='DEC 2028 Metered Gen'!$C29 -> LLH | D29: =IF(C29="HLH",$P$8/COUNTIF($C$4:$C$747, "HLH"), $P$9/COUNTIF($C$4:$C$747, "LLH")) -> 0.084302326 | E29: ='DEC 2028 Metered Gen'!$E29 -> 0 | F29: ='DEC 2028 Metered Gen'!$L29 -> 43.466 | G29: =D29*F29 -> 3.6642849 | H29: =E29*F29*(-1) -> 0
B30: ='DEC 2028 Metered Gen'!$B30 -> 27 | C30: ='DEC 2028 Metered Gen'!$C30 -> LLH | D30: =IF(C30="HLH",$P$8/COUNTIF($C$4:$C$747, "HLH"), $P$9/COUNTIF($C$4:$C$747, "LLH")) -> 0.084302326 | E30: ='DEC 2028 Metered Gen'!$E30 -> 0 | F30: ='DEC 2028 Metered Gen'!$L30 -> 43.87 | G30: =D30*F30 -> 3.698343 | H30: =E30*F30*(-1) -> 0
B31: ='DEC 2028 Metered Gen'!$B31 -> 28 | C31: ='DEC 2028 Metered Gen'!$C31 -> LLH | D31: =IF(C31="HLH",$P$8/COUNTIF($C$4:$C$747, "HLH"), $P$9/COUNTIF($C$4:$C$747, "LLH")) -> 0.084302326 | E31: ='DEC 2028 Metered Gen'!$E31 -> 0 | F31: ='DEC 2028 Metered Gen'!$L31 -> 42.678 | G31: =D31*F31 -> 3.5978547 | H31: =E31*F31*(-1) -> 0
B32: ='DEC 2028 Metered Gen'!$B32 -> 29 | C32: ='DEC 2028 Metered Gen'!$C32 -> LLH | D32: =IF(C32="HLH",$P$8/COUNTIF($C$4:$C$747, "HLH"), $P$9/COUNTIF($C$4:$C$747, "LLH")) -> 0.084302326 | E32: ='DEC 2028 Metered Gen'!$E32 -> 0 | F32: ='DEC 2028 Metered Gen'!$L32 -> 43.748 | G32: =D32*F32 -> 3.6880581 | H32: =E32*F32*(-1) -> 0
B33: ='DEC 2028 Metered Gen'!$B33 -> 30 | C33: ='DEC 2028 Metered Gen'!$C33 -> LLH | D33: =IF(C33="HLH",$P$8/COUNTIF($C$4:$C$747, "HLH"), $P$9/COUNTIF($C$4:$C$747, "LLH")) -> 0.084302326 | E33: ='DEC 2028 Metered Gen'!$E33 -> 0 | F33: ='DEC 2028 Metered Gen'!$L33 -> 41.226 | G33: =D33*F33 -> 3.4754477 | H33: =E33*F33*(-1) -> 0
... B747: ='DEC 2028 Metered Gen'!$B747 -> 744 | C747: ='DEC 2028 Metered Gen'!$C747 -> LLH | D747: =IF(C747="HLH",$P$8/COUNTIF($C$4:$C$747, "HLH"), $P$9/COUNTIF($C$4:$C$747, "LLH")) -> 0.084302326 | E747: ='DEC 2028 Metered Gen'!$E747 -> 0 | F747: ='DEC 2028 Metered Gen'!$L747 -> 31.991 | G747: =D747*F747 -> 2.6969157 | H747: =E747*F747*(-1) -> 0

Sheet SolarA (Jun)
B1: RSS Cost & Credits, Exhibit A Contractual Obligations (JUN FY29)
B3: Hour in Series | C3: Diurnal Category | D3: Exhibit-A MWh (Flat) | E3: Actual Metered | F3: Market | G3: Energy Charges | H3: Energy Credits
B4: ='JUN 2029 Metered Gen'!$B4 -> 1 | C4: ='JUN 2029 Metered Gen'!$C4 -> LLH | D4: =IF(C4="HLH",$V$8/COUNTIF($C$4:$C$747, "HLH"), $V$9/COUNTIF($C$4:$C$747, "LLH")) -> 0.27631579 | E4: ='JUN 2029 Metered Gen'!$E4 -> 0 | F4: ='JUN 2029 Metered Gen'!$L4 -> 25.032 | G4: =D4*F4 -> 6.9167368 | H4: =E4*F4*(-1) -> 0 | M4: Exhibit A Specified Resource Amounts (SolarA)
B5: ='JUN 2029 Metered Gen'!$B5 -> 2 | C5: ='JUN 2029 Metered Gen'!$C5 -> LLH | D5: =IF(C5="HLH",$V$8/COUNTIF($C$4:$C$747, "HLH"), $V$9/COUNTIF($C$4:$C$747, "LLH")) -> 0.27631579 | E5: ='JUN 2029 Metered Gen'!$E5 -> 0 | F5: ='JUN 2029 Metered Gen'!$L5 -> 26.272 | G5: =D5*F5 -> 7.2593684 | H5: =E5*F5*(-1) -> 0 | N5: Oct | O5: Nov | P5: Dec | Q5: Jan | R5: Feb | S5: Mar | T5: Apr | U5: May | V5: Jun | W5: Jul | X5: Aug | Y5: Sep | Z5: annual aMW
B6: ='JUN 2029 Metered Gen'!$B6 -> 3 | C6: ='JUN 2029 Metered Gen'!$C6 -> LLH | D6: =IF(C6="HLH",$V$8/COUNTIF($C$4:$C$747, "HLH"), $V$9/COUNTIF($C$4:$C$747, "LLH")) -> 0.27631579 | E6: ='JUN 2029 Metered Gen'!$E6 -> 0 | F6: ='JUN 2029 Metered Gen'!$L6 -> 26.922 | G6: =D6*F6 -> 7.4389737 | H6: =E6*F6*(-1) -> 0 | M6: Fiscal Year 2029
B7: ='JUN 2029 Metered Gen'!$B7 -> 4 | C7: ='JUN 2029 Metered Gen'!$C7 -> LLH | D7: =IF(C7="HLH",$V$8/COUNTIF($C$4:$C$747, "HLH"), $V$9/COUNTIF($C$4:$C$747, "LLH")) -> 0.27631579 | E7: ='JUN 2029 Metered Gen'!$E7 -> 0 | F7: ='JUN 2029 Metered Gen'!$L7 -> 27.18 | G7: =D7*F7 -> 7.5102632 | H7: =E7*F7*(-1) -> 0 | M7: Total (MWh) | N7: 361 | O7: 196 | P7: 148 | Q7: 155 | R7: 267 | S7: 416 | T7: 537 | U7: 609 | V7: 631 | W7: 667 | X7: 618 | Y7: 496 | Z7: 0.582
B8: ='JUN 2029 Metered Gen'!$B8 -> 5 | C8: ='JUN 2029 Metered Gen'!$C8 -> LLH | D8: =IF(C8="HLH",$V$8/COUNTIF($C$4:$C$747, "HLH"), $V$9/COUNTIF($C$4:$C$747, "LLH")) -> 0.27631579 | E8: ='JUN 2029 Metered Gen'!$E8 -> 0 | F8: ='JUN 2029 Metered Gen'!$L8 -> 27.513 | G8: =D8*F8 -> 7.6022763 | H8: =E8*F8*(-1) -> 0 | M8: HLH (MWh) | N8: 303 | O8: 163 | P8: 119 | Q8: 130 | R8: 229 | S8: 362 | T8: 448 | U8: 511 | V8: 547 | W8: 538 | X8: 538 | Y8: 396 | Z8: 0.875
B9: ='JUN 2029 Metered Gen'!$B9 -> 6 | C9: ='JUN 2029 Metered Gen'!$C9 -> LLH | D9: =IF(C9="HLH",$V$8/COUNTIF($C$4:$C$747, "HLH"), $V$9/COUNTIF($C$4:$C$747, "LLH")) -> 0.27631579 | E9: ='JUN 2029 Metered Gen'!$E9 -> 0.04 | F9: ='JUN 2029 Metered Gen'!$L9 -> 26.751 | G9: =D9*F9 -> 7.3917237 | H9: =E9*F9*(-1) -> -1.07004 | M9: LLH (MWh) | N9: 58 | O9: 34 | P9: 29 | Q9: 25 | R9: 38 | S9: 54 | T9: 89 | U9: 98 | V9: 84 | W9: 129 | X9: 80 | Y9: 100 | Z9: 0.211
B10: ='JUN 2029 Metered Gen'!$B10 -> 7 | C10: ='JUN 2029 Metered Gen'!$C10 -> HLH | D10: =IF(C10="HLH",$V$8/COUNTIF($C$4:$C$747, "HLH"), $V$9/COUNTIF($C$4:$C$747, "LLH")) -> 1.3149038 | E10: ='JUN 2029 Metered Gen'!$E10 -> 0.22 | F10: ='JUN 2029 Metered Gen'!$L10 -> 21.959 | G10: =D10*F10 -> 28.873974 | H10: =E10*F10*(-1) -> -4.83098 | M10: Peak (MW) | N10: 0 | O10: 0 | P10: 0.3 | Q10: 0 | R10: 0.5 | S10: 0.2 | T10: 0.2 | U10: 0.2 | V10: 2.2 | W10: 1.3 | X10: 1.1 | Y10: 0.7 | Z10: N/A
B11: ='JUN 2029 Metered Gen'!$B11 -> 8 | C11: ='JUN 2029 Metered Gen'!$C11 -> HLH | D11: =IF(C11="HLH",$V$8/COUNTIF($C$4:$C$747, "HLH"), $V$9/COUNTIF($C$4:$C$747, "LLH")) -> 1.3149038 | E11: ='JUN 2029 Metered Gen'!$E11 -> 0.6 | F11: ='JUN 2029 Metered Gen'!$L11 -> 21.648 | G11: =D11*F11 -> 28.465038 | H11: =E11*F11*(-1) -> -12.9888
B12: ='JUN 2029 Metered Gen'!$B12 -> 9 | C12: ='JUN 2029 Metered Gen'!$C12 -> HLH | D12: =IF(C12="HLH",$V$8/COUNTIF($C$4:$C$747, "HLH"), $V$9/COUNTIF($C$4:$C$747, "LLH")) -> 1.3149038 | E12: ='JUN 2029 Metered Gen'!$E12 -> 1.25 | F12: ='JUN 2029 Metered Gen'!$L12 -> 24.361 | G12: =D12*F12 -> 32.032373 | H12: =E12*F12*(-1) -> -30.45125 | M12: Energy Charges | N12: =SUM(G:G) -> 20476.276
B13: ='JUN 2029 Metered Gen'!$B13 -> 10 | C13: ='JUN 2029 Metered Gen'!$C13 -> HLH | D13: =IF(C13="HLH",$V$8/COUNTIF($C$4:$C$747, "HLH"), $V$9/COUNTIF($C$4:$C$747, "LLH")) -> 1.3149038 | E13: ='JUN 2029 Metered Gen'!$E13 -> 1.78 | F13: ='JUN 2029 Metered Gen'!$L13 -> 26.351 | G13: =D13*F13 -> 34.649031 | H13: =E13*F13*(-1) -> -46.90478 | M13: Energy Credits | N13: =SUM(H:H) -> -20484.438
B14: ='JUN 2029 Metered Gen'!$B14 -> 11 | C14: ='JUN 2029 Metered Gen'!$C14 -> HLH | D14: =IF(C14="HLH",$V$8/COUNTIF($C$4:$C$747, "HLH"), $V$9/COUNTIF($C$4:$C$747, "LLH")) -> 1.3149038 | E14: ='JUN 2029 Metered Gen'!$E14 -> 2.29 | F14: ='JUN 2029 Metered Gen'!$L14 -> 21.516 | G14: =D14*F14 -> 28.291471 | H14: =E14*F14*(-1) -> -49.27164 | M14: Energy Net Charges/Credits | N14: =N12+N13 -> -8.1620503
B15: ='JUN 2029 Metered Gen'!$B15 -> 12 | C15: ='JUN 2029 Metered Gen'!$C15 -> HLH | D15: =IF(C15="HLH",$V$8/COUNTIF($C$4:$C$747, "HLH"), $V$9/COUNTIF($C$4:$C$747, "LLH")) -> 1.3149038 | E15: ='JUN 2029 Metered Gen'!$E15 -> 2.51 | F15: ='JUN 2029 Metered Gen'!$L15 -> 21.273 | G15: =D15*F15 -> 27.97195 | H15: =E15*F15*(-1) -> -53.39523
B16: ='JUN 2029 Metered Gen'!$B16 -> 13 | C16: ='JUN 2029 Metered Gen'!$C16 -> HLH | D16: =IF(C16="HLH",$V$8/COUNTIF($C$4:$C$747, "HLH"), $V$9/COUNTIF($C$4:$C$747, "LLH")) -> 1.3149038 | E16: ='JUN 2029 Metered Gen'!$E16 -> 2.55 | F16: ='JUN 2029 Metered Gen'!$L16 -> 21.98 | G16: =D16*F16 -> 28.901587 | H16: =E16*F16*(-1) -> -56.049 | M16: Resource QCC Capacity (MW) | N16: =$V$10 -> 2.2
B17: ='JUN 2029 Metered Gen'!$B17 -> 14 | C17: ='JUN 2029 Metered Gen'!$C17 -> HLH | D17: =IF(C17="HLH",$V$8/COUNTIF($C$4:$C$747, "HLH"), $V$9/COUNTIF($C$4:$C$747, "LLH")) -> 1.3149038 | E17: ='JUN 2029 Metered Gen'!$E17 -> 2.54 | F17: ='JUN 2029 Metered Gen'!$L17 -> 20.702 | G17: =D17*F17 -> 27.221139 | H17: =E17*F17*(-1) -> -52.58308 | M17: Forced Outage Rating | N17: 0
B18: ='JUN 2029 Metered Gen'!$B18 -> 15 | C18: ='JUN 2029 Metered Gen'!$C18 -> HLH | D18: =IF(C18="HLH",$V$8/COUNTIF($C$4:$C$747, "HLH"), $V$9/COUNTIF($C$4:$C$747, "LLH")) -> 1.3149038 | E18: ='JUN 2029 Metered Gen'!$E18 -> 2.49 | F18: ='JUN 2029 Metered Gen'!$L18 -> 26.282 | G18: =D18*F18 -> 34.558303 | H18: =E18*F18*(-1) -> -65.44218 | M18: BPA Capacity Obligation (MW) | N18: =V7/COUNT(B4:B800)-N16 -> -1.3236111
B19: ='JUN 2029 Metered Gen'!$B19 -> 16 | C19: ='JUN 2029 Metered Gen'!$C19 -> HLH | D19: =IF(C19="HLH",$V$8/COUNTIF($C$4:$C$747, "HLH"), $V$9/COUNTIF($C$4:$C$747, "LLH")) -> 1.3149038 | E19: ='JUN 2029 Metered Gen'!$E19 -> 2.21 | F19: ='JUN 2029 Metered Gen'!$L19 -> 34.466 | G19: =D19*F19 -> 45.319476 | H19: =E19*F19*(-1) -> -76.16986 | M19: Additional Capacity (Forced Outage) | N19: =N16*N17 -> 0
B20: ='JUN 2029 Metered Gen'!$B20 -> 17 | C20: ='JUN 2029 Metered Gen'!$C20 -> HLH | D20: =IF(C20="HLH",$V$8/COUNTIF($C$4:$C$747, "HLH"), $V$9/COUNTIF($C$4:$C$747, "LLH")) -> 1.3149038 | E20: ='JUN 2029 Metered Gen'!$E20 -> 1.67 | F20: ='JUN 2029 Metered Gen'!$L20 -> 30.974 | G20: =D20*F20 -> 40.727832 | H20: =E20*F20*(-1) -> -51.72658
B21: ='JUN 2029 Metered Gen'!$B21 -> 18 | C21: ='JUN 2029 Metered Gen'!$C21 -> HLH | D21: =IF(C21="HLH",$V$8/COUNTIF($C$4:$C$747, "HLH"), $V$9/COUNTIF($C$4:$C$747, "LLH")) -> 1.3149038 | E21: ='JUN 2029 Metered Gen'!$E21 -> 1.11 | F21: ='JUN 2029 Metered Gen'!$L21 -> 27.53 | G21: =D21*F21 -> 36.199303 | H21: =E21*F21*(-1) -> -30.5583 | M21: RSS Capacity Charge (Obligation * Embedded Capacity) | N21: =(N18+N19)*'Capacity Rate'!D12*1000 -> -2528.0972
B22: ='JUN 2029 Metered Gen'!$B22 -> 19 | C22: ='JUN 2029 Metered Gen'!$C22 -> HLH | D22: =IF(C22="HLH",$V$8/COUNTIF($C$4:$C$747, "HLH"), $V$9/COUNTIF($C$4:$C$747, "LLH")) -> 1.3149038 | E22: ='JUN 2029 Metered Gen'!$E22 -> 0.49 | F22: ='JUN 2029 Metered Gen'!$L22 -> 29.261 | G22: =D22*F22 -> 38.475401 | H22: =E22*F22*(-1) -> -14.33789
B23: ='JUN 2029 Metered Gen'!$B23 -> 20 | C23: ='JUN 2029 Metered Gen'!$C23 -> HLH | D23: =IF(C23="HLH",$V$8/COUNTIF($C$4:$C$747, "HLH"), $V$9/COUNTIF($C$4:$C$747, "LLH")) -> 1.3149038 | E23: ='JUN 2029 Metered Gen'!$E23 -> 0.15 | F23: ='JUN 2029 Metered Gen'!$L23 -> 28.339 | G23: =D23*F23 -> 37.26306 | H23: =E23*F23*(-1) -> -4.25085
B24: ='JUN 2029 Metered Gen'!$B24 -> 21 | C24: ='JUN 2029 Metered Gen'!$C24 -> HLH | D24: =IF(C24="HLH",$V$8/COUNTIF($C$4:$C$747, "HLH"), $V$9/COUNTIF($C$4:$C$747, "LLH")) -> 1.3149038 | E24: ='JUN 2029 Metered Gen'!$E24 -> 0.02 | F24: ='JUN 2029 Metered Gen'!$L24 -> 28.326 | G24: =D24*F24 -> 37.245966 | H24: =E24*F24*(-1) -> -0.56652
B25: ='JUN 2029 Metered Gen'!$B25 -> 22 | C25: ='JUN 2029 Metered Gen'!$C25 -> HLH | D25: =IF(C25="HLH",$V$8/COUNTIF($C$4:$C$747, "HLH"), $V$9/COUNTIF($C$4:$C$747, "LLH")) -> 1.3149038 | E25: ='JUN 2029 Metered Gen'!$E25 -> 0 | F25: ='JUN 2029 Metered Gen'!$L25 -> 29.13 | G25: =D25*F25 -> 38.303149 | H25: =E25*F25*(-1) -> 0
B26: ='JUN 2029 Metered Gen'!$B26 -> 23 | C26: ='JUN 2029 Metered Gen'!$C26 -> LLH | D26: =IF(C26="HLH",$V$8/COUNTIF($C$4:$C$747, "HLH"), $V$9/COUNTIF($C$4:$C$747, "LLH")) -> 0.27631579 | E26: ='JUN 2029 Metered Gen'!$E26 -> 0 | F26: ='JUN 2029 Metered Gen'!$L26 -> 28.003 | G26: =D26*F26 -> 7.7376711 | H26: =E26*F26*(-1) -> 0
B27: ='JUN 2029 Metered Gen'!$B27 -> 24 | C27: ='JUN 2029 Metered Gen'!$C27 -> LLH | D27: =IF(C27="HLH",$V$8/COUNTIF($C$4:$C$747, "HLH"), $V$9/COUNTIF($C$4:$C$747, "LLH")) -> 0.27631579 | E27: ='JUN 2029 Metered Gen'!$E27 -> 0 | F27: ='JUN 2029 Metered Gen'!$L27 -> 26.678 | G27: =D27*F27 -> 7.3715526 | H27: =E27*F27*(-1) -> 0
B28: ='JUN 2029 Metered Gen'!$B28 -> 25 | C28: ='JUN 2029 Metered Gen'!$C28 -> LLH | D28: =IF(C28="HLH",$V$8/COUNTIF($C$4:$C$747, "HLH"), $V$9/COUNTIF($C$4:$C$747, "LLH")) -> 0.27631579 | E28: ='JUN 2029 Metered Gen'!$E28 -> 0 | F28: ='JUN 2029 Metered Gen'!$L28 -> 26.705 | G28: =D28*F28 -> 7.3790132 | H28: =E28*F28*(-1) -> 0
B29: ='JUN 2029 Metered Gen'!$B29 -> 26 | C29: ='JUN 2029 Metered Gen'!$C29 -> LLH | D29: =IF(C29="HLH",$V$8/COUNTIF($C$4:$C$747, "HLH"), $V$9/COUNTIF($C$4:$C$747, "LLH")) -> 0.27631579 | E29: ='JUN 2029 Metered Gen'!$E29 -> 0 | F29: ='JUN 2029 Metered Gen'!$L29 -> 25.828 | G29: =D29*F29 -> 7.1366842 | H29: =E29*F29*(-1) -> 0
B30: ='JUN 2029 Metered Gen'!$B30 -> 27 | C30: ='JUN 2029 Metered Gen'!$C30 -> LLH | D30: =IF(C30="HLH",$V$8/COUNTIF($C$4:$C$747, "HLH"), $V$9/COUNTIF($C$4:$C$747, "LLH")) -> 0.27631579 | E30: ='JUN 2029 Metered Gen'!$E30 -> 0 | F30: ='JUN 2029 Metered Gen'!$L30 -> 24.622 | G30: =D30*F30 -> 6.8034474 | H30: =E30*F30*(-1) -> 0
B31: ='JUN 2029 Metered Gen'!$B31 -> 28 | C31: ='JUN 2029 Metered Gen'!$C31 -> LLH | D31: =IF(C31="HLH",$V$8/COUNTIF($C$4:$C$747, "HLH"), $V$9/COUNTIF($C$4:$C$747, "LLH")) -> 0.27631579 | E31: ='JUN 2029 Metered Gen'!$E31 -> 0 | F31: ='JUN 2029 Metered Gen'!$L31 -> 26.335 | G31: =D31*F31 -> 7.2767763 | H31: =E31*F31*(-1) -> 0
B32: ='JUN 2029 Metered Gen'!$B32 -> 29 | C32: ='JUN 2029 Metered Gen'!$C32 -> LLH | D32: =IF(C32="HLH",$V$8/COUNTIF($C$4:$C$747, "HLH"), $V$9/COUNTIF($C$4:$C$747, "LLH")) -> 0.27631579 | E32: ='JUN 2029 Metered Gen'!$E32 -> 0 | F32: ='JUN 2029 Metered Gen'!$L32 -> 31.073 | G32: =D32*F32 -> 8.5859605 | H32: =E32*F32*(-1) -> 0
B33: ='JUN 2029 Metered Gen'!$B33 -> 30 | C33: ='JUN 2029 Metered Gen'!$C33 -> LLH | D33: =IF(C33="HLH",$V$8/COUNTIF($C$4:$C$747, "HLH"), $V$9/COUNTIF($C$4:$C$747, "LLH")) -> 0.27631579 | E33: ='JUN 2029 Metered Gen'!$E33 -> 0.04 | F33: ='JUN 2029 Metered Gen'!$L33 -> 33.488 | G33: =D33*F33 -> 9.2532632 | H33: =E33*F33*(-1) -> -1.33952
... B723: ='JUN 2029 Metered Gen'!$B723 -> 720 | C723: ='JUN 2029 Metered Gen'!$C723 -> LLH | D723: =IF(C723="HLH",$V$8/COUNTIF($C$4:$C$747, "HLH"), $V$9/COUNTIF($C$4:$C$747, "LLH")) -> 0.27631579 | E723: ='JUN 2029 Metered Gen'!$E723 -> 0 | F723: ='JUN 2029 Metered Gen'!$L723 -> 32.833 | G723: =D723*F723 -> 9.0722763 | H723: =E723*F723*(-1) -> 0

Sheet WindA (Dec)
B1: RSS Cost & Credits, Exhibit A Contractual Obligations (DEC FY29)
B3: Hour in Series | C3: Diurnal Category | D3: Exhibit-A MWh (Flat) | E3: Actual Metered | F3: Market | G3: Energy Charges | H3: Energy Credits
B4: ='DEC 2028 Metered Gen'!$B4 -> 1 | C4: ='DEC 2028 Metered Gen'!$C4 -> LLH | D4: =IF(C4="HLH",$P$8/COUNTIF($C$4:$C$747, "HLH"), $P$9/COUNTIF($C$4:$C$747, "LLH")) -> 0.25581395 | E4: ='DEC 2028 Metered Gen'!F4 -> 0 | F4: ='DEC 2028 Metered Gen'!$L4 -> 40.525 | G4: =D4*F4 -> 10.36686 | H4: =E4*F4*(-1) -> 0 | M4: Exhibit A Specified Resource Amounts (WindA)
B5: ='DEC 2028 Metered Gen'!$B5 -> 2 | C5: ='DEC 2028 Metered Gen'!$C5 -> LLH | D5: =IF(C5="HLH",$P$8/COUNTIF($C$4:$C$747, "HLH"), $P$9/COUNTIF($C$4:$C$747, "LLH")) -> 0.25581395 | E5: ='DEC 2028 Metered Gen'!F5 -> 0 | F5: ='DEC 2028 Metered Gen'!$L5 -> 40.616 | G5: =D5*F5 -> 10.39014 | H5: =E5*F5*(-1) -> 0 | N5: Oct | O5: Nov | P5: Dec | Q5: Jan | R5: Feb | S5: Mar | T5: Apr | U5: May | V5: Jun | W5: Jul | X5: Aug | Y5: Sep | Z5: annual aMW
B6: ='DEC 2028 Metered Gen'!$B6 -> 3 | C6: ='DEC 2028 Metered Gen'!$C6 -> LLH | D6: =IF(C6="HLH",$P$8/COUNTIF($C$4:$C$747, "HLH"), $P$9/COUNTIF($C$4:$C$747, "LLH")) -> 0.25581395 | E6: ='DEC 2028 Metered Gen'!F6 -> 0 | F6: ='DEC 2028 Metered Gen'!$L6 -> 37.251 | G6: =D6*F6 -> 9.5293256 | H6: =E6*F6*(-1) -> 0 | M6: Fiscal Year 2029
B7: ='DEC 2028 Metered Gen'!$B7 -> 4 | C7: ='DEC 2028 Metered Gen'!$C7 -> LLH | D7: =IF(C7="HLH",$P$8/COUNTIF($C$4:$C$747, "HLH"), $P$9/COUNTIF($C$4:$C$747, "LLH")) -> 0.25581395 | E7: ='DEC 2028 Metered Gen'!F7 -> 0 | F7: ='DEC 2028 Metered Gen'!$L7 -> 37.81 | G7: =D7*F7 -> 9.6723256 | H7: =E7*F7*(-1) -> 0 | M7: Total (MWh) | N7: 190 | O7: 213 | P7: 190 | Q7: 213 | R7: 164 | S7: 261 | T7: 213 | U7: 190 | V7: 213 | W7: 166 | X7: 190 | Y7: 167 | Z7: 0.271
B8: ='DEC 2028 Metered Gen'!$B8 -> 5 | C8: ='DEC 2028 Metered Gen'!$C8 -> LLH | D8: =IF(C8="HLH",$P$8/COUNTIF($C$4:$C$747, "HLH"), $P$9/COUNTIF($C$4:$C$747, "LLH")) -> 0.25581395 | E8: ='DEC 2028 Metered Gen'!F8 -> 0 | F8: ='DEC 2028 Metered Gen'!$L8 -> 36.164 | G8: =D8*F8 -> 9.2512558 | H8: =E8*F8*(-1) -> 0 | M8: HLH (MWh) | N8: 106 | O8: 118 | P8: 102 | Q8: 119 | R8: 94 | S8: 152 | T8: 118 | U8: 106 | V8: 123 | W8: 89 | X8: 110 | Y8: 89 | Z8: 0.271
B9: ='DEC 2028 Metered Gen'!$B9 -> 6 | C9: ='DEC 2028 Metered Gen'!$C9 -> LLH | D9: =IF(C9="HLH",$P$8/COUNTIF($C$4:$C$747, "HLH"), $P$9/COUNTIF($C$4:$C$747, "LLH")) -> 0.25581395 | E9: ='DEC 2028 Metered Gen'!F9 -> 0 | F9: ='DEC 2028 Metered Gen'!$L9 -> 39.391 | G9: =D9*F9 -> 10.076767 | H9: =E9*F9*(-1) -> 0 | M9: LLH (MWh) | N9: 84 | O9: 95 | P9: 88 | Q9: 94 | R9: 70 | S9: 109 | T9: 95 | U9: 84 | V9: 90 | W9: 77 | X9: 80 | Y9: 78 | Z9: 0.27
B10: ='DEC 2028 Metered Gen'!$B10 -> 7 | C10: ='DEC 2028 Metered Gen'!$C10 -> HLH | D10: =IF(C10="HLH",$P$8/COUNTIF($C$4:$C$747, "HLH"), $P$9/COUNTIF($C$4:$C$747, "LLH")) -> 0.255 | E10: ='DEC 2028 Metered Gen'!F10 -> 0 | F10: ='DEC 2028 Metered Gen'!$L10 -> 41.121 | G10: =D10*F10 -> 10.485855 | H10: =E10*F10*(-1) -> 0 | M10: Peak (MW) | N10: 0.1 | O10: 0.1 | P10: 0.1 | Q10: 0.1 | R10: 0.2 | S10: 0.2 | T10: 0 | U10: 0 | V10: 0 | W10: 0 | X10: 0 | Y10: 0.1 | Z10: N/A
B11: ='DEC 2028 Metered Gen'!$B11 -> 8 | C11: ='DEC 2028 Metered Gen'!$C11 -> HLH | D11: =IF(C11="HLH",$P$8/COUNTIF($C$4:$C$747, "HLH"), $P$9/COUNTIF($C$4:$C$747, "LLH")) -> 0.255 | E11: ='DEC 2028 Metered Gen'!F11 -> 0 | F11: ='DEC 2028 Metered Gen'!$L11 -> 42.647 | G11: =D11*F11 -> 10.874985 | H11: =E11*F11*(-1) -> 0
B12: ='DEC 2028 Metered Gen'!$B12 -> 9 | C12: ='DEC 2028 Metered Gen'!$C12 -> HLH | D12: =IF(C12="HLH",$P$8/COUNTIF($C$4:$C$747, "HLH"), $P$9/COUNTIF($C$4:$C$747, "LLH")) -> 0.255 | E12: ='DEC 2028 Metered Gen'!F12 -> 0 | F12: ='DEC 2028 Metered Gen'!$L12 -> 42.495 | G12: =D12*F12 -> 10.836225 | H12: =E12*F12*(-1) -> 0 | M12: Energy Charges | N12: =SUM(G:G) -> 6585.0804
B13: ='DEC 2028 Metered Gen'!$B13 -> 10 | C13: ='DEC 2028 Metered Gen'!$C13 -> HLH | D13: =IF(C13="HLH",$P$8/COUNTIF($C$4:$C$747, "HLH"), $P$9/COUNTIF($C$4:$C$747, "LLH")) -> 0.255 | E13: ='DEC 2028 Metered Gen'!F13 -> 0 | F13: ='DEC 2028 Metered Gen'!$L13 -> 46.782 | G13: =D13*F13 -> 11.92941 | H13: =E13*F13*(-1) -> 0 | M13: Energy Credits | N13: =SUM(H:H) -> -5368.431
B14: ='DEC 2028 Metered Gen'!$B14 -> 11 | C14: ='DEC 2028 Metered Gen'!$C14 -> HLH | D14: =IF(C14="HLH",$P$8/COUNTIF($C$4:$C$747, "HLH"), $P$9/COUNTIF($C$4:$C$747, "LLH")) -> 0.255 | E14: ='DEC 2028 Metered Gen'!F14 -> 0 | F14: ='DEC 2028 Metered Gen'!$L14 -> 42.815 | G14: =D14*F14 -> 10.917825 | H14: =E14*F14*(-1) -> 0 | M14: Energy Net Charges/Credits | N14: =N12+N13 -> 1216.6494
B15: ='DEC 2028 Metered Gen'!$B15 -> 12 | C15: ='DEC 2028 Metered Gen'!$C15 -> HLH | D15: =IF(C15="HLH",$P$8/COUNTIF($C$4:$C$747, "HLH"), $P$9/COUNTIF($C$4:$C$747, "LLH")) -> 0.255 | E15: ='DEC 2028 Metered Gen'!F15 -> 0 | F15: ='DEC 2028 Metered Gen'!$L15 -> 40.335 | G15: =D15*F15 -> 10.285425 | H15: =E15*F15*(-1) -> 0
B16: ='DEC 2028 Metered Gen'!$B16 -> 13 | C16: ='DEC 2028 Metered Gen'!$C16 -> HLH | D16: =IF(C16="HLH",$P$8/COUNTIF($C$4:$C$747, "HLH"), $P$9/COUNTIF($C$4:$C$747, "LLH")) -> 0.255 | E16: ='DEC 2028 Metered Gen'!F16 -> 0 | F16: ='DEC 2028 Metered Gen'!$L16 -> 39.773 | G16: =D16*F16 -> 10.142115 | H16: =E16*F16*(-1) -> 0 | M16: Resource QCC Capacity (MW) | N16: =$P$10 -> 0.1
B17: ='DEC 2028 Metered Gen'!$B17 -> 14 | C17: ='DEC 2028 Metered Gen'!$C17 -> HLH | D17: =IF(C17="HLH",$P$8/COUNTIF($C$4:$C$747, "HLH"), $P$9/COUNTIF($C$4:$C$747, "LLH")) -> 0.255 | E17: ='DEC 2028 Metered Gen'!F17 -> 0 | F17: ='DEC 2028 Metered Gen'!$L17 -> 37.972 | G17: =D17*F17 -> 9.68286 | H17: =E17*F17*(-1) -> 0 | M17: Forced Outage Rating | N17: 0.05
B18: ='DEC 2028 Metered Gen'!$B18 -> 15 | C18: ='DEC 2028 Metered Gen'!$C18 -> HLH | D18: =IF(C18="HLH",$P$8/COUNTIF($C$4:$C$747, "HLH"), $P$9/COUNTIF($C$4:$C$747, "LLH")) -> 0.255 | E18: ='DEC 2028 Metered Gen'!F18 -> 0 | F18: ='DEC 2028 Metered Gen'!$L18 -> 38.644 | G18: =D18*F18 -> 9.85422 | H18: =E18*F18*(-1) -> 0 | M18: BPA Capacity Obligation (MW) | N18: =P7/COUNT(B4:B800)-N16 -> 0.15537634
B19: ='DEC 2028 Metered Gen'!$B19 -> 16 | C19: ='DEC 2028 Metered Gen'!$C19 -> HLH | D19: =IF(C19="HLH",$P$8/COUNTIF($C$4:$C$747, "HLH"), $P$9/COUNTIF($C$4:$C$747, "LLH")) -> 0.255 | E19: ='DEC 2028 Metered Gen'!F19 -> 0 | F19: ='DEC 2028 Metered Gen'!$L19 -> 39.681 | G19: =D19*F19 -> 10.118655 | H19: =E19*F19*(-1) -> 0 | M19: Additional Capacity (Forced Outage) | N19: =N16*N17 -> 0.005
B20: ='DEC 2028 Metered Gen'!$B20 -> 17 | C20: ='DEC 2028 Metered Gen'!$C20 -> HLH | D20: =IF(C20="HLH",$P$8/COUNTIF($C$4:$C$747, "HLH"), $P$9/COUNTIF($C$4:$C$747, "LLH")) -> 0.255 | E20: ='DEC 2028 Metered Gen'!F20 -> 0 | F20: ='DEC 2028 Metered Gen'!$L20 -> 39.409 | G20: =D20*F20 -> 10.049295 | H20: =E20*F20*(-1) -> 0
B21: ='DEC 2028 Metered Gen'!$B21 -> 18 | C21: ='DEC 2028 Metered Gen'!$C21 -> HLH | D21: =IF(C21="HLH",$P$8/COUNTIF($C$4:$C$747, "HLH"), $P$9/COUNTIF($C$4:$C$747, "LLH")) -> 0.255 | E21: ='DEC 2028 Metered Gen'!F21 -> 0 | F21: ='DEC 2028 Metered Gen'!$L21 -> 42.864 | G21: =D21*F21 -> 10.93032 | H21: =E21*F21*(-1) -> 0 | M21: RSS Capacity Charge (Obligation * Embedded Capacity) | N21: =(N18+N19)*'Capacity Rate'!D6*1000 -> 967.06935
B22: ='DEC 2028 Metered Gen'!$B22 -> 19 | C22: ='DEC 2028 Metered Gen'!$C22 -> HLH | D22: =IF(C22="HLH",$P$8/COUNTIF($C$4:$C$747, "HLH"), $P$9/COUNTIF($C$4:$C$747, "LLH")) -> 0.255 | E22: ='DEC 2028 Metered Gen'!F22 -> 0 | F22: ='DEC 2028 Metered Gen'!$L22 -> 44.312 | G22: =D22*F22 -> 11.29956 | H22: =E22*F22*(-1) -> 0
B23: ='DEC 2028 Metered Gen'!$B23 -> 20 | C23: ='DEC 2028 Metered Gen'!$C23 -> HLH | D23: =IF(C23="HLH",$P$8/COUNTIF($C$4:$C$747, "HLH"), $P$9/COUNTIF($C$4:$C$747, "LLH")) -> 0.255 | E23: ='DEC 2028 Metered Gen'!F23 -> 0 | F23: ='DEC 2028 Metered Gen'!$L23 -> 50.382 | G23: =D23*F23 -> 12.84741 | H23: =E23*F23*(-1) -> 0
B24: ='DEC 2028 Metered Gen'!$B24 -> 21 | C24: ='DEC 2028 Metered Gen'!$C24 -> HLH | D24: =IF(C24="HLH",$P$8/COUNTIF($C$4:$C$747, "HLH"), $P$9/COUNTIF($C$4:$C$747, "LLH")) -> 0.255 | E24: ='DEC 2028 Metered Gen'!F24 -> 0 | F24: ='DEC 2028 Metered Gen'!$L24 -> 51.791 | G24: =D24*F24 -> 13.206705 | H24: =E24*F24*(-1) -> 0
B25: ='DEC 2028 Metered Gen'!$B25 -> 22 | C25: ='DEC 2028 Metered Gen'!$C25 -> HLH | D25: =IF(C25="HLH",$P$8/COUNTIF($C$4:$C$747, "HLH"), $P$9/COUNTIF($C$4:$C$747, "LLH")) -> 0.255 | E25: ='DEC 2028 Metered Gen'!F25 -> 0 | F25: ='DEC 2028 Metered Gen'!$L25 -> 42.278 | G25: =D25*F25 -> 10.78089 | H25: =E25*F25*(-1) -> 0
B26: ='DEC 2028 Metered Gen'!$B26 -> 23 | C26: ='DEC 2028 Metered Gen'!$C26 -> LLH | D26: =IF(C26="HLH",$P$8/COUNTIF($C$4:$C$747, "HLH"), $P$9/COUNTIF($C$4:$C$747, "LLH")) -> 0.25581395 | E26: ='DEC 2028 Metered Gen'!F26 -> 0 | F26: ='DEC 2028 Metered Gen'!$L26 -> 43.26 | G26: =D26*F26 -> 11.066512 | H26: =E26*F26*(-1) -> 0
B27: ='DEC 2028 Metered Gen'!$B27 -> 24 | C27: ='DEC 2028 Metered Gen'!$C27 -> LLH | D27: =IF(C27="HLH",$P$8/COUNTIF($C$4:$C$747, "HLH"), $P$9/COUNTIF($C$4:$C$747, "LLH")) -> 0.25581395 | E27: ='DEC 2028 Metered Gen'!F27 -> 0 | F27: ='DEC 2028 Metered Gen'!$L27 -> 40.711 | G27: =D27*F27 -> 10.414442 | H27: =E27*F27*(-1) -> 0
B28: ='DEC 2028 Metered Gen'!$B28 -> 25 | C28: ='DEC 2028 Metered Gen'!$C28 -> LLH | D28: =IF(C28="HLH",$P$8/COUNTIF($C$4:$C$747, "HLH"), $P$9/COUNTIF($C$4:$C$747, "LLH")) -> 0.25581395 | E28: ='DEC 2028 Metered Gen'!F28 -> 0 | F28: ='DEC 2028 Metered Gen'!$L28 -> 42.374 | G28: =D28*F28 -> 10.83986 | H28: =E28*F28*(-1) -> 0
B29: ='DEC 2028 Metered Gen'!$B29 -> 26 | C29: ='DEC 2028 Metered Gen'!$C29 -> LLH | D29: =IF(C29="HLH",$P$8/COUNTIF($C$4:$C$747, "HLH"), $P$9/COUNTIF($C$4:$C$747, "LLH")) -> 0.25581395 | E29: ='DEC 2028 Metered Gen'!F29 -> 0 | F29: ='DEC 2028 Metered Gen'!$L29 -> 43.466 | G29: =D29*F29 -> 11.119209 | H29: =E29*F29*(-1) -> 0
B30: ='DEC 2028 Metered Gen'!$B30 -> 27 | C30: ='DEC 2028 Metered Gen'!$C30 -> LLH | D30: =IF(C30="HLH",$P$8/COUNTIF($C$4:$C$747, "HLH"), $P$9/COUNTIF($C$4:$C$747, "LLH")) -> 0.25581395 | E30: ='DEC 2028 Metered Gen'!F30 -> 0 | F30: ='DEC 2028 Metered Gen'!$L30 -> 43.87 | G30: =D30*F30 -> 11.222558 | H30: =E30*F30*(-1) -> 0
B31: ='DEC 2028 Metered Gen'!$B31 -> 28 | C31: ='DEC 2028 Metered Gen'!$C31 -> LLH | D31: =IF(C31="HLH",$P$8/COUNTIF($C$4:$C$747, "HLH"), $P$9/COUNTIF($C$4:$C$747, "LLH")) -> 0.25581395 | E31: ='DEC 2028 Metered Gen'!F31 -> 0 | F31: ='DEC 2028 Metered Gen'!$L31 -> 42.678 | G31: =D31*F31 -> 10.917628 | H31: =E31*F31*(-1) -> 0
B32: ='DEC 2028 Metered Gen'!$B32 -> 29 | C32: ='DEC 2028 Metered Gen'!$C32 -> LLH | D32: =IF(C32="HLH",$P$8/COUNTIF($C$4:$C$747, "HLH"), $P$9/COUNTIF($C$4:$C$747, "LLH")) -> 0.25581395 | E32: ='DEC 2028 Metered Gen'!F32 -> 0 | F32: ='DEC 2028 Metered Gen'!$L32 -> 43.748 | G32: =D32*F32 -> 11.191349 | H32: =E32*F32*(-1) -> 0
B33: ='DEC 2028 Metered Gen'!$B33 -> 30 | C33: ='DEC 2028 Metered Gen'!$C33 -> LLH | D33: =IF(C33="HLH",$P$8/COUNTIF($C$4:$C$747, "HLH"), $P$9/COUNTIF($C$4:$C$747, "LLH")) -> 0.25581395 | E33: ='DEC 2028 Metered Gen'!F33 -> 0 | F33: ='DEC 2028 Metered Gen'!$L33 -> 41.226 | G33: =D33*F33 -> 10.546186 | H33: =E33*F33*(-1) -> 0
... B747: ='DEC 2028 Metered Gen'!$B747 -> 744 | C747: ='DEC 2028 Metered Gen'!$C747 -> LLH | D747: =IF(C747="HLH",$P$8/COUNTIF($C$4:$C$747, "HLH"), $P$9/COUNTIF($C$4:$C$747, "LLH")) -> 0.25581395 | E747: ='DEC 2028 Metered Gen'!F747 -> 0.0471 | F747: ='DEC 2028 Metered Gen'!$L747 -> 31.991 | G747: =D747*F747 -> 8.1837442 | H747: =E747*F747*(-1) -> -1.5067761

Sheet WindA (Jun)
B1: RSS Cost & Credits, Exhibit A Contractual Obligations (JUN FY29)
B3: Hour in Series | C3: Diurnal Category | D3: Exhibit-A MWh (Flat) | E3: Actual Metered | F3: Market | G3: Energy Charges | H3: Energy Credits
B4: ='JUN 2029 Metered Gen'!$B4 -> 1 | C4: ='JUN 2029 Metered Gen'!$C4 -> LLH | D4: =IF(C4="HLH",$V$8/COUNTIF($C$4:$C$747, "HLH"), $V$9/COUNTIF($C$4:$C$747, "LLH")) -> 0.29605263 | E4: ='JUN 2029 Metered Gen'!$F4 -> 0.80698 | F4: ='JUN 2029 Metered Gen'!$L4 -> 25.032 | G4: =D4*F4 -> 7.4107895 | H4: =E4*F4*(-1) -> -20.200323 | M4: Exhibit A Specified Resource Amounts (WindA)
B5: ='JUN 2029 Metered Gen'!$B5 -> 2 | C5: ='JUN 2029 Metered Gen'!$C5 -> LLH | D5: =IF(C5="HLH",$V$8/COUNTIF($C$4:$C$747, "HLH"), $V$9/COUNTIF($C$4:$C$747, "LLH")) -> 0.29605263 | E5: ='JUN 2029 Metered Gen'!$F5 -> 0.84152 | F5: ='JUN 2029 Metered Gen'!$L5 -> 26.272 | G5: =D5*F5 -> 7.7778947 | H5: =E5*F5*(-1) -> -22.108413 | N5: Oct | O5: Nov | P5: Dec | Q5: Jan | R5: Feb | S5: Mar | T5: Apr | U5: May | V5: Jun | W5: Jul | X5: Aug | Y5: Sep | Z5: annual aMW
B6: ='JUN 2029 Metered Gen'!$B6 -> 3 | C6: ='JUN 2029 Metered Gen'!$C6 -> LLH | D6: =IF(C6="HLH",$V$8/COUNTIF($C$4:$C$747, "HLH"), $V$9/COUNTIF($C$4:$C$747, "LLH")) -> 0.29605263 | E6: ='JUN 2029 Metered Gen'!$F6 -> 0.77244 | F6: ='JUN 2029 Metered Gen'!$L6 -> 26.922 | G6: =D6*F6 -> 7.9703289 | H6: =E6*F6*(-1) -> -20.79563 | M6: Fiscal Year 2029
B7: ='JUN 2029 Metered Gen'!$B7 -> 4 | C7: ='JUN 2029 Metered Gen'!$C7 -> LLH | D7: =IF(C7="HLH",$V$8/COUNTIF($C$4:$C$747, "HLH"), $V$9/COUNTIF($C$4:$C$747, "LLH")) -> 0.29605263 | E7: ='JUN 2029 Metered Gen'!$F7 -> 0.6751 | F7: ='JUN 2029 Metered Gen'!$L7 -> 27.18 | G7: =D7*F7 -> 8.0467105 | H7: =E7*F7*(-1) -> -18.349218 | M7: Total (MWh) | N7: 190 | O7: 213 | P7: 190 | Q7: 213 | R7: 164 | S7: 261 | T7: 213 | U7: 190 | V7: 213 | W7: 166 | X7: 190 | Y7: 167 | Z7: 0.271
B8: ='JUN 2029 Metered Gen'!$B8 -> 5 | C8: ='JUN 2029 Metered Gen'!$C8 -> LLH | D8: =IF(C8="HLH",$V$8/COUNTIF($C$4:$C$747, "HLH"), $V$9/COUNTIF($C$4:$C$747, "LLH")) -> 0.29605263 | E8: ='JUN 2029 Metered Gen'!$F8 -> 0.5809 | F8: ='JUN 2029 Metered Gen'!$L8 -> 27.513 | G8: =D8*F8 -> 8.1452961 | H8: =E8*F8*(-1) -> -15.982302 | M8: HLH (MWh) | N8: 106 | O8: 118 | P8: 102 | Q8: 119 | R8: 94 | S8: 152 | T8: 118 | U8: 106 | V8: 123 | W8: 89 | X8: 110 | Y8: 89 | Z8: 0.271
B9: ='JUN 2029 Metered Gen'!$B9 -> 6 | C9: ='JUN 2029 Metered Gen'!$C9 -> LLH | D9: =IF(C9="HLH",$V$8/COUNTIF($C$4:$C$747, "HLH"), $V$9/COUNTIF($C$4:$C$747, "LLH")) -> 0.29605263 | E9: ='JUN 2029 Metered Gen'!$F9 -> 0.60288 | F9: ='JUN 2029 Metered Gen'!$L9 -> 26.751 | G9: =D9*F9 -> 7.9197039 | H9: =E9*F9*(-1) -> -16.127643 | M9: LLH (MWh) | N9: 84 | O9: 95 | P9: 88 | Q9: 94 | R9: 70 | S9: 109 | T9: 95 | U9: 84 | V9: 90 | W9: 77 | X9: 80 | Y9: 78 | Z9: 0.27
B10: ='JUN 2029 Metered Gen'!$B10 -> 7 | C10: ='JUN 2029 Metered Gen'!$C10 -> HLH | D10: =IF(C10="HLH",$V$8/COUNTIF($C$4:$C$747, "HLH"), $V$9/COUNTIF($C$4:$C$747, "LLH")) -> 0.29567308 | E10: ='JUN 2029 Metered Gen'!$F10 -> 0.50868 | F10: ='JUN 2029 Metered Gen'!$L10 -> 21.959 | G10: =D10*F10 -> 6.4926851 | H10: =E10*F10*(-1) -> -11.170104 | M10: Peak (MW) | N10: 0.1 | O10: 0.1 | P10: 0.1 | Q10: 0.1 | R10: 0.2 | S10: 0.2 | T10: 0 | U10: 0 | V10: 0 | W10: 0 | X10: 0 | Y10: 0.1 | Z10: N/A
B11: ='JUN 2029 Metered Gen'!$B11 -> 8 | C11: ='JUN 2029 Metered Gen'!$C11 -> HLH | D11: =IF(C11="HLH",$V$8/COUNTIF($C$4:$C$747, "HLH"), $V$9/COUNTIF($C$4:$C$747, "LLH")) -> 0.29567308 | E11: ='JUN 2029 Metered Gen'!$F11 -> 0.52438 | F11: ='JUN 2029 Metered Gen'!$L11 -> 21.648 | G11: =D11*F11 -> 6.4007308 | H11: =E11*F11*(-1) -> -11.351778
B12: ='JUN 2029 Metered Gen'!$B12 -> 9 | C12: ='JUN 2029 Metered Gen'!$C12 -> HLH | D12: =IF(C12="HLH",$V$8/COUNTIF($C$4:$C$747, "HLH"), $V$9/COUNTIF($C$4:$C$747, "LLH")) -> 0.29567308 | E12: ='JUN 2029 Metered Gen'!$F12 -> 0.2826 | F12: ='JUN 2029 Metered Gen'!$L12 -> 24.361 | G12: =D12*F12 -> 7.2028918 | H12: =E12*F12*(-1) -> -6.8844186 | M12: Energy Charges | N12: =SUM(G:G) -> 6867.6795
B13: ='JUN 2029 Metered Gen'!$B13 -> 10 | C13: ='JUN 2029 Metered Gen'!$C13 -> HLH | D13: =IF(C13="HLH",$V$8/COUNTIF($C$4:$C$747, "HLH"), $V$9/COUNTIF($C$4:$C$747, "LLH")) -> 0.29567308 | E13: ='JUN 2029 Metered Gen'!$F13 -> 0.1413 | F13: ='JUN 2029 Metered Gen'!$L13 -> 26.351 | G13: =D13*F13 -> 7.7912812 | H13: =E13*F13*(-1) -> -3.7233963 | M13: Energy Credits | N13: =SUM(H:H) -> -5834.525
B14: ='JUN 2029 Metered Gen'!$B14 -> 11 | C14: ='JUN 2029 Metered Gen'!$C14 -> HLH | D14: =IF(C14="HLH",$V$8/COUNTIF($C$4:$C$747, "HLH"), $V$9/COUNTIF($C$4:$C$747, "LLH")) -> 0.29567308 | E14: ='JUN 2029 Metered Gen'!$F14 -> 0.03454 | F14: ='JUN 2029 Metered Gen'!$L14 -> 21.516 | G14: =D14*F14 -> 6.3617019 | H14: =E14*F14*(-1) -> -0.74316264 | M14: Energy Net Charges/Credits | N14: =N12+N13 -> 1033.1545
B15: ='JUN 2029 Metered Gen'!$B15 -> 12 | C15: ='JUN 2029 Metered Gen'!$C15 -> HLH | D15: =IF(C15="HLH",$V$8/COUNTIF($C$4:$C$747, "HLH"), $V$9/COUNTIF($C$4:$C$747, "LLH")) -> 0.29567308 | E15: ='JUN 2029 Metered Gen'!$F15 -> 0 | F15: ='JUN 2029 Metered Gen'!$L15 -> 21.273 | G15: =D15*F15 -> 6.2898534 | H15: =E15*F15*(-1) -> 0
B16: ='JUN 2029 Metered Gen'!$B16 -> 13 | C16: ='JUN 2029 Metered Gen'!$C16 -> HLH | D16: =IF(C16="HLH",$V$8/COUNTIF($C$4:$C$747, "HLH"), $V$9/COUNTIF($C$4:$C$747, "LLH")) -> 0.29567308 | E16: ='JUN 2029 Metered Gen'!$F16 -> 0.0157 | F16: ='JUN 2029 Metered Gen'!$L16 -> 21.98 | G16: =D16*F16 -> 6.4988942 | H16: =E16*F16*(-1) -> -0.345086 | M16: Resource QCC Capacity (MW) | N16: =$V$10 -> 0
B17: ='JUN 2029 Metered Gen'!$B17 -> 14 | C17: ='JUN 2029 Metered Gen'!$C17 -> HLH | D17: =IF(C17="HLH",$V$8/COUNTIF($C$4:$C$747, "HLH"), $V$9/COUNTIF($C$4:$C$747, "LLH")) -> 0.29567308 | E17: ='JUN 2029 Metered Gen'!$F17 -> 0.02512 | F17: ='JUN 2029 Metered Gen'!$L17 -> 20.702 | G17: =D17*F17 -> 6.121024 | H17: =E17*F17*(-1) -> -0.52003424 | M17: Forced Outage Rating | N17: 0.05
B18: ='JUN 2029 Metered Gen'!$B18 -> 15 | C18: ='JUN 2029 Metered Gen'!$C18 -> HLH | D18: =IF(C18="HLH",$V$8/COUNTIF($C$4:$C$747, "HLH"), $V$9/COUNTIF($C$4:$C$747, "LLH")) -> 0.29567308 | E18: ='JUN 2029 Metered Gen'!$F18 -> 0.01256 | F18: ='JUN 2029 Metered Gen'!$L18 -> 26.282 | G18: =D18*F18 -> 7.7708798 | H18: =E18*F18*(-1) -> -0.33010192 | M18: BPA Capacity Obligation (MW) | N18: =V7/COUNT(B4:B800)-N16 -> 0.29583333
B19: ='JUN 2029 Metered Gen'!$B19 -> 16 | C19: ='JUN 2029 Metered Gen'!$C19 -> HLH | D19: =IF(C19="HLH",$V$8/COUNTIF($C$4:$C$747, "HLH"), $V$9/COUNTIF($C$4:$C$747, "LLH")) -> 0.29567308 | E19: ='JUN 2029 Metered Gen'!$F19 -> 0.02198 | F19: ='JUN 2029 Metered Gen'!$L19 -> 34.466 | G19: =D19*F19 -> 10.190668 | H19: =E19*F19*(-1) -> -0.75756268 | M19: Additional Capacity (Forced Outage) | N19: =N16*N17 -> 0
B20: ='JUN 2029 Metered Gen'!$B20 -> 17 | C20: ='JUN 2029 Metered Gen'!$C20 -> HLH | D20: =IF(C20="HLH",$V$8/COUNTIF($C$4:$C$747, "HLH"), $V$9/COUNTIF($C$4:$C$747, "LLH")) -> 0.29567308 | E20: ='JUN 2029 Metered Gen'!$F20 -> 0.0157 | F20: ='JUN 2029 Metered Gen'!$L20 -> 30.974 | G20: =D20*F20 -> 9.1581779 | H20: =E20*F20*(-1) -> -0.4862918
B21: ='JUN 2029 Metered Gen'!$B21 -> 18 | C21: ='JUN 2029 Metered Gen'!$C21 -> HLH | D21: =IF(C21="HLH",$V$8/COUNTIF($C$4:$C$747, "HLH"), $V$9/COUNTIF($C$4:$C$747, "LLH")) -> 0.29567308 | E21: ='JUN 2029 Metered Gen'!$F21 -> 0.00314 | F21: ='JUN 2029 Metered Gen'!$L21 -> 27.53 | G21: =D21*F21 -> 8.1398798 | H21: =E21*F21*(-1) -> -0.0864442 | M21: RSS Capacity Charge (Obligation * Embedded Capacity) | N21: =(N18+N19)*'Capacity Rate'!D12*1000 -> 565.04167
B22: ='JUN 2029 Metered Gen'!$B22 -> 19 | C22: ='JUN 2029 Metered Gen'!$C22 -> HLH | D22: =IF(C22="HLH",$V$8/COUNTIF($C$4:$C$747, "HLH"), $V$9/COUNTIF($C$4:$C$747, "LLH")) -> 0.29567308 | E22: ='JUN 2029 Metered Gen'!$F22 -> 0 | F22: ='JUN 2029 Metered Gen'!$L22 -> 29.261 | G22: =D22*F22 -> 8.6516899 | H22: =E22*F22*(-1) -> 0
B23: ='JUN 2029 Metered Gen'!$B23 -> 20 | C23: ='JUN 2029 Metered Gen'!$C23 -> HLH | D23: =IF(C23="HLH",$V$8/COUNTIF($C$4:$C$747, "HLH"), $V$9/COUNTIF($C$4:$C$747, "LLH")) -> 0.29567308 | E23: ='JUN 2029 Metered Gen'!$F23 -> 0 | F23: ='JUN 2029 Metered Gen'!$L23 -> 28.339 | G23: =D23*F23 -> 8.3790793 | H23: =E23*F23*(-1) -> 0
B24: ='JUN 2029 Metered Gen'!$B24 -> 21 | C24: ='JUN 2029 Metered Gen'!$C24 -> HLH | D24: =IF(C24="HLH",$V$8/COUNTIF($C$4:$C$747, "HLH"), $V$9/COUNTIF($C$4:$C$747, "LLH")) -> 0.29567308 | E24: ='JUN 2029 Metered Gen'!$F24 -> 0.00314 | F24: ='JUN 2029 Metered Gen'!$L24 -> 28.326 | G24: =D24*F24 -> 8.3752356 | H24: =E24*F24*(-1) -> -0.08894364
B25: ='JUN 2029 Metered Gen'!$B25 -> 22 | C25: ='JUN 2029 Metered Gen'!$C25 -> HLH | D25: =IF(C25="HLH",$V$8/COUNTIF($C$4:$C$747, "HLH"), $V$9/COUNTIF($C$4:$C$747, "LLH")) -> 0.29567308 | E25: ='JUN 2029 Metered Gen'!$F25 -> 0.01256 | F25: ='JUN 2029 Metered Gen'!$L25 -> 29.13 | G25: =D25*F25 -> 8.6129567 | H25: =E25*F25*(-1) -> -0.3658728
B26: ='JUN 2029 Metered Gen'!$B26 -> 23 | C26: ='JUN 2029 Metered Gen'!$C26 -> LLH | D26: =IF(C26="HLH",$V$8/COUNTIF($C$4:$C$747, "HLH"), $V$9/COUNTIF($C$4:$C$747, "LLH")) -> 0.29605263 | E26: ='JUN 2029 Metered Gen'!$F26 -> 0.00942 | F26: ='JUN 2029 Metered Gen'!$L26 -> 28.003 | G26: =D26*F26 -> 8.2903618 | H26: =E26*F26*(-1) -> -0.26378826
B27: ='JUN 2029 Metered Gen'!$B27 -> 24 | C27: ='JUN 2029 Metered Gen'!$C27 -> LLH | D27: =IF(C27="HLH",$V$8/COUNTIF($C$4:$C$747, "HLH"), $V$9/COUNTIF($C$4:$C$747, "LLH")) -> 0.29605263 | E27: ='JUN 2029 Metered Gen'!$F27 -> 0.0628 | F27: ='JUN 2029 Metered Gen'!$L27 -> 26.678 | G27: =D27*F27 -> 7.8980921 | H27: =E27*F27*(-1) -> -1.6753784
B28: ='JUN 2029 Metered Gen'!$B28 -> 25 | C28: ='JUN 2029 Metered Gen'!$C28 -> LLH | D28: =IF(C28="HLH",$V$8/COUNTIF($C$4:$C$747, "HLH"), $V$9/COUNTIF($C$4:$C$747, "LLH")) -> 0.29605263 | E28: ='JUN 2029 Metered Gen'!$F28 -> 0.11618 | F28: ='JUN 2029 Metered Gen'!$L28 -> 26.705 | G28: =D28*F28 -> 7.9060855 | H28: =E28*F28*(-1) -> -3.1025869
B29: ='JUN 2029 Metered Gen'!$B29 -> 26 | C29: ='JUN 2029 Metered Gen'!$C29 -> LLH | D29: =IF(C29="HLH",$V$8/COUNTIF($C$4:$C$747, "HLH"), $V$9/COUNTIF($C$4:$C$747, "LLH")) -> 0.29605263 | E29: ='JUN 2029 Metered Gen'!$F29 -> 0.14758 | F29: ='JUN 2029 Metered Gen'!$L29 -> 25.828 | G29: =D29*F29 -> 7.6464474 | H29: =E29*F29*(-1) -> -3.8116962
B30: ='JUN 2029 Metered Gen'!$B30 -> 27 | C30: ='JUN 2029 Metered Gen'!$C30 -> LLH | D30: =IF(C30="HLH",$V$8/COUNTIF($C$4:$C$747, "HLH"), $V$9/COUNTIF($C$4:$C$747, "LLH")) -> 0.29605263 | E30: ='JUN 2029 Metered Gen'!$F30 -> 0.10048 | F30: ='JUN 2029 Metered Gen'!$L30 -> 24.622 | G30: =D30*F30 -> 7.2894079 | H30: =E30*F30*(-1) -> -2.4740186
B31: ='JUN 2029 Metered Gen'!$B31 -> 28 | C31: ='JUN 2029 Metered Gen'!$C31 -> LLH | D31: =IF(C31="HLH",$V$8/COUNTIF($C$4:$C$747, "HLH"), $V$9/COUNTIF($C$4:$C$747, "LLH")) -> 0.29605263 | E31: ='JUN 2029 Metered Gen'!$F31 -> 0.16014 | F31: ='JUN 2029 Metered Gen'!$L31 -> 26.335 | G31: =D31*F31 -> 7.7965461 | H31: =E31*F31*(-1) -> -4.2172869
B32: ='JUN 2029 Metered Gen'!$B32 -> 29 | C32: ='JUN 2029 Metered Gen'!$C32 -> LLH | D32: =IF(C32="HLH",$V$8/COUNTIF($C$4:$C$747, "HLH"), $V$9/COUNTIF($C$4:$C$747, "LLH")) -> 0.29605263 | E32: ='JUN 2029 Metered Gen'!$F32 -> 0.36738 | F32: ='JUN 2029 Metered Gen'!$L32 -> 31.073 | G32: =D32*F32 -> 9.1992434 | H32: =E32*F32*(-1) -> -11.415599
B33: ='JUN 2029 Metered Gen'!$B33 -> 30 | C33: ='JUN 2029 Metered Gen'!$C33 -> LLH | D33: =IF(C33="HLH",$V$8/COUNTIF($C$4:$C$747, "HLH"), $V$9/COUNTIF($C$4:$C$747, "LLH")) -> 0.29605263 | E33: ='JUN 2029 Metered Gen'!$F33 -> 0.43018 | F33: ='JUN 2029 Metered Gen'!$L33 -> 33.488 | G33: =D33*F33 -> 9.9142105 | H33: =E33*F33*(-1) -> -14.405868
... B723: ='JUN 2029 Metered Gen'!$B723 -> 720 | C723: ='JUN 2029 Metered Gen'!$C723 -> LLH | D723: =IF(C723="HLH",$V$8/COUNTIF($C$4:$C$747, "HLH"), $V$9/COUNTIF($C$4:$C$747, "LLH")) -> 0.29605263 | E723: ='JUN 2029 Metered Gen'!$F723 -> 0.0942 | F723: ='JUN 2029 Metered Gen'!$L723 -> 32.833 | G723: =D723*F723 -> 9.7202961 | H723: =E723*F723*(-1) -> -3.0928686

Sheet HydroB (Dec)
B1: RSS Cost & Credits, Exhibit A Contractual Obligations (DEC FY29)
B3: Hour in Series | C3: Diurnal Category | D3: Exhibit-A MWh (Flat) | E3: Actual Metered | F3: Market | G3: Energy Charges | H3: Energy Credits
B4: ='DEC 2028 Metered Gen'!$B4 -> 1 | C4: ='DEC 2028 Metered Gen'!$C4 -> LLH | D4: =$Z$7 -> 2.295 | E4: ='DEC 2028 Metered Gen'!$G4 -> 1.02 | F4: ='DEC 2028 Metered Gen'!$L4 -> 40.525 | G4: =D4*F4 -> 93.004875 | H4: =E4*F4*(-1) -> -41.3355 | M4: Exhibit A Specified Resource Amounts (HydroB)
B5: ='DEC 2028 Metered Gen'!$B5 -> 2 | C5: ='DEC 2028 Metered Gen'!$C5 -> LLH | D5: =$Z$7 -> 2.295 | E5: ='DEC 2028 Metered Gen'!$G5 -> 1.16 | F5: ='DEC 2028 Metered Gen'!$L5 -> 40.616 | G5: =D5*F5 -> 93.21372 | H5: =E5*F5*(-1) -> -47.11456 | N5: Oct | O5: Nov | P5: Dec | Q5: Jan | R5: Feb | S5: Mar | T5: Apr | U5: May | V5: Jun | W5: Jul | X5: Aug | Y5: Sep | Z5: annual aMW
B6: ='DEC 2028 Metered Gen'!$B6 -> 3 | C6: ='DEC 2028 Metered Gen'!$C6 -> LLH | D6: =$Z$7 -> 2.295 | E6: ='DEC 2028 Metered Gen'!$G6 -> 0.93 | F6: ='DEC 2028 Metered Gen'!$L6 -> 37.251 | G6: =D6*F6 -> 85.491045 | H6: =E6*F6*(-1) -> -34.64343 | M6: Fiscal Year 2029
B7: ='DEC 2028 Metered Gen'!$B7 -> 4 | C7: ='DEC 2028 Metered Gen'!$C7 -> LLH | D7: =$Z$7 -> 2.295 | E7: ='DEC 2028 Metered Gen'!$G7 -> 1.1 | F7: ='DEC 2028 Metered Gen'!$L7 -> 37.81 | G7: =D7*F7 -> 86.77395 | H7: =E7*F7*(-1) -> -41.591 | M7: Total (MWh) | N7: 1400 | O7: 1070 | P7: 915 | Q7: 819 | R7: 666 | S7: 879 | T7: 1688 | U7: 5400 | V7: 4092 | W7: 1637 | X7: 869 | Y7: 671 | Z7: 2.295
B8: ='DEC 2028 Metered Gen'!$B8 -> 5 | C8: ='DEC 2028 Metered Gen'!$C8 -> LLH | D8: =$Z$7 -> 2.295 | E8: ='DEC 2028 Metered Gen'!$G8 -> 0.9 | F8: ='DEC 2028 Metered Gen'!$L8 -> 36.164 | G8: =D8*F8 -> 82.99638 | H8: =E8*F8*(-1) -> -32.5476 | M8: HLH (MWh) | N8: 783 | O8: 594 | P8: 492 | Q8: 458 | R8: 381 | S8: 512 | T8: 938 | U8: 3020 | V8: 2364 | W8: 881 | X8: 504 | Y8: 357 | Z8: 2.304
B9: ='DEC 2028 Metered Gen'!$B9 -> 6 | C9: ='DEC 2028 Metered Gen'!$C9 -> LLH | D9: =$Z$7 -> 2.295 | E9: ='DEC 2028 Metered Gen'!$G9 -> 1.04 | F9: ='DEC 2028 Metered Gen'!$L9 -> 39.391 | G9: =D9*F9 -> 90.402345 | H9: =E9*F9*(-1) -> -40.96664 | M9: LLH (MWh) | N9: 617 | O9: 476 | P9: 423 | Q9: 362 | R9: 285 | S9: 368 | T9: 750 | U9: 2381 | V9: 1728 | W9: 756 | X9: 365 | Y9: 314 | Z9: 2.283
B10: ='DEC 2028 Metered Gen'!$B10 -> 7 | C10: ='DEC 2028 Metered Gen'!$C10 -> HLH | D10: =$Z$7 -> 2.295 | E10: ='DEC 2028 Metered Gen'!$G10 -> 0.92 | F10: ='DEC 2028 Metered Gen'!$L10 -> 41.121 | G10: =D10*F10 -> 94.372695 | H10: =E10*F10*(-1) -> -37.83132 | M10: Peak (MW) | N10: 0 | O10: 0 | P10: 0.3 | Q10: 0.5 | R10: 0.6 | S10: 1.2 | T10: 1.1 | U10: 1.1 | V10: 1.1 | W10: 1.1 | X10: 0.5 | Y10: 0.3 | Z10: N/A
B11: ='DEC 2028 Metered Gen'!$B11 -> 8 | C11: ='DEC 2028 Metered Gen'!$C11 -> HLH | D11: =$Z$7 -> 2.295 | E11: ='DEC 2028 Metered Gen'!$G11 -> 1.05 | F11: ='DEC 2028 Metered Gen'!$L11 -> 42.647 | G11: =D11*F11 -> 97.874865 | H11: =E11*F11*(-1) -> -44.77935
B12: ='DEC 2028 Metered Gen'!$B12 -> 9 | C12: ='DEC 2028 Metered Gen'!$C12 -> HLH | D12: =$Z$7 -> 2.295 | E12: ='DEC 2028 Metered Gen'!$G12 -> 0.83 | F12: ='DEC 2028 Metered Gen'!$L12 -> 42.495 | G12: =D12*F12 -> 97.526025 | H12: =E12*F12*(-1) -> -35.27085 | M12: Energy Charges | N12: =SUM(G:G) -> 59178.087
B13: ='DEC 2028 Metered Gen'!$B13 -> 10 | C13: ='DEC 2028 Metered Gen'!$C13 -> HLH | D13: =$Z$7 -> 2.295 | E13: ='DEC 2028 Metered Gen'!$G13 -> 1.07 | F13: ='DEC 2028 Metered Gen'!$L13 -> 46.782 | G13: =D13*F13 -> 107.36469 | H13: =E13*F13*(-1) -> -50.05674 | M13: Energy Credits | N13: =SUM(H:H) -> -26751.193
B14: ='DEC 2028 Metered Gen'!$B14 -> 11 | C14: ='DEC 2028 Metered Gen'!$C14 -> HLH | D14: =$Z$7 -> 2.295 | E14: ='DEC 2028 Metered Gen'!$G14 -> 1.01 | F14: ='DEC 2028 Metered Gen'!$L14 -> 42.815 | G14: =D14*F14 -> 98.260425 | H14: =E14*F14*(-1) -> -43.24315 | M14: Energy Net Charges/Credits | N14: =N12+N13 -> 32426.894
B15: ='DEC 2028 Metered Gen'!$B15 -> 12 | C15: ='DEC 2028 Metered Gen'!$C15 -> HLH | D15: =$Z$7 -> 2.295 | E15: ='DEC 2028 Metered Gen'!$G15 -> 0.95 | F15: ='DEC 2028 Metered Gen'!$L15 -> 40.335 | G15: =D15*F15 -> 92.568825 | H15: =E15*F15*(-1) -> -38.31825
B16: ='DEC 2028 Metered Gen'!$B16 -> 13 | C16: ='DEC 2028 Metered Gen'!$C16 -> HLH | D16: =$Z$7 -> 2.295 | E16: ='DEC 2028 Metered Gen'!$G16 -> 1.02 | F16: ='DEC 2028 Metered Gen'!$L16 -> 39.773 | G16: =D16*F16 -> 91.279035 | H16: =E16*F16*(-1) -> -40.56846 | M16: Resource QCC Capacity (MW) | N16: =$P$10 -> 0.3
B17: ='DEC 2028 Metered Gen'!$B17 -> 14 | C17: ='DEC 2028 Metered Gen'!$C17 -> HLH | D17: =$Z$7 -> 2.295 | E17: ='DEC 2028 Metered Gen'!$G17 -> 0.99 | F17: ='DEC 2028 Metered Gen'!$L17 -> 37.972 | G17: =D17*F17 -> 87.14574 | H17: =E17*F17*(-1) -> -37.59228 | M17: Forced Outage Rating | N17: 0.05
B18: ='DEC 2028 Metered Gen'!$B18 -> 15 | C18: ='DEC 2028 Metered Gen'!$C18 -> HLH | D18: =$Z$7 -> 2.295 | E18: ='DEC 2028 Metered Gen'!$G18 -> 1.05 | F18: ='DEC 2028 Metered Gen'!$L18 -> 38.644 | G18: =D18*F18 -> 88.68798 | H18: =E18*F18*(-1) -> -40.5762 | M18: BPA Capacity Obligation (MW) | N18: =Z7-N16 -> 1.995
B19: ='DEC 2028 Metered Gen'!$B19 -> 16 | C19: ='DEC 2028 Metered Gen'!$C19 -> HLH | D19: =$Z$7 -> 2.295 | E19: ='DEC 2028 Metered Gen'!$G19 -> 0.99 | F19: ='DEC 2028 Metered Gen'!$L19 -> 39.681 | G19: =D19*F19 -> 91.067895 | H19: =E19*F19*(-1) -> -39.28419 | M19: Additional Capacity (Forced Outage) | N19: =N16*N17 -> 0.015
B20: ='DEC 2028 Metered Gen'!$B20 -> 17 | C20: ='DEC 2028 Metered Gen'!$C20 -> HLH | D20: =$Z$7 -> 2.295 | E20: ='DEC 2028 Metered Gen'!$G20 -> 1.01 | F20: ='DEC 2028 Metered Gen'!$L20 -> 39.409 | G20: =D20*F20 -> 90.443655 | H20: =E20*F20*(-1) -> -39.80309
B21: ='DEC 2028 Metered Gen'!$B21 -> 18 | C21: ='DEC 2028 Metered Gen'!$C21 -> HLH | D21: =$Z$7 -> 2.295 | E21: ='DEC 2028 Metered Gen'!$G21 -> 1.08 | F21: ='DEC 2028 Metered Gen'!$L21 -> 42.864 | G21: =D21*F21 -> 98.37288 | H21: =E21*F21*(-1) -> -46.29312 | M21: RSS Capacity Charge (Obligation * Marginal Capacity) | N21: =(N18+N19)*'Capacity Rate'!C6*1000 -> 26109.9
B22: ='DEC 2028 Metered Gen'!$B22 -> 19 | C22: ='DEC 2028 Metered Gen'!$C22 -> HLH | D22: =$Z$7 -> 2.295 | E22: ='DEC 2028 Metered Gen'!$G22 -> 1.04 | F22: ='DEC 2028 Metered Gen'!$L22 -> 44.312 | G22: =D22*F22 -> 101.69604 | H22: =E22*F22*(-1) -> -46.08448
B23: ='DEC 2028 Metered Gen'!$B23 -> 20 | C23: ='DEC 2028 Metered Gen'!$C23 -> HLH | D23: =$Z$7 -> 2.295 | E23: ='DEC 2028 Metered Gen'!$G23 -> 0.99 | F23: ='DEC 2028 Metered Gen'!$L23 -> 50.382 | G23: =D23*F23 -> 115.62669 | H23: =E23*F23*(-1) -> -49.87818
B24: ='DEC 2028 Metered Gen'!$B24 -> 21 | C24: ='DEC 2028 Metered Gen'!$C24 -> HLH | D24: =$Z$7 -> 2.295 | E24: ='DEC 2028 Metered Gen'!$G24 -> 1.14 | F24: ='DEC 2028 Metered Gen'!$L24 -> 51.791 | G24: =D24*F24 -> 118.86034 | H24: =E24*F24*(-1) -> -59.04174
B25: ='DEC 2028 Metered Gen'!$B25 -> 22 | C25: ='DEC 2028 Metered Gen'!$C25 -> HLH | D25: =$Z$7 -> 2.295 | E25: ='DEC 2028 Metered Gen'!$G25 -> 0.92 | F25: ='DEC 2028 Metered Gen'!$L25 -> 42.278 | G25: =D25*F25 -> 97.02801 | H25: =E25*F25*(-1) -> -38.89576
B26: ='DEC 2028 Metered Gen'!$B26 -> 23 | C26: ='DEC 2028 Metered Gen'!$C26 -> LLH | D26: =$Z$7 -> 2.295 | E26: ='DEC 2028 Metered Gen'!$G26 -> 1.16 | F26: ='DEC 2028 Metered Gen'!$L26 -> 43.26 | G26: =D26*F26 -> 99.2817 | H26: =E26*F26*(-1) -> -50.1816
B27: ='DEC 2028 Metered Gen'!$B27 -> 24 | C27: ='DEC 2028 Metered Gen'!$C27 -> LLH | D27: =$Z$7 -> 2.295 | E27: ='DEC 2028 Metered Gen'!$G27 -> 0.95 | F27: ='DEC 2028 Metered Gen'!$L27 -> 40.711 | G27: =D27*F27 -> 93.431745 | H27: =E27*F27*(-1) -> -38.67545
B28: ='DEC 2028 Metered Gen'!$B28 -> 25 | C28: ='DEC 2028 Metered Gen'!$C28 -> LLH | D28: =$Z$7 -> 2.295 | E28: ='DEC 2028 Metered Gen'!$G28 -> 1.13 | F28: ='DEC 2028 Metered Gen'!$L28 -> 42.374 | G28: =D28*F28 -> 97.24833 | H28: =E28*F28*(-1) -> -47.88262
B29: ='DEC 2028 Metered Gen'!$B29 -> 26 | C29: ='DEC 2028 Metered Gen'!$C29 -> LLH | D29: =$Z$7 -> 2.295 | E29: ='DEC 2028 Metered Gen'!$G29 -> 0.98 | F29: ='DEC 2028 Metered Gen'!$L29 -> 43.466 | G29: =D29*F29 -> 99.75447 | H29: =E29*F29*(-1) -> -42.59668
B30: ='DEC 2028 Metered Gen'!$B30 -> 27 | C30: ='DEC 2028 Metered Gen'!$C30 -> LLH | D30: =$Z$7 -> 2.295 | E30: ='DEC 2028 Metered Gen'!$G30 -> 1.08 | F30: ='DEC 2028 Metered Gen'!$L30 -> 43.87 | G30: =D30*F30 -> 100.68165 | H30: =E30*F30*(-1) -> -47.3796
B31: ='DEC 2028 Metered Gen'!$B31 -> 28 | C31: ='DEC 2028 Metered Gen'!$C31 -> LLH | D31: =$Z$7 -> 2.295 | E31: ='DEC 2028 Metered Gen'!$G31 -> 1.02 | F31: ='DEC 2028 Metered Gen'!$L31 -> 42.678 | G31: =D31*F31 -> 97.94601 | H31: =E31*F31*(-1) -> -43.53156
B32: ='DEC 2028 Metered Gen'!$B32 -> 29 | C32: ='DEC 2028 Metered Gen'!$C32 -> LLH | D32: =$Z$7 -> 2.295 | E32: ='DEC 2028 Metered Gen'!$G32 -> 1.08 | F32: ='DEC 2028 Metered Gen'!$L32 -> 43.748 | G32: =D32*F32 -> 100.40166 | H32: =E32*F32*(-1) -> -47.24784
B33: ='DEC 2028 Metered Gen'!$B33 -> 30 | C33: ='DEC 2028 Metered Gen'!$C33 -> LLH | D33: =$Z$7 -> 2.295 | E33: ='DEC 2028 Metered Gen'!$G33 -> 0.92 | F33: ='DEC 2028 Metered Gen'!$L33 -> 41.226 | G33: =D33*F33 -> 94.61367 | H33: =E33*F33*(-1) -> -37.92792
... B747: ='DEC 2028 Metered Gen'!$B747 -> 744 | C747: ='DEC 2028 Metered Gen'!$C747 -> LLH | D747: =$Z$7 -> 2.295 | E747: ='DEC 2028 Metered Gen'!$G747 -> 2.01 | F747: ='DEC 2028 Metered Gen'!$L747 -> 31.991 | G747: =D747*F747 -> 73.419345 | H747: =E747*F747*(-1) -> -64.30191

Sheet HydroB (Jun)
B1: RSS Cost & Credits, Exhibit A Contractual Obligations (JUN FY29)
B3: Hour in Series | C3: Diurnal Category | D3: Exhibit-A MWh (Flat) | E3: Actual Metered | F3: Market | G3: Energy Charges | H3: Energy Credits
B4: ='JUN 2029 Metered Gen'!$B4 -> 1 | C4: ='JUN 2029 Metered Gen'!$C4 -> LLH | D4: =$Z$7 -> 2.295 | E4: ='JUN 2029 Metered Gen'!$G4 -> 7.91 | F4: ='JUN 2029 Metered Gen'!$L4 -> 25.032 | G4: =D4*F4 -> 57.44844 | H4: =E4*F4*(-1) -> -198.00312 | M4: Exhibit A Specified Resource Amounts (HydroB)
B5: ='JUN 2029 Metered Gen'!$B5 -> 2 | C5: ='JUN 2029 Metered Gen'!$C5 -> LLH | D5: =$Z$7 -> 2.295 | E5: ='JUN 2029 Metered Gen'!$G5 -> 7.92 | F5: ='JUN 2029 Metered Gen'!$L5 -> 26.272 | G5: =D5*F5 -> 60.29424 | H5: =E5*F5*(-1) -> -208.07424 | N5: Oct | O5: Nov | P5: Dec | Q5: Jan | R5: Feb | S5: Mar | T5: Apr | U5: May | V5: Jun | W5: Jul | X5: Aug | Y5: Sep | Z5: annual aMW
B6: ='JUN 2029 Metered Gen'!$B6 -> 3 | C6: ='JUN 2029 Metered Gen'!$C6 -> LLH | D6: =$Z$7 -> 2.295 | E6: ='JUN 2029 Metered Gen'!$G6 -> 7.92 | F6: ='JUN 2029 Metered Gen'!$L6 -> 26.922 | G6: =D6*F6 -> 61.78599 | H6: =E6*F6*(-1) -> -213.22224 | M6: Fiscal Year 2029
B7: ='JUN 2029 Metered Gen'!$B7 -> 4 | C7: ='JUN 2029 Metered Gen'!$C7 -> LLH | D7: =$Z$7 -> 2.295 | E7: ='JUN 2029 Metered Gen'!$G7 -> 7.92 | F7: ='JUN 2029 Metered Gen'!$L7 -> 27.18 | G7: =D7*F7 -> 62.3781 | H7: =E7*F7*(-1) -> -215.2656 | M7: Total (MWh) | N7: 1400 | O7: 1070 | P7: 915 | Q7: 819 | R7: 666 | S7: 879 | T7: 1688 | U7: 5400 | V7: 4092 | W7: 1637 | X7: 869 | Y7: 671 | Z7: 2.295
B8: ='JUN 2029 Metered Gen'!$B8 -> 5 | C8: ='JUN 2029 Metered Gen'!$C8 -> LLH | D8: =$Z$7 -> 2.295 | E8: ='JUN 2029 Metered Gen'!$G8 -> 7.92 | F8: ='JUN 2029 Metered Gen'!$L8 -> 27.513 | G8: =D8*F8 -> 63.142335 | H8: =E8*F8*(-1) -> -217.90296 | M8: HLH (MWh) | N8: 783 | O8: 594 | P8: 492 | Q8: 458 | R8: 381 | S8: 512 | T8: 938 | U8: 3020 | V8: 2364 | W8: 881 | X8: 504 | Y8: 357 | Z8: 2.304
B9: ='JUN 2029 Metered Gen'!$B9 -> 6 | C9: ='JUN 2029 Metered Gen'!$C9 -> LLH | D9: =$Z$7 -> 2.295 | E9: ='JUN 2029 Metered Gen'!$G9 -> 7.92 | F9: ='JUN 2029 Metered Gen'!$L9 -> 26.751 | G9: =D9*F9 -> 61.393545 | H9: =E9*F9*(-1) -> -211.86792 | M9: LLH (MWh) | N9: 617 | O9: 476 | P9: 423 | Q9: 362 | R9: 285 | S9: 368 | T9: 750 | U9: 2381 | V9: 1728 | W9: 756 | X9: 365 | Y9: 314 | Z9: 2.283
B10: ='JUN 2029 Metered Gen'!$B10 -> 7 | C10: ='JUN 2029 Metered Gen'!$C10 -> HLH | D10: =$Z$7 -> 2.295 | E10: ='JUN 2029 Metered Gen'!$G10 -> 7.91 | F10: ='JUN 2029 Metered Gen'!$L10 -> 21.959 | G10: =D10*F10 -> 50.395905 | H10: =E10*F10*(-1) -> -173.69569 | M10: Peak (MW) | N10: 0 | O10: 0 | P10: 0.3 | Q10: 0.5 | R10: 0.6 | S10: 1.2 | T10: 1.1 | U10: 1.1 | V10: 1.1 | W10: 1.1 | X10: 0.5 | Y10: 0.3 | Z10: N/A
B11: ='JUN 2029 Metered Gen'!$B11 -> 8 | C11: ='JUN 2029 Metered Gen'!$C11 -> HLH | D11: =$Z$7 -> 2.295 | E11: ='JUN 2029 Metered Gen'!$G11 -> 7.92 | F11: ='JUN 2029 Metered Gen'!$L11 -> 21.648 | G11: =D11*F11 -> 49.68216 | H11: =E11*F11*(-1) -> -171.45216
B12: ='JUN 2029 Metered Gen'!$B12 -> 9 | C12: ='JUN 2029 Metered Gen'!$C12 -> HLH | D12: =$Z$7 -> 2.295 | E12: ='JUN 2029 Metered Gen'!$G12 -> 7.91 | F12: ='JUN 2029 Metered Gen'!$L12 -> 24.361 | G12: =D12*F12 -> 55.908495 | H12: =E12*F12*(-1) -> -192.69551 | M12: Energy Charges | N12: =SUM(G:G) -> 53278.088
B13: ='JUN 2029 Metered Gen'!$B13 -> 10 | C13: ='JUN 2029 Metered Gen'!$C13 -> HLH | D13: =$Z$7 -> 2.295 | E13: ='JUN 2029 Metered Gen'!$G13 -> 7.92 | F13: ='JUN 2029 Metered Gen'!$L13 -> 26.351 | G13: =D13*F13 -> 60.475545 | H13: =E13*F13*(-1) -> -208.69992 | M13: Energy Credits | N13: =SUM(H:H) -> -126711.61
B14: ='JUN 2029 Metered Gen'!$B14 -> 11 | C14: ='JUN 2029 Metered Gen'!$C14 -> HLH | D14: =$Z$7 -> 2.295 | E14: ='JUN 2029 Metered Gen'!$G14 -> 7.95 | F14: ='JUN 2029 Metered Gen'!$L14 -> 21.516 | G14: =D14*F14 -> 49.37922 | H14: =E14*F14*(-1) -> -171.0522 | M14: Energy Net Charges/Credits | N14: =N12+N13 -> -73433.523
B15: ='JUN 2029 Metered Gen'!$B15 -> 12 | C15: ='JUN 2029 Metered Gen'!$C15 -> HLH | D15: =$Z$7 -> 2.295 | E15: ='JUN 2029 Metered Gen'!$G15 -> 7.95 | F15: ='JUN 2029 Metered Gen'!$L15 -> 21.273 | G15: =D15*F15 -> 48.821535 | H15: =E15*F15*(-1) -> -169.12035
B16: ='JUN 2029 Metered Gen'!$B16 -> 13 | C16: ='JUN 2029 Metered Gen'!$C16 -> HLH | D16: =$Z$7 -> 2.295 | E16: ='JUN 2029 Metered Gen'!$G16 -> 7.95 | F16: ='JUN 2029 Metered Gen'!$L16 -> 21.98 | G16: =D16*F16 -> 50.4441 | H16: =E16*F16*(-1) -> -174.741 | M16: Resource QCC Capacity (MW) | N16: =$V$10 -> 1.1
B17: ='JUN 2029 Metered Gen'!$B17 -> 14 | C17: ='JUN 2029 Metered Gen'!$C17 -> HLH | D17: =$Z$7 -> 2.295 | E17: ='JUN 2029 Metered Gen'!$G17 -> 7.95 | F17: ='JUN 2029 Metered Gen'!$L17 -> 20.702 | G17: =D17*F17 -> 47.51109 | H17: =E17*F17*(-1) -> -164.5809 | M17: Forced Outage Rating | N17: 0.05
B18: ='JUN 2029 Metered Gen'!$B18 -> 15 | C18: ='JUN 2029 Metered Gen'!$C18 -> HLH | D18: =$Z$7 -> 2.295 | E18: ='JUN 2029 Metered Gen'!$G18 -> 7.95 | F18: ='JUN 2029 Metered Gen'!$L18 -> 26.282 | G18: =D18*F18 -> 60.31719 | H18: =E18*F18*(-1) -> -208.9419 | M18: BPA Capacity Obligation (MW) | N18: =Z7-N16 -> 1.195
B19: ='JUN 2029 Metered Gen'!$B19 -> 16 | C19: ='JUN 2029 Metered Gen'!$C19 -> HLH | D19: =$Z$7 -> 2.295 | E19: ='JUN 2029 Metered Gen'!$G19 -> 7.95 | F19: ='JUN 2029 Metered Gen'!$L19 -> 34.466 | G19: =D19*F19 -> 79.09947 | H19: =E19*F19*(-1) -> -274.0047 | M19: Additional Capacity (Forced Outage) | N19: =N16*N17 -> 0.055
B20: ='JUN 2029 Metered Gen'!$B20 -> 17 | C20: ='JUN 2029 Metered Gen'!$C20 -> HLH | D20: =$Z$7 -> 2.295 | E20: ='JUN 2029 Metered Gen'!$G20 -> 7.95 | F20: ='JUN 2029 Metered Gen'!$L20 -> 30.974 | G20: =D20*F20 -> 71.08533 | H20: =E20*F20*(-1) -> -246.2433
B21: ='JUN 2029 Metered Gen'!$B21 -> 18 | C21: ='JUN 2029 Metered Gen'!$C21 -> HLH | D21: =$Z$7 -> 2.295 | E21: ='JUN 2029 Metered Gen'!$G21 -> 7.95 | F21: ='JUN 2029 Metered Gen'!$L21 -> 27.53 | G21: =D21*F21 -> 63.18135 | H21: =E21*F21*(-1) -> -218.8635 | M21: RSS Capacity Charge (Obligation * Marginal Capacity) | N21: =(N18+N19)*'Capacity Rate'!C12*1000 -> 5150
B22: ='JUN 2029 Metered Gen'!$B22 -> 19 | C22: ='JUN 2029 Metered Gen'!$C22 -> HLH | D22: =$Z$7 -> 2.295 | E22: ='JUN 2029 Metered Gen'!$G22 -> 7.97 | F22: ='JUN 2029 Metered Gen'!$L22 -> 29.261 | G22: =D22*F22 -> 67.153995 | H22: =E22*F22*(-1) -> -233.21017
B23: ='JUN 2029 Metered Gen'!$B23 -> 20 | C23: ='JUN 2029 Metered Gen'!$C23 -> HLH | D23: =$Z$7 -> 2.295 | E23: ='JUN 2029 Metered Gen'!$G23 -> 7.95 | F23: ='JUN 2029 Metered Gen'!$L23 -> 28.339 | G23: =D23*F23 -> 65.038005 | H23: =E23*F23*(-1) -> -225.29505
B24: ='JUN 2029 Metered Gen'!$B24 -> 21 | C24: ='JUN 2029 Metered Gen'!$C24 -> HLH | D24: =$Z$7 -> 2.295 | E24: ='JUN 2029 Metered Gen'!$G24 -> 7.95 | F24: ='JUN 2029 Metered Gen'!$L24 -> 28.326 | G24: =D24*F24 -> 65.00817 | H24: =E24*F24*(-1) -> -225.1917
B25: ='JUN 2029 Metered Gen'!$B25 -> 22 | C25: ='JUN 2029 Metered Gen'!$C25 -> HLH | D25: =$Z$7 -> 2.295 | E25: ='JUN 2029 Metered Gen'!$G25 -> 7.97 | F25: ='JUN 2029 Metered Gen'!$L25 -> 29.13 | G25: =D25*F25 -> 66.85335 | H25: =E25*F25*(-1) -> -232.1661
B26: ='JUN 2029 Metered Gen'!$B26 -> 23 | C26: ='JUN 2029 Metered Gen'!$C26 -> LLH | D26: =$Z$7 -> 2.295 | E26: ='JUN 2029 Metered Gen'!$G26 -> 7.92 | F26: ='JUN 2029 Metered Gen'!$L26 -> 28.003 | G26: =D26*F26 -> 64.266885 | H26: =E26*F26*(-1) -> -221.78376
B27: ='JUN 2029 Metered Gen'!$B27 -> 24 | C27: ='JUN 2029 Metered Gen'!$C27 -> LLH | D27: =$Z$7 -> 2.295 | E27: ='JUN 2029 Metered Gen'!$G27 -> 7.92 | F27: ='JUN 2029 Metered Gen'!$L27 -> 26.678 | G27: =D27*F27 -> 61.22601 | H27: =E27*F27*(-1) -> -211.28976
B28: ='JUN 2029 Metered Gen'!$B28 -> 25 | C28: ='JUN 2029 Metered Gen'!$C28 -> LLH | D28: =$Z$7 -> 2.295 | E28: ='JUN 2029 Metered Gen'!$G28 -> 7.92 | F28: ='JUN 2029 Metered Gen'!$L28 -> 26.705 | G28: =D28*F28 -> 61.287975 | H28: =E28*F28*(-1) -> -211.5036
B29: ='JUN 2029 Metered Gen'!$B29 -> 26 | C29: ='JUN 2029 Metered Gen'!$C29 -> LLH | D29: =$Z$7 -> 2.295 | E29: ='JUN 2029 Metered Gen'!$G29 -> 7.94 | F29: ='JUN 2029 Metered Gen'!$L29 -> 25.828 | G29: =D29*F29 -> 59.27526 | H29: =E29*F29*(-1) -> -205.07432
B30: ='JUN 2029 Metered Gen'!$B30 -> 27 | C30: ='JUN 2029 Metered Gen'!$C30 -> LLH | D30: =$Z$7 -> 2.295 | E30: ='JUN 2029 Metered Gen'!$G30 -> 7.92 | F30: ='JUN 2029 Metered Gen'!$L30 -> 24.622 | G30: =D30*F30 -> 56.50749 | H30: =E30*F30*(-1) -> -195.00624
B31: ='JUN 2029 Metered Gen'!$B31 -> 28 | C31: ='JUN 2029 Metered Gen'!$C31 -> LLH | D31: =$Z$7 -> 2.295 | E31: ='JUN 2029 Metered Gen'!$G31 -> 7.92 | F31: ='JUN 2029 Metered Gen'!$L31 -> 26.335 | G31: =D31*F31 -> 60.438825 | H31: =E31*F31*(-1) -> -208.5732
B32: ='JUN 2029 Metered Gen'!$B32 -> 29 | C32: ='JUN 2029 Metered Gen'!$C32 -> LLH | D32: =$Z$7 -> 2.295 | E32: ='JUN 2029 Metered Gen'!$G32 -> 7.92 | F32: ='JUN 2029 Metered Gen'!$L32 -> 31.073 | G32: =D32*F32 -> 71.312535 | H32: =E32*F32*(-1) -> -246.09816
B33: ='JUN 2029 Metered Gen'!$B33 -> 30 | C33: ='JUN 2029 Metered Gen'!$C33 -> LLH | D33: =$Z$7 -> 2.295 | E33: ='JUN 2029 Metered Gen'!$G33 -> 7.94 | F33: ='JUN 2029 Metered Gen'!$L33 -> 33.488 | G33: =D33*F33 -> 76.85496 | H33: =E33*F33*(-1) -> -265.89472
... B723: ='JUN 2029 Metered Gen'!$B723 -> 720 | C723: ='JUN 2029 Metered Gen'!$C723 -> LLH | D723: =$Z$7 -> 2.295 | E723: ='JUN 2029 Metered Gen'!$G723 -> 3.53 | F723: ='JUN 2029 Metered Gen'!$L723 -> 32.833 | G723: =D723*F723 -> 75.351735 | H723: =E723*F723*(-1) -> -115.90049

Sheet SolarB (Dec)
B1: RSS Cost & Credits, Exhibit A Contractual Obligations (DEC FY29)
B3: Hour in Series | C3: Diurnal Category | D3: Exhibit-A MWh (Flat) | E3: Actual Metered | F3: Market | G3: Energy Charges | H3: Energy Credits
B4: ='DEC 2028 Metered Gen'!$B4 -> 1 | C4: ='DEC 2028 Metered Gen'!$C4 -> LLH | D4: =$Z$7 -> 29.1 | E4: ='DEC 2028 Metered Gen'!$H4 -> 0 | F4: ='DEC 2028 Metered Gen'!$L4 -> 40.525 | G4: =D4*F4 -> 1179.2775 | H4: =E4*F4*(-1) -> 0 | M4: Exhibit A Specified Resource Amounts (SolarB)
B5: ='DEC 2028 Metered Gen'!$B5 -> 2 | C5: ='DEC 2028 Metered Gen'!$C5 -> LLH | D5: =$Z$7 -> 29.1 | E5: ='DEC 2028 Metered Gen'!$H5 -> 0 | F5: ='DEC 2028 Metered Gen'!$L5 -> 40.616 | G5: =D5*F5 -> 1181.9256 | H5: =E5*F5*(-1) -> 0 | N5: Oct | O5: Nov | P5: Dec | Q5: Jan | R5: Feb | S5: Mar | T5: Apr | U5: May | V5: Jun | W5: Jul | X5: Aug | Y5: Sep | Z5: annual aMW
B6: ='DEC 2028 Metered Gen'!$B6 -> 3 | C6: ='DEC 2028 Metered Gen'!$C6 -> LLH | D6: =$Z$7 -> 29.1 | E6: ='DEC 2028 Metered Gen'!$H6 -> 0 | F6: ='DEC 2028 Metered Gen'!$L6 -> 37.251 | G6: =D6*F6 -> 1084.0041 | H6: =E6*F6*(-1) -> 0 | M6: Fiscal Year 2029
B7: ='DEC 2028 Metered Gen'!$B7 -> 4 | C7: ='DEC 2028 Metered Gen'!$C7 -> LLH | D7: =$Z$7 -> 29.1 | E7: ='DEC 2028 Metered Gen'!$H7 -> 0 | F7: ='DEC 2028 Metered Gen'!$L7 -> 37.81 | G7: =D7*F7 -> 1100.271 | H7: =E7*F7*(-1) -> 0 | M7: Total (MWh) | N7: 18050 | O7: 9800 | P7: 7400 | Q7: 7750 | R7: 13350 | S7: 20800 | T7: 26850 | U7: 30450 | V7: 31550 | W7: 33350 | X7: 30900 | Y7: 24800 | Z7: 29.1
B8: ='DEC 2028 Metered Gen'!$B8 -> 5 | C8: ='DEC 2028 Metered Gen'!$C8 -> LLH | D8: =$Z$7 -> 29.1 | E8: ='DEC 2028 Metered Gen'!$H8 -> 0 | F8: ='DEC 2028 Metered Gen'!$L8 -> 36.164 | G8: =D8*F8 -> 1052.3724 | H8: =E8*F8*(-1) -> 0 | M8: HLH (MWh) | N8: 15150 | O8: 8150 | P8: 5950 | Q8: 6500 | R8: 11450 | S8: 18100 | T8: 22400 | U8: 25550 | V8: 27350 | W8: 26900 | X8: 26900 | Y8: 19800 | Z8: 43.75
B9: ='DEC 2028 Metered Gen'!$B9 -> 6 | C9: ='DEC 2028 Metered Gen'!$C9 -> LLH | D9: =$Z$7 -> 29.1 | E9: ='DEC 2028 Metered Gen'!$H9 -> 0 | F9: ='DEC 2028 Metered Gen'!$L9 -> 39.391 | G9: =D9*F9 -> 1146.2781 | H9: =E9*F9*(-1) -> 0 | M9: LLH (MWh) | N9: 2900 | O9: 1700 | P9: 1450 | Q9: 1250 | R9: 1900 | S9: 2700 | T9: 4450 | U9: 4900 | V9: 4200 | W9: 6450 | X9: 4000 | Y9: 5000 | Z9: 10.55
B10: ='DEC 2028 Metered Gen'!$B10 -> 7 | C10: ='DEC 2028 Metered Gen'!$C10 -> HLH | D10: =$Z$7 -> 29.1 | E10: ='DEC 2028 Metered Gen'!$H10 -> 0 | F10: ='DEC 2028 Metered Gen'!$L10 -> 41.121 | G10: =D10*F10 -> 1196.6211 | H10: =E10*F10*(-1) -> 0 | M10: Peak (MW) | N10: 0 | O10: 0 | P10: 15 | Q10: 0 | R10: 25 | S10: 10 | T10: 10 | U10: 10 | V10: 110 | W10: 65 | X10: 55 | Y10: 35 | Z10: N/A
B11: ='DEC 2028 Metered Gen'!$B11 -> 8 | C11: ='DEC 2028 Metered Gen'!$C11 -> HLH | D11: =$Z$7 -> 29.1 | E11: ='DEC 2028 Metered Gen'!$H11 -> 0.51 | F11: ='DEC 2028 Metered Gen'!$L11 -> 42.647 | G11: =D11*F11 -> 1241.0277 | H11: =E11*F11*(-1) -> -21.74997
B12: ='DEC 2028 Metered Gen'!$B12 -> 9 | C12: ='DEC 2028 Metered Gen'!$C12 -> HLH | D12: =$Z$7 -> 29.1 | E12: ='DEC 2028 Metered Gen'!$H12 -> 2.85 | F12: ='DEC 2028 Metered Gen'!$L12 -> 42.495 | G12: =D12*F12 -> 1236.6045 | H12: =E12*F12*(-1) -> -121.11075 | M12: Energy Charges | N12: =SUM(G:G) -> 750362.68
B13: ='DEC 2028 Metered Gen'!$B13 -> 10 | C13: ='DEC 2028 Metered Gen'!$C13 -> HLH | D13: =$Z$7 -> 29.1 | E13: ='DEC 2028 Metered Gen'!$H13 -> 9.31 | F13: ='DEC 2028 Metered Gen'!$L13 -> 46.782 | G13: =D13*F13 -> 1361.3562 | H13: =E13*F13*(-1) -> -435.54042 | M13: Energy Credits | N13: =SUM(H:H) -> -249281.16
B14: ='DEC 2028 Metered Gen'!$B14 -> 11 | C14: ='DEC 2028 Metered Gen'!$C14 -> HLH | D14: =$Z$7 -> 29.1 | E14: ='DEC 2028 Metered Gen'!$H14 -> 12.11 | F14: ='DEC 2028 Metered Gen'!$L14 -> 42.815 | G14: =D14*F14 -> 1245.9165 | H14: =E14*F14*(-1) -> -518.48965 | M14: Energy Net Charges/Credits | N14: =N12+N13 -> 501081.52
B15: ='DEC 2028 Metered Gen'!$B15 -> 12 | C15: ='DEC 2028 Metered Gen'!$C15 -> HLH | D15: =$Z$7 -> 29.1 | E15: ='DEC 2028 Metered Gen'!$H15 -> 16.76 | F15: ='DEC 2028 Metered Gen'!$L15 -> 40.335 | G15: =D15*F15 -> 1173.7485 | H15: =E15*F15*(-1) -> -676.0146
B16: ='DEC 2028 Metered Gen'!$B16 -> 13 | C16: ='DEC 2028 Metered Gen'!$C16 -> HLH | D16: =$Z$7 -> 29.1 | E16: ='DEC 2028 Metered Gen'!$H16 -> 18.24 | F16: ='DEC 2028 Metered Gen'!$L16 -> 39.773 | G16: =D16*F16 -> 1157.3943 | H16: =E16*F16*(-1) -> -725.45952 | M16: Resource QCC Capacity (MW) | N16: =$P$10 -> 15
B17: ='DEC 2028 Metered Gen'!$B17 -> 14 | C17: ='DEC 2028 Metered Gen'!$C17 -> HLH | D17: =$Z$7 -> 29.1 | E17: ='DEC 2028 Metered Gen'!$H17 -> 29.09 | F17: ='DEC 2028 Metered Gen'!$L17 -> 37.972 | G17: =D17*F17 -> 1104.9852 | H17: =E17*F17*(-1) -> -1104.6055 | M17: Forced Outage Rating | N17: 0
B18: ='DEC 2028 Metered Gen'!$B18 -> 15 | C18: ='DEC 2028 Metered Gen'!$C18 -> HLH | D18: =$Z$7 -> 29.1 | E18: ='DEC 2028 Metered Gen'!$H18 -> 23.95 | F18: ='DEC 2028 Metered Gen'!$L18 -> 38.644 | G18: =D18*F18 -> 1124.5404 | H18: =E18*F18*(-1) -> -925.5238 | M18: BPA Capacity Obligation (MW) | N18: =Z7-N16 -> 14.1
B19: ='DEC 2028 Metered Gen'!$B19 -> 16 | C19: ='DEC 2028 Metered Gen'!$C19 -> HLH | D19: =$Z$7 -> 29.1 | E19: ='DEC 2028 Metered Gen'!$H19 -> 5.77 | F19: ='DEC 2028 Metered Gen'!$L19 -> 39.681 | G19: =D19*F19 -> 1154.7171 | H19: =E19*F19*(-1) -> -228.95937 | M19: Additional Capacity (Forced Outage) | N19: =N16*N17 -> 0
B20: ='DEC 2028 Metered Gen'!$B20 -> 17 | C20: ='DEC 2028 Metered Gen'!$C20 -> HLH | D20: =$Z$7 -> 29.1 | E20: ='DEC 2028 Metered Gen'!$H20 -> 0.03 | F20: ='DEC 2028 Metered Gen'!$L20 -> 39.409 | G20: =D20*F20 -> 1146.8019 | H20: =E20*F20*(-1) -> -1.18227
B21: ='DEC 2028 Metered Gen'!$B21 -> 18 | C21: ='DEC 2028 Metered Gen'!$C21 -> HLH | D21: =$Z$7 -> 29.1 | E21: ='DEC 2028 Metered Gen'!$H21 -> 0 | F21: ='DEC 2028 Metered Gen'!$L21 -> 42.864 | G21: =D21*F21 -> 1247.3424 | H21: =E21*F21*(-1) -> 0 | M21: RSS Capacity Charge (Obligation * Marginal Capacity) | N21: =(N18+N19)*'Capacity Rate'!C6*1000 -> 183159
B22: ='DEC 2028 Metered Gen'!$B22 -> 19 | C22: ='DEC 2028 Metered Gen'!$C22 -> HLH | D22: =$Z$7 -> 29.1 | E22: ='DEC 2028 Metered Gen'!$H22 -> 0 | F22: ='DEC 2028 Metered Gen'!$L22 -> 44.312 | G22: =D22*F22 -> 1289.4792 | H22: =E22*F22*(-1) -> 0
B23: ='DEC 2028 Metered Gen'!$B23 -> 20 | C23: ='DEC 2028 Metered Gen'!$C23 -> HLH | D23: =$Z$7 -> 29.1 | E23: ='DEC 2028 Metered Gen'!$H23 -> 0 | F23: ='DEC 2028 Metered Gen'!$L23 -> 50.382 | G23: =D23*F23 -> 1466.1162 | H23: =E23*F23*(-1) -> 0
B24: ='DEC 2028 Metered Gen'!$B24 -> 21 | C24: ='DEC 2028 Metered Gen'!$C24 -> HLH | D24: =$Z$7 -> 29.1 | E24: ='DEC 2028 Metered Gen'!$H24 -> 0 | F24: ='DEC 2028 Metered Gen'!$L24 -> 51.791 | G24: =D24*F24 -> 1507.1181 | H24: =E24*F24*(-1) -> 0
B25: ='DEC 2028 Metered Gen'!$B25 -> 22 | C25: ='DEC 2028 Metered Gen'!$C25 -> HLH | D25: =$Z$7 -> 29.1 | E25: ='DEC 2028 Metered Gen'!$H25 -> 0 | F25: ='DEC 2028 Metered Gen'!$L25 -> 42.278 | G25: =D25*F25 -> 1230.2898 | H25: =E25*F25*(-1) -> 0
B26: ='DEC 2028 Metered Gen'!$B26 -> 23 | C26: ='DEC 2028 Metered Gen'!$C26 -> LLH | D26: =$Z$7 -> 29.1 | E26: ='DEC 2028 Metered Gen'!$H26 -> 0 | F26: ='DEC 2028 Metered Gen'!$L26 -> 43.26 | G26: =D26*F26 -> 1258.866 | H26: =E26*F26*(-1) -> 0
B27: ='DEC 2028 Metered Gen'!$B27 -> 24 | C27: ='DEC 2028 Metered Gen'!$C27 -> LLH | D27: =$Z$7 -> 29.1 | E27: ='DEC 2028 Metered Gen'!$H27 -> 0 | F27: ='DEC 2028 Metered Gen'!$L27 -> 40.711 | G27: =D27*F27 -> 1184.6901 | H27: =E27*F27*(-1) -> 0
B28: ='DEC 2028 Metered Gen'!$B28 -> 25 | C28: ='DEC 2028 Metered Gen'!$C28 -> LLH | D28: =$Z$7 -> 29.1 | E28: ='DEC 2028 Metered Gen'!$H28 -> 0 | F28: ='DEC 2028 Metered Gen'!$L28 -> 42.374 | G28: =D28*F28 -> 1233.0834 | H28: =E28*F28*(-1) -> 0
B29: ='DEC 2028 Metered Gen'!$B29 -> 26 | C29: ='DEC 2028 Metered Gen'!$C29 -> LLH | D29: =$Z$7 -> 29.1 | E29: ='DEC 2028 Metered Gen'!$H29 -> 0 | F29: ='DEC 2028 Metered Gen'!$L29 -> 43.466 | G29: =D29*F29 -> 1264.8606 | H29: =E29*F29*(-1) -> 0
B30: ='DEC 2028 Metered Gen'!$B30 -> 27 | C30: ='DEC 2028 Metered Gen'!$C30 -> LLH | D30: =$Z$7 -> 29.1 | E30: ='DEC 2028 Metered Gen'!$H30 -> 0 | F30: ='DEC 2028 Metered Gen'!$L30 -> 43.87 | G30: =D30*F30 -> 1276.617 | H30: =E30*F30*(-1) -> 0
B31: ='DEC 2028 Metered Gen'!$B31 -> 28 | C31: ='DEC 2028 Metered Gen'!$C31 -> LLH | D31: =$Z$7 -> 29.1 | E31: ='DEC 2028 Metered Gen'!$H31 -> 0 | F31: ='DEC 2028 Metered Gen'!$L31 -> 42.678 | G31: =D31*F31 -> 1241.9298 | H31: =E31*F31*(-1) -> 0
B32: ='DEC 2028 Metered Gen'!$B32 -> 29 | C32: ='DEC 2028 Metered Gen'!$C32 -> LLH | D32: =$Z$7 -> 29.1 | E32: ='DEC 2028 Metered Gen'!$H32 -> 0 | F32: ='DEC 2028 Metered Gen'!$L32 -> 43.748 | G32: =D32*F32 -> 1273.0668 | H32: =E32*F32*(-1) -> 0
B33: ='DEC 2028 Metered Gen'!$B33 -> 30 | C33: ='DEC 2028 Metered Gen'!$C33 -> LLH | D33: =$Z$7 -> 29.1 | E33: ='DEC 2028 Metered Gen'!$H33 -> 0 | F33: ='DEC 2028 Metered Gen'!$L33 -> 41.226 | G33: =D33*F33 -> 1199.6766 | H33: =E33*F33*(-1) -> 0
... B747: ='DEC 2028 Metered Gen'!$B747 -> 744 | C747: ='DEC 2028 Metered Gen'!$C747 -> LLH | D747: =$Z$7 -> 29.1 | E747: ='DEC 2028 Metered Gen'!$H747 -> 0 | F747: ='DEC 2028 Metered Gen'!$L747 -> 31.991 | G747: =D747*F747 -> 930.9381 | H747: =E747*F747*(-1) -> 0

Sheet SolarB (Jun)
B1: RSS Cost & Credits, Exhibit A Contractual Obligations (JUN FY29)
B3: Hour in Series | C3: Diurnal Category | D3: Exhibit-A MWh (Flat) | E3: Actual Metered | F3: Market | G3: Energy Charges | H3: Energy Credits
B4: ='JUN 2029 Metered Gen'!$B4 -> 1 | C4: ='JUN 2029 Metered Gen'!$C4 -> LLH | D4: =$Z$7 -> 29.1 | E4: ='JUN 2029 Metered Gen'!$H4 -> 0 | F4: ='JUN 2029 Metered Gen'!$L4 -> 25.032 | G4: =D4*F4 -> 728.4312 | H4: =E4*F4*(-1) -> 0 | M4: Exhibit A Specified Resource Amounts (SolarB)
B5: ='JUN 2029 Metered Gen'!$B5 -> 2 | C5: ='JUN 2029 Metered Gen'!$C5 -> LLH | D5: =$Z$7 -> 29.1 | E5: ='JUN 2029 Metered Gen'!$H5 -> 0 | F5: ='JUN 2029 Metered Gen'!$L5 -> 26.272 | G5: =D5*F5 -> 764.5152 | H5: =E5*F5*(-1) -> 0 | N5: Oct | O5: Nov | P5: Dec | Q5: Jan | R5: Feb | S5: Mar | T5: Apr | U5: May | V5: Jun | W5: Jul | X5: Aug | Y5: Sep | Z5: annual aMW
B6: ='JUN 2029 Metered Gen'!$B6 -> 3 | C6: ='JUN 2029 Metered Gen'!$C6 -> LLH | D6: =$Z$7 -> 29.1 | E6: ='JUN 2029 Metered Gen'!$H6 -> 0 | F6: ='JUN 2029 Metered Gen'!$L6 -> 26.922 | G6: =D6*F6 -> 783.4302 | H6: =E6*F6*(-1) -> 0 | M6: Fiscal Year 2029
B7: ='JUN 2029 Metered Gen'!$B7 -> 4 | C7: ='JUN 2029 Metered Gen'!$C7 -> LLH | D7: =$Z$7 -> 29.1 | E7: ='JUN 2029 Metered Gen'!$H7 -> 0 | F7: ='JUN 2029 Metered Gen'!$L7 -> 27.18 | G7: =D7*F7 -> 790.938 | H7: =E7*F7*(-1) -> 0 | M7: Total (MWh) | N7: 18050 | O7: 9800 | P7: 7400 | Q7: 7750 | R7: 13350 | S7: 20800 | T7: 26850 | U7: 30450 | V7: 31550 | W7: 33350 | X7: 30900 | Y7: 24800 | Z7: 29.1
B8: ='JUN 2029 Metered Gen'!$B8 -> 5 | C8: ='JUN 2029 Metered Gen'!$C8 -> LLH | D8: =$Z$7 -> 29.1 | E8: ='JUN 2029 Metered Gen'!$H8 -> 0 | F8: ='JUN 2029 Metered Gen'!$L8 -> 27.513 | G8: =D8*F8 -> 800.6283 | H8: =E8*F8*(-1) -> 0 | M8: HLH (MWh) | N8: 15150 | O8: 8150 | P8: 5950 | Q8: 6500 | R8: 11450 | S8: 18100 | T8: 22400 | U8: 25550 | V8: 27350 | W8: 26900 | X8: 26900 | Y8: 19800 | Z8: 43.75
B9: ='JUN 2029 Metered Gen'!$B9 -> 6 | C9: ='JUN 2029 Metered Gen'!$C9 -> LLH | D9: =$Z$7 -> 29.1 | E9: ='JUN 2029 Metered Gen'!$H9 -> 2.78 | F9: ='JUN 2029 Metered Gen'!$L9 -> 26.751 | G9: =D9*F9 -> 778.4541 | H9: =E9*F9*(-1) -> -74.36778 | M9: LLH (MWh) | N9: 2900 | O9: 1700 | P9: 1450 | Q9: 1250 | R9: 1900 | S9: 2700 | T9: 4450 | U9: 4900 | V9: 4200 | W9: 6450 | X9: 4000 | Y9: 5000 | Z9: 10.55
B10: ='JUN 2029 Metered Gen'!$B10 -> 7 | C10: ='JUN 2029 Metered Gen'!$C10 -> HLH | D10: =$Z$7 -> 29.1 | E10: ='JUN 2029 Metered Gen'!$H10 -> 12.66 | F10: ='JUN 2029 Metered Gen'!$L10 -> 21.959 | G10: =D10*F10 -> 639.0069 | H10: =E10*F10*(-1) -> -278.00094 | M10: Peak (MW) | N10: 0 | O10: 0 | P10: 15 | Q10: 0 | R10: 25 | S10: 10 | T10: 10 | U10: 10 | V10: 110 | W10: 65 | X10: 55 | Y10: 35 | Z10: N/A
B11: ='JUN 2029 Metered Gen'!$B11 -> 8 | C11: ='JUN 2029 Metered Gen'!$C11 -> HLH | D11: =$Z$7 -> 29.1 | E11: ='JUN 2029 Metered Gen'!$H11 -> 38.85 | F11: ='JUN 2029 Metered Gen'!$L11 -> 21.648 | G11: =D11*F11 -> 629.9568 | H11: =E11*F11*(-1) -> -841.0248
B12: ='JUN 2029 Metered Gen'!$B12 -> 9 | C12: ='JUN 2029 Metered Gen'!$C12 -> HLH | D12: =$Z$7 -> 29.1 | E12: ='JUN 2029 Metered Gen'!$H12 -> 82.81 | F12: ='JUN 2029 Metered Gen'!$L12 -> 24.361 | G12: =D12*F12 -> 708.9051 | H12: =E12*F12*(-1) -> -2017.3344 | M12: Energy Charges | N12: =SUM(G:G) -> 675552.22
B13: ='JUN 2029 Metered Gen'!$B13 -> 10 | C13: ='JUN 2029 Metered Gen'!$C13 -> HLH | D13: =$Z$7 -> 29.1 | E13: ='JUN 2029 Metered Gen'!$H13 -> 119.85 | F13: ='JUN 2029 Metered Gen'!$L13 -> 26.351 | G13: =D13*F13 -> 766.8141 | H13: =E13*F13*(-1) -> -3158.1673 | M13: Energy Credits | N13: =SUM(H:H) -> -1166437.1
B14: ='JUN 2029 Metered Gen'!$B14 -> 11 | C14: ='JUN 2029 Metered Gen'!$C14 -> HLH | D14: =$Z$7 -> 29.1 | E14: ='JUN 2029 Metered Gen'!$H14 -> 148.04 | F14: ='JUN 2029 Metered Gen'!$L14 -> 21.516 | G14: =D14*F14 -> 626.1156 | H14: =E14*F14*(-1) -> -3185.2286 | M14: Energy Net Charges/Credits | N14: =N12+N13 -> -490884.86
B15: ='JUN 2029 Metered Gen'!$B15 -> 12 | C15: ='JUN 2029 Metered Gen'!$C15 -> HLH | D15: =$Z$7 -> 29.1 | E15: ='JUN 2029 Metered Gen'!$H15 -> 157.95 | F15: ='JUN 2029 Metered Gen'!$L15 -> 21.273 | G15: =D15*F15 -> 619.0443 | H15: =E15*F15*(-1) -> -3360.0703
B16: ='JUN 2029 Metered Gen'!$B16 -> 13 | C16: ='JUN 2029 Metered Gen'!$C16 -> HLH | D16: =$Z$7 -> 29.1 | E16: ='JUN 2029 Metered Gen'!$H16 -> 158.08 | F16: ='JUN 2029 Metered Gen'!$L16 -> 21.98 | G16: =D16*F16 -> 639.618 | H16: =E16*F16*(-1) -> -3474.5984 | M16: Resource QCC Capacity (MW) | N16: =$V$10 -> 110
B17: ='JUN 2029 Metered Gen'!$B17 -> 14 | C17: ='JUN 2029 Metered Gen'!$C17 -> HLH | D17: =$Z$7 -> 29.1 | E17: ='JUN 2029 Metered Gen'!$H17 -> 158.25 | F17: ='JUN 2029 Metered Gen'!$L17 -> 20.702 | G17: =D17*F17 -> 602.4282 | H17: =E17*F17*(-1) -> -3276.0915 | M17: Forced Outage Rating | N17: 0
B18: ='JUN 2029 Metered Gen'!$B18 -> 15 | C18: ='JUN 2029 Metered Gen'!$C18 -> HLH | D18: =$Z$7 -> 29.1 | E18: ='JUN 2029 Metered Gen'!$H18 -> 156.99 | F18: ='JUN 2029 Metered Gen'!$L18 -> 26.282 | G18: =D18*F18 -> 764.8062 | H18: =E18*F18*(-1) -> -4126.0112 | M18: BPA Capacity Obligation (MW) | N18: =Z7-N16 -> -80.9
B19: ='JUN 2029 Metered Gen'!$B19 -> 16 | C19: ='JUN 2029 Metered Gen'!$C19 -> HLH | D19: =$Z$7 -> 29.1 | E19: ='JUN 2029 Metered Gen'!$H19 -> 140.1 | F19: ='JUN 2029 Metered Gen'!$L19 -> 34.466 | G19: =D19*F19 -> 1002.9606 | H19: =E19*F19*(-1) -> -4828.6866 | M19: Additional Capacity (Forced Outage) | N19: =N16*N17 -> 0
B20: ='JUN 2029 Metered Gen'!$B20 -> 17 | C20: ='JUN 2029 Metered Gen'!$C20 -> HLH | D20: =$Z$7 -> 29.1 | E20: ='JUN 2029 Metered Gen'!$H20 -> 109.73 | F20: ='JUN 2029 Metered Gen'!$L20 -> 30.974 | G20: =D20*F20 -> 901.3434 | H20: =E20*F20*(-1) -> -3398.777
B21: ='JUN 2029 Metered Gen'!$B21 -> 18 | C21: ='JUN 2029 Metered Gen'!$C21 -> HLH | D21: =$Z$7 -> 29.1 | E21: ='JUN 2029 Metered Gen'!$H21 -> 71.22 | F21: ='JUN 2029 Metered Gen'!$L21 -> 27.53 | G21: =D21*F21 -> 801.123 | H21: =E21*F21*(-1) -> -1960.6866 | M21: RSS Capacity Charge (Obligation * Marginal Capacity) | N21: =(N18+N19)*'Capacity Rate'!C12*1000 -> -333308
B22: ='JUN 2029 Metered Gen'!$B22 -> 19 | C22: ='JUN 2029 Metered Gen'!$C22 -> HLH | D22: =$Z$7 -> 29.1 | E22: ='JUN 2029 Metered Gen'!$H22 -> 31.64 | F22: ='JUN 2029 Metered Gen'!$L22 -> 29.261 | G22: =D22*F22 -> 851.4951 | H22: =E22*F22*(-1) -> -925.81804
B23: ='JUN 2029 Metered Gen'!$B23 -> 20 | C23: ='JUN 2029 Metered Gen'!$C23 -> HLH | D23: =$Z$7 -> 29.1 | E23: ='JUN 2029 Metered Gen'!$H23 -> 12.21 | F23: ='JUN 2029 Metered Gen'!$L23 -> 28.339 | G23: =D23*F23 -> 824.6649 | H23: =E23*F23*(-1) -> -346.01919
B24: ='JUN 2029 Metered Gen'!$B24 -> 21 | C24: ='JUN 2029 Metered Gen'!$C24 -> HLH | D24: =$Z$7 -> 29.1 | E24: ='JUN 2029 Metered Gen'!$H24 -> 1.38 | F24: ='JUN 2029 Metered Gen'!$L24 -> 28.326 | G24: =D24*F24 -> 824.2866 | H24: =E24*F24*(-1) -> -39.08988
B25: ='JUN 2029 Metered Gen'!$B25 -> 22 | C25: ='JUN 2029 Metered Gen'!$C25 -> HLH | D25: =$Z$7 -> 29.1 | E25: ='JUN 2029 Metered Gen'!$H25 -> 0 | F25: ='JUN 2029 Metered Gen'!$L25 -> 29.13 | G25: =D25*F25 -> 847.683 | H25: =E25*F25*(-1) -> 0
B26: ='JUN 2029 Metered Gen'!$B26 -> 23 | C26: ='JUN 2029 Metered Gen'!$C26 -> LLH | D26: =$Z$7 -> 29.1 | E26: ='JUN 2029 Metered Gen'!$H26 -> 0 | F26: ='JUN 2029 Metered Gen'!$L26 -> 28.003 | G26: =D26*F26 -> 814.8873 | H26: =E26*F26*(-1) -> 0
B27: ='JUN 2029 Metered Gen'!$B27 -> 24 | C27: ='JUN 2029 Metered Gen'!$C27 -> LLH | D27: =$Z$7 -> 29.1 | E27: ='JUN 2029 Metered Gen'!$H27 -> 0 | F27: ='JUN 2029 Metered Gen'!$L27 -> 26.678 | G27: =D27*F27 -> 776.3298 | H27: =E27*F27*(-1) -> 0
B28: ='JUN 2029 Metered Gen'!$B28 -> 25 | C28: ='JUN 2029 Metered Gen'!$C28 -> LLH | D28: =$Z$7 -> 29.1 | E28: ='JUN 2029 Metered Gen'!$H28 -> 0 | F28: ='JUN 2029 Metered Gen'!$L28 -> 26.705 | G28: =D28*F28 -> 777.1155 | H28: =E28*F28*(-1) -> 0
B29: ='JUN 2029 Metered Gen'!$B29 -> 26 | C29: ='JUN 2029 Metered Gen'!$C29 -> LLH | D29: =$Z$7 -> 29.1 | E29: ='JUN 2029 Metered Gen'!$H29 -> 0 | F29: ='JUN 2029 Metered Gen'!$L29 -> 25.828 | G29: =D29*F29 -> 751.5948 | H29: =E29*F29*(-1) -> 0
B30: ='JUN 2029 Metered Gen'!$B30 -> 27 | C30: ='JUN 2029 Metered Gen'!$C30 -> LLH | D30: =$Z$7 -> 29.1 | E30: ='JUN 2029 Metered Gen'!$H30 -> 0 | F30: ='JUN 2029 Metered Gen'!$L30 -> 24.622 | G30: =D30*F30 -> 716.5002 | H30: =E30*F30*(-1) -> 0
B31: ='JUN 2029 Metered Gen'!$B31 -> 28 | C31: ='JUN 2029 Metered Gen'!$C31 -> LLH | D31: =$Z$7 -> 29.1 | E31: ='JUN 2029 Metered Gen'!$H31 -> 0 | F31: ='JUN 2029 Metered Gen'!$L31 -> 26.335 | G31: =D31*F31 -> 766.3485 | H31: =E31*F31*(-1) -> 0
B32: ='JUN 2029 Metered Gen'!$B32 -> 29 | C32: ='JUN 2029 Metered Gen'!$C32 -> LLH | D32: =$Z$7 -> 29.1 | E32: ='JUN 2029 Metered Gen'!$H32 -> 0 | F32: ='JUN 2029 Metered Gen'!$L32 -> 31.073 | G32: =D32*F32 -> 904.2243 | H32: =E32*F32*(-1) -> 0
B33: ='JUN 2029 Metered Gen'!$B33 -> 30 | C33: ='JUN 2029 Metered Gen'!$C33 -> LLH | D33: =$Z$7 -> 29.1 | E33: ='JUN 2029 Metered Gen'!$H33 -> 2.83 | F33: ='JUN 2029 Metered Gen'!$L33 -> 33.488 | G33: =D33*F33 -> 974.5008 | H33: =E33*F33*(-1) -> -94.77104
... B723: ='JUN 2029 Metered Gen'!$B723 -> 720 | C723: ='JUN 2029 Metered Gen'!$C723 -> LLH | D723: =$Z$7 -> 29.1 | E723: ='JUN 2029 Metered Gen'!$H723 -> 0 | F723: ='JUN 2029 Metered Gen'!$L723 -> 32.833 | G723: =D723*F723 -> 955.4403 | H723: =E723*F723*(-1) -> 0

Sheet WindB (Dec)
B1: RSS Cost & Credits, Exhibit A Contractual Obligations (DEC FY29)
B3: Hour in Series | C3: Diurnal Category | D3: Exhibit-A MWh (Flat) | E3: Actual Metered | F3: Market | G3: Energy Charges | H3: Energy Credits
B4: ='DEC 2028 Metered Gen'!$B4 -> 1 | C4: ='DEC 2028 Metered Gen'!$C4 -> LLH | D4: =$Z$7 -> 0.813 | E4: ='DEC 2028 Metered Gen'!$I4 -> 0 | F4: ='DEC 2028 Metered Gen'!$L4 -> 40.525 | G4: =D4*F4 -> 32.946825 | H4: =E4*F4*(-1) -> 0 | M4: Exhibit A Specified Resource Amounts (WindB)
B5: ='DEC 2028 Metered Gen'!$B5 -> 2 | C5: ='DEC 2028 Metered Gen'!$C5 -> LLH | D5: =$Z$7 -> 0.813 | E5: ='DEC 2028 Metered Gen'!$I5 -> 0 | F5: ='DEC 2028 Metered Gen'!$L5 -> 40.616 | G5: =D5*F5 -> 33.020808 | H5: =E5*F5*(-1) -> 0 | N5: Oct | O5: Nov | P5: Dec | Q5: Jan | R5: Feb | S5: Mar | T5: Apr | U5: May | V5: Jun | W5: Jul | X5: Aug | Y5: Sep | Z5: annual aMW
B6: ='DEC 2028 Metered Gen'!$B6 -> 3 | C6: ='DEC 2028 Metered Gen'!$C6 -> LLH | D6: =$Z$7 -> 0.813 | E6: ='DEC 2028 Metered Gen'!$I6 -> 0 | F6: ='DEC 2028 Metered Gen'!$L6 -> 37.251 | G6: =D6*F6 -> 30.285063 | H6: =E6*F6*(-1) -> 0 | M6: Fiscal Year 2029
B7: ='DEC 2028 Metered Gen'!$B7 -> 4 | C7: ='DEC 2028 Metered Gen'!$C7 -> LLH | D7: =$Z$7 -> 0.813 | E7: ='DEC 2028 Metered Gen'!$I7 -> 0 | F7: ='DEC 2028 Metered Gen'!$L7 -> 37.81 | G7: =D7*F7 -> 30.73953 | H7: =E7*F7*(-1) -> 0 | M7: Total (MWh) | N7: 570 | O7: 639 | P7: 570 | Q7: 639 | R7: 492 | S7: 783 | T7: 639 | U7: 570 | V7: 639 | W7: 498 | X7: 570 | Y7: 501 | Z7: 0.813
B8: ='DEC 2028 Metered Gen'!$B8 -> 5 | C8: ='DEC 2028 Metered Gen'!$C8 -> LLH | D8: =$Z$7 -> 0.813 | E8: ='DEC 2028 Metered Gen'!$I8 -> 0 | F8: ='DEC 2028 Metered Gen'!$L8 -> 36.164 | G8: =D8*F8 -> 29.401332 | H8: =E8*F8*(-1) -> 0 | M8: HLH (MWh) | N8: 318 | O8: 354 | P8: 306 | Q8: 357 | R8: 282 | S8: 456 | T8: 354 | U8: 318 | V8: 369 | W8: 267 | X8: 330 | Y8: 267 | Z8: 0.813
B9: ='DEC 2028 Metered Gen'!$B9 -> 6 | C9: ='DEC 2028 Metered Gen'!$C9 -> LLH | D9: =$Z$7 -> 0.813 | E9: ='DEC 2028 Metered Gen'!$I9 -> 0 | F9: ='DEC 2028 Metered Gen'!$L9 -> 39.391 | G9: =D9*F9 -> 32.024883 | H9: =E9*F9*(-1) -> 0 | M9: LLH (MWh) | N9: 252 | O9: 285 | P9: 264 | Q9: 282 | R9: 210 | S9: 327 | T9: 285 | U9: 252 | V9: 270 | W9: 231 | X9: 240 | Y9: 234 | Z9: 0.81
B10: ='DEC 2028 Metered Gen'!$B10 -> 7 | C10: ='DEC 2028 Metered Gen'!$C10 -> HLH | D10: =$Z$7 -> 0.813 | E10: ='DEC 2028 Metered Gen'!$I10 -> 0 | F10: ='DEC 2028 Metered Gen'!$L10 -> 41.121 | G10: =D10*F10 -> 33.431373 | H10: =E10*F10*(-1) -> 0 | M10: Peak (MW) | N10: 0.3 | O10: 0.3 | P10: 0.3 | Q10: 0.3 | R10: 0.6 | S10: 0.6 | T10: 0 | U10: 0 | V10: 0 | W10: 0 | X10: 0 | Y10: 0.3 | Z10: N/A
B11: ='DEC 2028 Metered Gen'!$B11 -> 8 | C11: ='DEC 2028 Metered Gen'!$C11 -> HLH | D11: =$Z$7 -> 0.813 | E11: ='DEC 2028 Metered Gen'!$I11 -> 0 | F11: ='DEC 2028 Metered Gen'!$L11 -> 42.647 | G11: =D11*F11 -> 34.672011 | H11: =E11*F11*(-1) -> 0
B12: ='DEC 2028 Metered Gen'!$B12 -> 9 | C12: ='DEC 2028 Metered Gen'!$C12 -> HLH | D12: =$Z$7 -> 0.813 | E12: ='DEC 2028 Metered Gen'!$I12 -> 0 | F12: ='DEC 2028 Metered Gen'!$L12 -> 42.495 | G12: =D12*F12 -> 34.548435 | H12: =E12*F12*(-1) -> 0 | M12: Energy Charges | N12: =SUM(G:G) -> 20963.741
B13: ='DEC 2028 Metered Gen'!$B13 -> 10 | C13: ='DEC 2028 Metered Gen'!$C13 -> HLH | D13: =$Z$7 -> 0.813 | E13: ='DEC 2028 Metered Gen'!$I13 -> 0 | F13: ='DEC 2028 Metered Gen'!$L13 -> 46.782 | G13: =D13*F13 -> 38.033766 | H13: =E13*F13*(-1) -> 0 | M13: Energy Credits | N13: =SUM(H:H) -> -35769.069
B14: ='DEC 2028 Metered Gen'!$B14 -> 11 | C14: ='DEC 2028 Metered Gen'!$C14 -> HLH | D14: =$Z$7 -> 0.813 | E14: ='DEC 2028 Metered Gen'!$I14 -> 0 | F14: ='DEC 2028 Metered Gen'!$L14 -> 42.815 | G14: =D14*F14 -> 34.808595 | H14: =E14*F14*(-1) -> 0 | M14: Energy Net Charges/Credits | N14: =N12+N13 -> -14805.328
B15: ='DEC 2028 Metered Gen'!$B15 -> 12 | C15: ='DEC 2028 Metered Gen'!$C15 -> HLH | D15: =$Z$7 -> 0.813 | E15: ='DEC 2028 Metered Gen'!$I15 -> 0.01 | F15: ='DEC 2028 Metered Gen'!$L15 -> 40.335 | G15: =D15*F15 -> 32.792355 | H15: =E15*F15*(-1) -> -0.40335
B16: ='DEC 2028 Metered Gen'!$B16 -> 13 | C16: ='DEC 2028 Metered Gen'!$C16 -> HLH | D16: =$Z$7 -> 0.813 | E16: ='DEC 2028 Metered Gen'!$I16 -> 0 | F16: ='DEC 2028 Metered Gen'!$L16 -> 39.773 | G16: =D16*F16 -> 32.335449 | H16: =E16*F16*(-1) -> 0 | M16: Resource QCC Capacity (MW) | N16: =$P$10 -> 0.3
B17: ='DEC 2028 Metered Gen'!$B17 -> 14 | C17: ='DEC 2028 Metered Gen'!$C17 -> HLH | D17: =$Z$7 -> 0.813 | E17: ='DEC 2028 Metered Gen'!$I17 -> 0 | F17: ='DEC 2028 Metered Gen'!$L17 -> 37.972 | G17: =D17*F17 -> 30.871236 | H17: =E17*F17*(-1) -> 0 | M17: Forced Outage Rating | N17: 0.05
B18: ='DEC 2028 Metered Gen'!$B18 -> 15 | C18: ='DEC 2028 Metered Gen'!$C18 -> HLH | D18: =$Z$7 -> 0.813 | E18: ='DEC 2028 Metered Gen'!$I18 -> 0 | F18: ='DEC 2028 Metered Gen'!$L18 -> 38.644 | G18: =D18*F18 -> 31.417572 | H18: =E18*F18*(-1) -> 0 | M18: BPA Capacity Obligation (MW) | N18: =Z7-N16 -> 0.513
B19: ='DEC 2028 Metered Gen'!$B19 -> 16 | C19: ='DEC 2028 Metered Gen'!$C19 -> HLH | D19: =$Z$7 -> 0.813 | E19: ='DEC 2028 Metered Gen'!$I19 -> 0.01 | F19: ='DEC 2028 Metered Gen'!$L19 -> 39.681 | G19: =D19*F19 -> 32.260653 | H19: =E19*F19*(-1) -> -0.39681 | M19: Additional Capacity (Forced Outage) | N19: =N16*N17 -> 0.015
B20: ='DEC 2028 Metered Gen'!$B20 -> 17 | C20: ='DEC 2028 Metered Gen'!$C20 -> HLH | D20: =$Z$7 -> 0.813 | E20: ='DEC 2028 Metered Gen'!$I20 -> 0.02 | F20: ='DEC 2028 Metered Gen'!$L20 -> 39.409 | G20: =D20*F20 -> 32.039517 | H20: =E20*F20*(-1) -> -0.78818
B21: ='DEC 2028 Metered Gen'!$B21 -> 18 | C21: ='DEC 2028 Metered Gen'!$C21 -> HLH | D21: =$Z$7 -> 0.813 | E21: ='DEC 2028 Metered Gen'!$I21 -> 0.09 | F21: ='DEC 2028 Metered Gen'!$L21 -> 42.864 | G21: =D21*F21 -> 34.848432 | H21: =E21*F21*(-1) -> -3.85776 | M21: RSS Capacity Charge (Obligation * Marginal Capacity) | N21: =(N18+N19)*'Capacity Rate'!C6*1000 -> 6858.72
B22: ='DEC 2028 Metered Gen'!$B22 -> 19 | C22: ='DEC 2028 Metered Gen'!$C22 -> HLH | D22: =$Z$7 -> 0.813 | E22: ='DEC 2028 Metered Gen'!$I22 -> 0.02 | F22: ='DEC 2028 Metered Gen'!$L22 -> 44.312 | G22: =D22*F22 -> 36.025656 | H22: =E22*F22*(-1) -> -0.88624
B23: ='DEC 2028 Metered Gen'!$B23 -> 20 | C23: ='DEC 2028 Metered Gen'!$C23 -> HLH | D23: =$Z$7 -> 0.813 | E23: ='DEC 2028 Metered Gen'!$I23 -> 0.09 | F23: ='DEC 2028 Metered Gen'!$L23 -> 50.382 | G23: =D23*F23 -> 40.960566 | H23: =E23*F23*(-1) -> -4.53438
B24: ='DEC 2028 Metered Gen'!$B24 -> 21 | C24: ='DEC 2028 Metered Gen'!$C24 -> HLH | D24: =$Z$7 -> 0.813 | E24: ='DEC 2028 Metered Gen'!$I24 -> 0.3 | F24: ='DEC 2028 Metered Gen'!$L24 -> 51.791 | G24: =D24*F24 -> 42.106083 | H24: =E24*F24*(-1) -> -15.5373
B25: ='DEC 2028 Metered Gen'!$B25 -> 22 | C25: ='DEC 2028 Metered Gen'!$C25 -> HLH | D25: =$Z$7 -> 0.813 | E25: ='DEC 2028 Metered Gen'!$I25 -> 0.29 | F25: ='DEC 2028 Metered Gen'!$L25 -> 42.278 | G25: =D25*F25 -> 34.372014 | H25: =E25*F25*(-1) -> -12.26062
B26: ='DEC 2028 Metered Gen'!$B26 -> 23 | C26: ='DEC 2028 Metered Gen'!$C26 -> LLH | D26: =$Z$7 -> 0.813 | E26: ='DEC 2028 Metered Gen'!$I26 -> 0.27 | F26: ='DEC 2028 Metered Gen'!$L26 -> 43.26 | G26: =D26*F26 -> 35.17038 | H26: =E26*F26*(-1) -> -11.6802
B27: ='DEC 2028 Metered Gen'!$B27 -> 24 | C27: ='DEC 2028 Metered Gen'!$C27 -> LLH | D27: =$Z$7 -> 0.813 | E27: ='DEC 2028 Metered Gen'!$I27 -> 0.37 | F27: ='DEC 2028 Metered Gen'!$L27 -> 40.711 | G27: =D27*F27 -> 33.098043 | H27: =E27*F27*(-1) -> -15.06307
B28: ='DEC 2028 Metered Gen'!$B28 -> 25 | C28: ='DEC 2028 Metered Gen'!$C28 -> LLH | D28: =$Z$7 -> 0.813 | E28: ='DEC 2028 Metered Gen'!$I28 -> 0.29 | F28: ='DEC 2028 Metered Gen'!$L28 -> 42.374 | G28: =D28*F28 -> 34.450062 | H28: =E28*F28*(-1) -> -12.28846
B29: ='DEC 2028 Metered Gen'!$B29 -> 26 | C29: ='DEC 2028 Metered Gen'!$C29 -> LLH | D29: =$Z$7 -> 0.813 | E29: ='DEC 2028 Metered Gen'!$I29 -> 0.48 | F29: ='DEC 2028 Metered Gen'!$L29 -> 43.466 | G29: =D29*F29 -> 35.337858 | H29: =E29*F29*(-1) -> -20.86368
B30: ='DEC 2028 Metered Gen'!$B30 -> 27 | C30: ='DEC 2028 Metered Gen'!$C30 -> LLH | D30: =$Z$7 -> 0.813 | E30: ='DEC 2028 Metered Gen'!$I30 -> 0.24 | F30: ='DEC 2028 Metered Gen'!$L30 -> 43.87 | G30: =D30*F30 -> 35.66631 | H30: =E30*F30*(-1) -> -10.5288
B31: ='DEC 2028 Metered Gen'!$B31 -> 28 | C31: ='DEC 2028 Metered Gen'!$C31 -> LLH | D31: =$Z$7 -> 0.813 | E31: ='DEC 2028 Metered Gen'!$I31 -> 0.01 | F31: ='DEC 2028 Metered Gen'!$L31 -> 42.678 | G31: =D31*F31 -> 34.697214 | H31: =E31*F31*(-1) -> -0.42678
B32: ='DEC 2028 Metered Gen'!$B32 -> 29 | C32: ='DEC 2028 Metered Gen'!$C32 -> LLH | D32: =$Z$7 -> 0.813 | E32: ='DEC 2028 Metered Gen'!$I32 -> 0.02 | F32: ='DEC 2028 Metered Gen'!$L32 -> 43.748 | G32: =D32*F32 -> 35.567124 | H32: =E32*F32*(-1) -> -0.87496
B33: ='DEC 2028 Metered Gen'!$B33 -> 30 | C33: ='DEC 2028 Metered Gen'!$C33 -> LLH | D33: =$Z$7 -> 0.813 | E33: ='DEC 2028 Metered Gen'!$I33 -> 0.06 | F33: ='DEC 2028 Metered Gen'!$L33 -> 41.226 | G33: =D33*F33 -> 33.516738 | H33: =E33*F33*(-1) -> -2.47356
... B747: ='DEC 2028 Metered Gen'!$B747 -> 744 | C747: ='DEC 2028 Metered Gen'!$C747 -> LLH | D747: =$Z$7 -> 0.813 | E747: ='DEC 2028 Metered Gen'!$I747 -> 0.08 | F747: ='DEC 2028 Metered Gen'!$L747 -> 31.991 | G747: =D747*F747 -> 26.008683 | H747: =E747*F747*(-1) -> -2.55928

Sheet WindB (Jun)
B1: RSS Cost & Credits, Exhibit A Contractual Obligations (JUN FY29)
B3: Hour in Series | C3: Diurnal Category | D3: Exhibit-A MWh (Flat) | E3: Actual Metered | F3: Market | G3: Energy Charges | H3: Energy Credits
B4: ='JUN 2029 Metered Gen'!$B4 -> 1 | C4: ='JUN 2029 Metered Gen'!$C4 -> LLH | D4: =$Z$7 -> 0.813 | E4: ='JUN 2029 Metered Gen'!$I4 -> 0 | F4: ='JUN 2029 Metered Gen'!$L4 -> 25.032 | G4: =D4*F4 -> 20.351016 | H4: =E4*F4*(-1) -> 0 | M4: Exhibit A Specified Resource Amounts (WindB)
B5: ='JUN 2029 Metered Gen'!$B5 -> 2 | C5: ='JUN 2029 Metered Gen'!$C5 -> LLH | D5: =$Z$7 -> 0.813 | E5: ='JUN 2029 Metered Gen'!$I5 -> 0 | F5: ='JUN 2029 Metered Gen'!$L5 -> 26.272 | G5: =D5*F5 -> 21.359136 | H5: =E5*F5*(-1) -> 0 | N5: Oct | O5: Nov | P5: Dec | Q5: Jan | R5: Feb | S5: Mar | T5: Apr | U5: May | V5: Jun | W5: Jul | X5: Aug | Y5: Sep | Z5: annual aMW
B6: ='JUN 2029 Metered Gen'!$B6 -> 3 | C6: ='JUN 2029 Metered Gen'!$C6 -> LLH | D6: =$Z$7 -> 0.813 | E6: ='JUN 2029 Metered Gen'!$I6 -> 0 | F6: ='JUN 2029 Metered Gen'!$L6 -> 26.922 | G6: =D6*F6 -> 21.887586 | H6: =E6*F6*(-1) -> 0 | M6: Fiscal Year 2029
B7: ='JUN 2029 Metered Gen'!$B7 -> 4 | C7: ='JUN 2029 Metered Gen'!$C7 -> LLH | D7: =$Z$7 -> 0.813 | E7: ='JUN 2029 Metered Gen'!$I7 -> 0.00942 | F7: ='JUN 2029 Metered Gen'!$L7 -> 27.18 | G7: =D7*F7 -> 22.09734 | H7: =E7*F7*(-1) -> -0.2560356 | M7: Total (MWh) | N7: 570 | O7: 639 | P7: 570 | Q7: 639 | R7: 492 | S7: 783 | T7: 639 | U7: 570 | V7: 639 | W7: 498 | X7: 570 | Y7: 501 | Z7: 0.813
B8: ='JUN 2029 Metered Gen'!$B8 -> 5 | C8: ='JUN 2029 Metered Gen'!$C8 -> LLH | D8: =$Z$7 -> 0.813 | E8: ='JUN 2029 Metered Gen'!$I8 -> 0 | F8: ='JUN 2029 Metered Gen'!$L8 -> 27.513 | G8: =D8*F8 -> 22.368069 | H8: =E8*F8*(-1) -> 0 | M8: HLH (MWh) | N8: 318 | O8: 354 | P8: 306 | Q8: 357 | R8: 282 | S8: 456 | T8: 354 | U8: 318 | V8: 369 | W8: 267 | X8: 330 | Y8: 267 | Z8: 0.813
B9: ='JUN 2029 Metered Gen'!$B9 -> 6 | C9: ='JUN 2029 Metered Gen'!$C9 -> LLH | D9: =$Z$7 -> 0.813 | E9: ='JUN 2029 Metered Gen'!$I9 -> 0.00942 | F9: ='JUN 2029 Metered Gen'!$L9 -> 26.751 | G9: =D9*F9 -> 21.748563 | H9: =E9*F9*(-1) -> -0.25199442 | M9: LLH (MWh) | N9: 252 | O9: 285 | P9: 264 | Q9: 282 | R9: 210 | S9: 327 | T9: 285 | U9: 252 | V9: 270 | W9: 231 | X9: 240 | Y9: 234 | Z9: 0.81
B10: ='JUN 2029 Metered Gen'!$B10 -> 7 | C10: ='JUN 2029 Metered Gen'!$C10 -> HLH | D10: =$Z$7 -> 0.813 | E10: ='JUN 2029 Metered Gen'!$I10 -> 0 | F10: ='JUN 2029 Metered Gen'!$L10 -> 21.959 | G10: =D10*F10 -> 17.852667 | H10: =E10*F10*(-1) -> 0 | M10: Peak (MW) | N10: 0.3 | O10: 0.3 | P10: 0.3 | Q10: 0.3 | R10: 0.6 | S10: 0.6 | T10: 0 | U10: 0 | V10: 0 | W10: 0 | X10: 0 | Y10: 0.3 | Z10: N/A
B11: ='JUN 2029 Metered Gen'!$B11 -> 8 | C11: ='JUN 2029 Metered Gen'!$C11 -> HLH | D11: =$Z$7 -> 0.813 | E11: ='JUN 2029 Metered Gen'!$I11 -> 0.20724 | F11: ='JUN 2029 Metered Gen'!$L11 -> 21.648 | G11: =D11*F11 -> 17.599824 | H11: =E11*F11*(-1) -> -4.4863315
B12: ='JUN 2029 Metered Gen'!$B12 -> 9 | C12: ='JUN 2029 Metered Gen'!$C12 -> HLH | D12: =$Z$7 -> 0.813 | E12: ='JUN 2029 Metered Gen'!$I12 -> 0.49926 | F12: ='JUN 2029 Metered Gen'!$L12 -> 24.361 | G12: =D12*F12 -> 19.805493 | H12: =E12*F12*(-1) -> -12.162473 | M12: Energy Charges | N12: =SUM(G:G) -> 18873.675
B13: ='JUN 2029 Metered Gen'!$B13 -> 10 | C13: ='JUN 2029 Metered Gen'!$C13 -> HLH | D13: =$Z$7 -> 0.813 | E13: ='JUN 2029 Metered Gen'!$I13 -> 0.5181 | F13: ='JUN 2029 Metered Gen'!$L13 -> 26.351 | G13: =D13*F13 -> 21.423363 | H13: =E13*F13*(-1) -> -13.652453 | M13: Energy Credits | N13: =SUM(H:H) -> -18970.254
B14: ='JUN 2029 Metered Gen'!$B14 -> 11 | C14: ='JUN 2029 Metered Gen'!$C14 -> HLH | D14: =$Z$7 -> 0.813 | E14: ='JUN 2029 Metered Gen'!$I14 -> 0.10362 | F14: ='JUN 2029 Metered Gen'!$L14 -> 21.516 | G14: =D14*F14 -> 17.492508 | H14: =E14*F14*(-1) -> -2.2294879 | M14: Energy Net Charges/Credits | N14: =N12+N13 -> -96.578195
B15: ='JUN 2029 Metered Gen'!$B15 -> 12 | C15: ='JUN 2029 Metered Gen'!$C15 -> HLH | D15: =$Z$7 -> 0.813 | E15: ='JUN 2029 Metered Gen'!$I15 -> 0.20724 | F15: ='JUN 2029 Metered Gen'!$L15 -> 21.273 | G15: =D15*F15 -> 17.294949 | H15: =E15*F15*(-1) -> -4.4086165
B16: ='JUN 2029 Metered Gen'!$B16 -> 13 | C16: ='JUN 2029 Metered Gen'!$C16 -> HLH | D16: =$Z$7 -> 0.813 | E16: ='JUN 2029 Metered Gen'!$I16 -> 0.64056 | F16: ='JUN 2029 Metered Gen'!$L16 -> 21.98 | G16: =D16*F16 -> 17.86974 | H16: =E16*F16*(-1) -> -14.079509 | M16: Resource QCC Capacity (MW) | N16: =$V$10 -> 0
B17: ='JUN 2029 Metered Gen'!$B17 -> 14 | C17: ='JUN 2029 Metered Gen'!$C17 -> HLH | D17: =$Z$7 -> 0.813 | E17: ='JUN 2029 Metered Gen'!$I17 -> 0.3297 | F17: ='JUN 2029 Metered Gen'!$L17 -> 20.702 | G17: =D17*F17 -> 16.830726 | H17: =E17*F17*(-1) -> -6.8254494 | M17: Forced Outage Rating | N17: 0.05
B18: ='JUN 2029 Metered Gen'!$B18 -> 15 | C18: ='JUN 2029 Metered Gen'!$C18 -> HLH | D18: =$Z$7 -> 0.813 | E18: ='JUN 2029 Metered Gen'!$I18 -> 0.25434 | F18: ='JUN 2029 Metered Gen'!$L18 -> 26.282 | G18: =D18*F18 -> 21.367266 | H18: =E18*F18*(-1) -> -6.6845639 | M18: BPA Capacity Obligation (MW) | N18: =Z7-N16 -> 0.813
B19: ='JUN 2029 Metered Gen'!$B19 -> 16 | C19: ='JUN 2029 Metered Gen'!$C19 -> HLH | D19: =$Z$7 -> 0.813 | E19: ='JUN 2029 Metered Gen'!$I19 -> 0.29202 | F19: ='JUN 2029 Metered Gen'!$L19 -> 34.466 | G19: =D19*F19 -> 28.020858 | H19: =E19*F19*(-1) -> -10.064761 | M19: Additional Capacity (Forced Outage) | N19: =N16*N17 -> 0
B20: ='JUN 2029 Metered Gen'!$B20 -> 17 | C20: ='JUN 2029 Metered Gen'!$C20 -> HLH | D20: =$Z$7 -> 0.813 | E20: ='JUN 2029 Metered Gen'!$I20 -> 0.1413 | F20: ='JUN 2029 Metered Gen'!$L20 -> 30.974 | G20: =D20*F20 -> 25.181862 | H20: =E20*F20*(-1) -> -4.3766262
B21: ='JUN 2029 Metered Gen'!$B21 -> 18 | C21: ='JUN 2029 Metered Gen'!$C21 -> HLH | D21: =$Z$7 -> 0.813 | E21: ='JUN 2029 Metered Gen'!$I21 -> 0.16956 | F21: ='JUN 2029 Metered Gen'!$L21 -> 27.53 | G21: =D21*F21 -> 22.38189 | H21: =E21*F21*(-1) -> -4.6679868 | M21: RSS Capacity Charge (Obligation * Marginal Capacity) | N21: =(N18+N19)*'Capacity Rate'!C12*1000 -> 3349.56
B22: ='JUN 2029 Metered Gen'!$B22 -> 19 | C22: ='JUN 2029 Metered Gen'!$C22 -> HLH | D22: =$Z$7 -> 0.813 | E22: ='JUN 2029 Metered Gen'!$I22 -> 1.20576 | F22: ='JUN 2029 Metered Gen'!$L22 -> 29.261 | G22: =D22*F22 -> 23.789193 | H22: =E22*F22*(-1) -> -35.281743
B23: ='JUN 2029 Metered Gen'!$B23 -> 20 | C23: ='JUN 2029 Metered Gen'!$C23 -> HLH | D23: =$Z$7 -> 0.813 | E23: ='JUN 2029 Metered Gen'!$I23 -> 1.67676 | F23: ='JUN 2029 Metered Gen'!$L23 -> 28.339 | G23: =D23*F23 -> 23.039607 | H23: =E23*F23*(-1) -> -47.517702
B24: ='JUN 2029 Metered Gen'!$B24 -> 21 | C24: ='JUN 2029 Metered Gen'!$C24 -> HLH | D24: =$Z$7 -> 0.813 | E24: ='JUN 2029 Metered Gen'!$I24 -> 2.56224 | F24: ='JUN 2029 Metered Gen'!$L24 -> 28.326 | G24: =D24*F24 -> 23.029038 | H24: =E24*F24*(-1) -> -72.57801
B25: ='JUN 2029 Metered Gen'!$B25 -> 22 | C25: ='JUN 2029 Metered Gen'!$C25 -> HLH | D25: =$Z$7 -> 0.813 | E25: ='JUN 2029 Metered Gen'!$I25 -> 2.18544 | F25: ='JUN 2029 Metered Gen'!$L25 -> 29.13 | G25: =D25*F25 -> 23.68269 | H25: =E25*F25*(-1) -> -63.661867
B26: ='JUN 2029 Metered Gen'!$B26 -> 23 | C26: ='JUN 2029 Metered Gen'!$C26 -> LLH | D26: =$Z$7 -> 0.813 | E26: ='JUN 2029 Metered Gen'!$I26 -> 0.58404 | F26: ='JUN 2029 Metered Gen'!$L26 -> 28.003 | G26: =D26*F26 -> 22.766439 | H26: =E26*F26*(-1) -> -16.354872
B27: ='JUN 2029 Metered Gen'!$B27 -> 24 | C27: ='JUN 2029 Metered Gen'!$C27 -> LLH | D27: =$Z$7 -> 0.813 | E27: ='JUN 2029 Metered Gen'!$I27 -> 1.10214 | F27: ='JUN 2029 Metered Gen'!$L27 -> 26.678 | G27: =D27*F27 -> 21.689214 | H27: =E27*F27*(-1) -> -29.402891
B28: ='JUN 2029 Metered Gen'!$B28 -> 25 | C28: ='JUN 2029 Metered Gen'!$C28 -> LLH | D28: =$Z$7 -> 0.813 | E28: ='JUN 2029 Metered Gen'!$I28 -> 0.78186 | F28: ='JUN 2029 Metered Gen'!$L28 -> 26.705 | G28: =D28*F28 -> 21.711165 | H28: =E28*F28*(-1) -> -20.879571
B29: ='JUN 2029 Metered Gen'!$B29 -> 26 | C29: ='JUN 2029 Metered Gen'!$C29 -> LLH | D29: =$Z$7 -> 0.813 | E29: ='JUN 2029 Metered Gen'!$I29 -> 0.64056 | F29: ='JUN 2029 Metered Gen'!$L29 -> 25.828 | G29: =D29*F29 -> 20.998164 | H29: =E29*F29*(-1) -> -16.544384
B30: ='JUN 2029 Metered Gen'!$B30 -> 27 | C30: ='JUN 2029 Metered Gen'!$C30 -> LLH | D30: =$Z$7 -> 0.813 | E30: ='JUN 2029 Metered Gen'!$I30 -> 1.21518 | F30: ='JUN 2029 Metered Gen'!$L30 -> 24.622 | G30: =D30*F30 -> 20.017686 | H30: =E30*F30*(-1) -> -29.920162
B31: ='JUN 2029 Metered Gen'!$B31 -> 28 | C31: ='JUN 2029 Metered Gen'!$C31 -> LLH | D31: =$Z$7 -> 0.813 | E31: ='JUN 2029 Metered Gen'!$I31 -> 1.32822 | F31: ='JUN 2029 Metered Gen'!$L31 -> 26.335 | G31: =D31*F31 -> 21.410355 | H31: =E31*F31*(-1) -> -34.978674
B32: ='JUN 2029 Metered Gen'!$B32 -> 29 | C32: ='JUN 2029 Metered Gen'!$C32 -> LLH | D32: =$Z$7 -> 0.813 | E32: ='JUN 2029 Metered Gen'!$I32 -> 2.01588 | F32: ='JUN 2029 Metered Gen'!$L32 -> 31.073 | G32: =D32*F32 -> 25.262349 | H32: =E32*F32*(-1) -> -62.639439
B33: ='JUN 2029 Metered Gen'!$B33 -> 30 | C33: ='JUN 2029 Metered Gen'!$C33 -> LLH | D33: =$Z$7 -> 0.813 | E33: ='JUN 2029 Metered Gen'!$I33 -> 2.0724 | F33: ='JUN 2029 Metered Gen'!$L33 -> 33.488 | G33: =D33*F33 -> 27.225744 | H33: =E33*F33*(-1) -> -69.400531
... B723: ='JUN 2029 Metered Gen'!$B723 -> 720 | C723: ='JUN 2029 Metered Gen'!$C723 -> LLH | D723: =$Z$7 -> 0.813 | E723: ='JUN 2029 Metered Gen'!$I723 -> 0.05652 | F723: ='JUN 2029 Metered Gen'!$L723 -> 32.833 | G723: =D723*F723 -> 26.693229 | H723: =E723*F723*(-1) -> -1.8557212

Sheet DEC 2028 Metered Gen
B1: Illustrative Generation and Prices (Hourly), Dec 2028
B3: Hour in Series | C3: Diurnal Category | D3: HydroA (Existing), MWh | E3: SolarA (Existing), MWh | F3: WindA (Existing), MWh | G3: HydroB (New), MWh | H3: SolarB (New), MWh | I3: WindB (New), MWh | L3: Hourly Market Price (Day-Ahead, $/MWh)
B4: 1 | C4: LLH | D4: 2.3 | E4: 0 | F4: 0 | G4: 1.02 | H4: 0 | I4: 0 | L4: 40.525
B5: 2 | C5: LLH | D5: 2.11 | E5: 0 | F5: 0 | G5: 1.16 | H5: 0 | I5: 0 | L5: 40.616
B6: 3 | C6: LLH | D6: 2.31 | E6: 0 | F6: 0 | G6: 0.93 | H6: 0 | I6: 0 | L6: 37.251
B7: 4 | C7: LLH | D7: 2.21 | E7: 0 | F7: 0 | G7: 1.1 | H7: 0 | I7: 0 | L7: 37.81
B8: 5 | C8: LLH | D8: 2.18 | E8: 0 | F8: 0 | G8: 0.9 | H8: 0 | I8: 0 | L8: 36.164
B9: 6 | C9: LLH | D9: 2.31 | E9: 0 | F9: 0 | G9: 1.04 | H9: 0 | I9: 0 | L9: 39.391
B10: 7 | C10: HLH | D10: 2.06 | E10: 0 | F10: 0 | G10: 0.92 | H10: 0 | I10: 0 | L10: 41.121
B11: 8 | C11: HLH | D11: 2.28 | E11: 0 | F11: 0 | G11: 1.05 | H11: 0.51 | I11: 0 | L11: 42.647
B12: 9 | C12: HLH | D12: 2.26 | E12: 0.05 | F12: 0 | G12: 0.83 | H12: 2.85 | I12: 0 | L12: 42.495
B13: 10 | C13: HLH | D13: 2.09 | E13: 0.13 | F13: 0 | G13: 1.07 | H13: 9.31 | I13: 0 | L13: 46.782
B14: 11 | C14: HLH | D14: 2.22 | E14: 0.22 | F14: 0 | G14: 1.01 | H14: 12.11 | I14: 0 | L14: 42.815
B15: 12 | C15: HLH | D15: 2.26 | E15: 0.25 | F15: 0 | G15: 0.95 | H15: 16.76 | I15: 0.01 | L15: 40.335
... B747: 744 | C747: LLH | D747: 2.16 | E747: 0 | F747: 0.0471 | G747: 2.01 | H747: 0 | I747: 0.08 | L747: 31.991

Sheet JUN 2029 Metered Gen
B1: Illustrative Generation and Prices (Hourly), Jun 2029
B3: Hour in Series | C3: Diurnal Category | D3: HydroA (Existing), MWh | E3: SolarA (Existing), MWh | F3: WindA (Existing), MWh | G3: HydroB (New), MWh | H3: SolarB (New), MWh | I3: WindB (New), MWh | L3: Hourly Market Price (Day-Ahead, $/MWh)
B4: 1 | C4: LLH | D4: 5.32 | E4: 0 | F4: 0.80698 | G4: 7.91 | H4: 0 | I4: 0 | L4: 25.032
B5: 2 | C5: LLH | D5: 5.33 | E5: 0 | F5: 0.84152 | G5: 7.92 | H5: 0 | I5: 0 | L5: 26.272
B6: 3 | C6: LLH | D6: 5.34 | E6: 0 | F6: 0.77244 | G6: 7.92 | H6: 0 | I6: 0 | L6: 26.922
B7: 4 | C7: LLH | D7: 5.32 | E7: 0 | F7: 0.6751 | G7: 7.92 | H7: 0 | I7: 0.00942 | L7: 27.18
B8: 5 | C8: LLH | D8: 5.33 | E8: 0 | F8: 0.5809 | G8: 7.92 | H8: 0 | I8: 0 | L8: 27.513
B9: 6 | C9: LLH | D9: 5.32 | E9: 0.04 | F9: 0.60288 | G9: 7.92 | H9: 2.78 | I9: 0.00942 | L9: 26.751
B10: 7 | C10: HLH | D10: 5.32 | E10: 0.22 | F10: 0.50868 | G10: 7.91 | H10: 12.66 | I10: 0 | L10: 21.959
B11: 8 | C11: HLH | D11: 5.32 | E11: 0.6 | F11: 0.52438 | G11: 7.92 | H11: 38.85 | I11: 0.20724 | L11: 21.648
B12: 9 | C12: HLH | D12: 5.33 | E12: 1.25 | F12: 0.2826 | G12: 7.91 | H12: 82.81 | I12: 0.49926 | L12: 24.361
B13: 10 | C13: HLH | D13: 5.33 | E13: 1.78 | F13: 0.1413 | G13: 7.92 | H13: 119.85 | I13: 0.5181 | L13: 26.351
B14: 11 | C14: HLH | D14: 5.33 | E14: 2.29 | F14: 0.03454 | G14: 7.95 | H14: 148.04 | I14: 0.10362 | L14: 21.516
B15: 12 | C15: HLH | D15: 5.33 | E15: 2.51 | F15: 0 | G15: 7.95 | H15: 157.95 | I15: 0.20724 | L15: 21.273
... B723: 720 | C723: LLH | D723: 3.14 | E723: 0 | F723: 0.0942 | G723: 3.53 | H723: 0 | I723: 0.05652 | L723: 32.833

Sheet Capacity Rate
B1: Illustrative Capacity Rates ($/kW/month), FY 2029
B3: Month | C3: Marginal | D3: Embedded
B4: Oct | C4: 13.81 | D4: 6.41
B5: Nov | C5: 10.78 | D5: 5
B6: Dec | C6: 12.99 | D6: 6.03
B7: Jan | C7: 11.88 | D7: 5.51
B8: Feb | C8: 12.39 | D8: 5.75
B9: Mar | C9: 7.97 | D9: 3.7
B10: Apr | C10: 6.09 | D10: 2.83
B11: May | C11: 2.35 | D11: 1.09
B12: Jun | C12: 4.12 | D12: 1.91
B13: Jul | C13: 13.91 | D13: 6.45
B14: Aug | C14: 14.67 | D14: 6.81
B15: Sep | C15: 16.51 | D15: 7.66
