Workbook

Sheet Regression Inputs
A1: Grant PUD
A2: 10190
B23: ="Weather Station for Temperature Analysis: "&Temperature!A2 -> Weather Station for Temperature Analysis: KOMK (Omak WA)
B25: Date | C25: Year | D25: Month | E25: Day | F25: Average Temperature (F) | G25: Non Irrigation Average Use (akW) | H25: Irrigation Average Use (akW) | I25: NLSL Average Use (akW) | J25: Industrial Average Use (akW) | K25: Total System (akW)
B26: 43009 | C26: =YEAR(B26) -> 2017 | D26: =MONTH(B26) -> 10 | E26: =DAY(B26) -> 1 | F26: =IF(VLOOKUP(B26,Temperature!$A$5:$F$2241,6,FALSE)=999,0,VLOOKUP(B26,Temperature!$A$5:$F$2241,6,FALSE)) -> 52.66667 | G26: =K26-H26-I26-J26 -> 135099.25 | H26: 76465 | I26: =VLOOKUP(B26,'Daily NLSL'!D3:E1828,2,FALSE) -> 139124 | J26: 140666.45 | K26: 491354.71
B27: 43010 | C27: =YEAR(B27) -> 2017 | D27: =MONTH(B27) -> 10 | E27: =DAY(B27) -> 2 | F27: =IF(VLOOKUP(B27,Temperature!$A$5:$F$2241,6,FALSE)=999,0,VLOOKUP(B27,Temperature!$A$5:$F$2241,6,FALSE)) -> 54.95652 | G27: =K27-H27-I27-J27 -> 163862.29 | H27: 74507.5 | I27: =VLOOKUP(B27,'Daily NLSL'!D4:E1829,2,FALSE) -> 139124 | J27: 140666.45 | K27: 518160.25
B28: 43011 | C28: =YEAR(B28) -> 2017 | D28: =MONTH(B28) -> 10 | E28: =DAY(B28) -> 3 | F28: =IF(VLOOKUP(B28,Temperature!$A$5:$F$2241,6,FALSE)=999,0,VLOOKUP(B28,Temperature!$A$5:$F$2241,6,FALSE)) -> 53.25 | G28: =K28-H28-I28-J28 -> 177546.75 | H28: 72660.417 | I28: =VLOOKUP(B28,'Daily NLSL'!D5:E1830,2,FALSE) -> 139124 | J28: 140666.45 | K28: 529997.62
B29: 43012 | C29: =YEAR(B29) -> 2017 | D29: =MONTH(B29) -> 10 | E29: =DAY(B29) -> 4 | F29: =IF(VLOOKUP(B29,Temperature!$A$5:$F$2241,6,FALSE)=999,0,VLOOKUP(B29,Temperature!$A$5:$F$2241,6,FALSE)) -> 53.70833 | G29: =K29-H29-I29-J29 -> 192979.34 | H29: 70780.417 | I29: =VLOOKUP(B29,'Daily NLSL'!D6:E1831,2,FALSE) -> 139124 | J29: 140666.45 | K29: 543550.21
B30: 43013 | C30: =YEAR(B30) -> 2017 | D30: =MONTH(B30) -> 10 | E30: =DAY(B30) -> 5 | F30: =IF(VLOOKUP(B30,Temperature!$A$5:$F$2241,6,FALSE)=999,0,VLOOKUP(B30,Temperature!$A$5:$F$2241,6,FALSE)) -> 51.95833 | G30: =K30-H30-I30-J30 -> 198955.96 | H30: 68950.417 | I30: =VLOOKUP(B30,'Daily NLSL'!D7:E1832,2,FALSE) -> 139124 | J30: 140666.45 | K30: 547696.83
B31: 43014 | C31: =YEAR(B31) -> 2017 | D31: =MONTH(B31) -> 10 | E31: =DAY(B31) -> 6 | F31: =IF(VLOOKUP(B31,Temperature!$A$5:$F$2241,6,FALSE)=999,0,VLOOKUP(B31,Temperature!$A$5:$F$2241,6,FALSE)) -> 49.04167 | G31: =K31-H31-I31-J31 -> 194368.75 | H31: 67069.167 | I31: =VLOOKUP(B31,'Daily NLSL'!D8:E1833,2,FALSE) -> 139124 | J31: 140666.45 | K31: 541228.38
B32: 43015 | C32: =YEAR(B32) -> 2017 | D32: =MONTH(B32) -> 10 | E32: =DAY(B32) -> 7 | F32: =IF(VLOOKUP(B32,Temperature!$A$5:$F$2241,6,FALSE)=999,0,VLOOKUP(B32,Temperature!$A$5:$F$2241,6,FALSE)) -> 52.41667 | G32: =K32-H32-I32-J32 -> 169682 | H32: 65182.5 | I32: =VLOOKUP(B32,'Daily NLSL'!D9:E1834,2,FALSE) -> 139124 | J32: 140666.45 | K32: 514654.96
B33: 43016 | C33: =YEAR(B33) -> 2017 | D33: =MONTH(B33) -> 10 | E33: =DAY(B33) -> 8 | F33: =IF(VLOOKUP(B33,Temperature!$A$5:$F$2241,6,FALSE)=999,0,VLOOKUP(B33,Temperature!$A$5:$F$2241,6,FALSE)) -> 49.16667 | G33: =K33-H33-I33-J33 -> 165792.29 | H33: 63272.083 | I33: =VLOOKUP(B33,'Daily NLSL'!D10:E1835,2,FALSE) -> 139124 | J33: 140666.45 | K33: 508854.83
B34: 43017 | C34: =YEAR(B34) -> 2017 | D34: =MONTH(B34) -> 10 | E34: =DAY(B34) -> 9 | F34: =IF(VLOOKUP(B34,Temperature!$A$5:$F$2241,6,FALSE)=999,0,VLOOKUP(B34,Temperature!$A$5:$F$2241,6,FALSE)) -> 45.70833 | G34: =K34-H34-I34-J34 -> 196687.46 | H34: 61322.083 | I34: =VLOOKUP(B34,'Daily NLSL'!D11:E1836,2,FALSE) -> 139124 | J34: 140666.45 | K34: 537800
B35: 43018 | C35: =YEAR(B35) -> 2017 | D35: =MONTH(B35) -> 10 | E35: =DAY(B35) -> 10 | F35: =IF(VLOOKUP(B35,Temperature!$A$5:$F$2241,6,FALSE)=999,0,VLOOKUP(B35,Temperature!$A$5:$F$2241,6,FALSE)) -> 47.75 | G35: =K35-H35-I35-J35 -> 212559.96 | H35: 59375.833 | I35: =VLOOKUP(B35,'Daily NLSL'!D12:E1837,2,FALSE) -> 139124 | J35: 140666.45 | K35: 551726.25
B36: 43019 | C36: =YEAR(B36) -> 2017 | D36: =MONTH(B36) -> 10 | E36: =DAY(B36) -> 11 | F36: =IF(VLOOKUP(B36,Temperature!$A$5:$F$2241,6,FALSE)=999,0,VLOOKUP(B36,Temperature!$A$5:$F$2241,6,FALSE)) -> 43.47826 | G36: =K36-H36-I36-J36 -> 222556.21 | H36: 57353.333 | I36: =VLOOKUP(B36,'Daily NLSL'!D13:E1838,2,FALSE) -> 139124 | J36: 140666.45 | K36: 559700
B37: 43020 | C37: =YEAR(B37) -> 2017 | D37: =MONTH(B37) -> 10 | E37: =DAY(B37) -> 12 | F37: =IF(VLOOKUP(B37,Temperature!$A$5:$F$2241,6,FALSE)=999,0,VLOOKUP(B37,Temperature!$A$5:$F$2241,6,FALSE)) -> 39 | G37: =K37-H37-I37-J37 -> 242342.46 | H37: 55268.333 | I37: =VLOOKUP(B37,'Daily NLSL'!D14:E1839,2,FALSE) -> 139124 | J37: 140666.45 | K37: 577401.25
... B1851: 44834 | C1851: =YEAR(B1851) -> 2022 | D1851: =MONTH(B1851) -> 9 | E1851: =DAY(B1851) -> 30 | F1851: =IF(VLOOKUP(B1851,Temperature!$A$5:$F$2241,6,FALSE)=999,0,VLOOKUP(B1851,Temperature!$A$5:$F$2241,6,FALSE)) -> 61.79167 | G1851: =K1851-H1851-I1851-J1851 -> 162762.82 | H1851: 80138.75 | I1851: =VLOOKUP(B1851,'Daily NLSL'!D1828:E3653,2,FALSE) -> 218240.26 | J1851: 174133.21 | K1851: 635275.04
J1852: 168995.41 | K1852: 627118.46

Sheet Monthly Irrigation
A1: Grant PUD | U1: fiscal_year | V1: date | W1: month | X1: component | Y1: source | Z1: mwh_sales | AA1: mwh_load | AB1: mwh_losses | AE1: kWh_load | AJ1: kWh_load
A2: 10190 | U2: 2015 | V2: 42046 | W2: 2/1/2015 | X2: Irrigation | Y2: Bills | Z2: 0 | AA2: 0 | AB2: 0 | AE2: 0 | AI2: 41275 | AJ2: 0
U3: 2015 | V3: 42047 | W3: 2/1/2015 | X3: Irrigation | Y3: Bills | Z3: 0 | AA3: 0 | AB3: 0 | AE3: 0 | AI3: 44958 | AJ3: 1001450
U4: 2015 | V4: 42048 | W4: 2/1/2015 | X4: Irrigation | Y4: Bills | Z4: 0 | AA4: 0 | AB4: 0 | AE4: 0 | AI4: 41334 | AJ4: 0
U5: 2015 | V5: 42049 | W5: 2/1/2015 | X5: Irrigation | Y5: Bills | Z5: 0 | AA5: 0 | AB5: 0 | AE5: 0 | AI5: 41365 | AJ5: 0
U6: 2015 | V6: 42050 | W6: 2/1/2015 | X6: Irrigation | Y6: Bills | Z6: 0 | AA6: 0 | AB6: 0 | AE6: 0 | AI6: 41395 | AJ6: 0
U7: 2015 | V7: 42051 | W7: 2/1/2015 | X7: Irrigation | Y7: Bills | Z7: 0 | AA7: 0 | AB7: 0 | AE7: 0 | AI7: 41426 | AJ7: 0
U8: 2015 | V8: 42052 | W8: 2/1/2015 | X8: Irrigation | Y8: Bills | Z8: 0 | AA8: 0 | AB8: 0 | AE8: 0 | AI8: 41456 | AJ8: 0
U9: 2015 | V9: 42053 | W9: 2/1/2015 | X9: Irrigation | Y9: Bills | Z9: 0 | AA9: 0 | AB9: 0 | AE9: 0 | AI9: 41487 | AJ9: 0
U10: 2015 | V10: 42054 | W10: 2/1/2015 | X10: Irrigation | Y10: Bills | Z10: 0 | AA10: 0 | AB10: 0 | AE10: 0 | AI10: 41518 | AJ10: 0
U11: 2015 | V11: 42055 | W11: 2/1/2015 | X11: Irrigation | Y11: Bills | Z11: 0 | AA11: 0 | AB11: 0 | AE11: 0 | AI11: 41548 | AJ11: 0
U12: 2015 | V12: 42056 | W12: 2/1/2015 | X12: Irrigation | Y12: Bills | Z12: 0 | AA12: 0 | AB12: 0 | AE12: 0 | AI12: 41579 | AJ12: 0
U13: 2015 | V13: 42057 | W13: 2/1/2015 | X13: Irrigation | Y13: Bills | Z13: 0 | AA13: 0 | AB13: 0 | AE13: 0 | AI13: 41609 | AJ13: 0
U14: 2015 | V14: 42058 | W14: 2/1/2015 | X14: Irrigation | Y14: Bills | Z14: 0 | AA14: 0 | AB14: 0 | AE14: 0 | AI14: 1/1/2014 | AJ14: 0
U15: 2015 | V15: 42059 | W15: 2/1/2015 | X15: Irrigation | Y15: Bills | Z15: 0 | AA15: 0 | AB15: 0 | AE15: 0 | AI15: 2/1/2014 | AJ15: 0
U16: 2015 | V16: 42060 | W16: 2/1/2015 | X16: Irrigation | Y16: Bills | Z16: 0 | AA16: 0 | AB16: 0 | AE16: 0 | AI16: 3/1/2014 | AJ16: 0
U17: 2015 | V17: 42061 | W17: 2/1/2015 | X17: Irrigation | Y17: Bills | Z17: 0 | AA17: 0 | AB17: 0 | AE17: 0 | AI17: 4/1/2014 | AJ17: 0
U18: 2015 | V18: 42062 | W18: 2/1/2015 | X18: Irrigation | Y18: Bills | Z18: 0 | AA18: 0 | AB18: 0 | AE18: 0 | AI18: 5/1/2014 | AJ18: 0
U19: 2015 | V19: 42063 | W19: 2/1/2015 | X19: Irrigation | Y19: Bills | Z19: 0 | AA19: 0 | AB19: 0 | AE19: 0 | AI19: 6/1/2014 | AJ19: 0
U20: 2015 | V20: 42064 | W20: 3/1/2015 | X20: Irrigation | Y20: Bills | Z20: 0 | AA20: 0 | AB20: 0 | AE20: 0 | AI20: 7/1/2014 | AJ20: 0
U21: 2015 | V21: 42065 | W21: 3/1/2015 | X21: Irrigation | Y21: Bills | Z21: 0 | AA21: 0 | AB21: 0 | AE21: 0 | AI21: 8/1/2014 | AJ21: 0
U22: 2015 | V22: 42066 | W22: 3/1/2015 | X22: Irrigation | Y22: Bills | Z22: 0 | AA22: 0 | AB22: 0 | AE22: 0 | AI22: 9/1/2014 | AJ22: 0
B23: Total kWh (with losses) | U23: 2015 | V23: 42067 | W23: 3/1/2015 | X23: Irrigation | Y23: Bills | Z23: 0 | AA23: 0 | AB23: 0 | AE23: 0 | AI23: 10/1/2014 | AJ23: 0
C24: Jan | D24: Feb | E24: Mar | F24: Apr | G24: May | H24: Jun | I24: Jul | J24: Aug | K24: Sep | L24: Oct | M24: Nov | N24: Dec | U24: 2015 | V24: 42068 | W24: 3/1/2015 | X24: Irrigation | Y24: Bills | Z24: 0 | AA24: 0 | AB24: 0 | AE24: 0 | AI24: 11/1/2014 | AJ24: 0
B25: Calendar Year | C25: 1 | D25: 2 | E25: 3 | F25: 4 | G25: 5 | H25: 6 | I25: 7 | J25: 8 | K25: 9 | L25: 10 | M25: 11 | N25: 12 | O25: CY Total | U25: 2015 | V25: 42069 | W25: 3/1/2015 | X25: Irrigation | Y25: Bills | Z25: 0 | AA25: 0 | AB25: 0 | AE25: 0 | AI25: 12/1/2014 | AJ25: 0
B26: 2013 | C26: 0 | D26: 1001450 | E26: 0 | F26: 0 | G26: 0 | H26: 0 | I26: 0 | J26: 0 | K26: 0 | L26: 0 | M26: 0 | N26: 0 | O26: =SUM(C26:N26) -> 1001450 | U26: 2015 | V26: 42070 | W26: 3/1/2015 | X26: Irrigation | Y26: Bills | Z26: 0 | AA26: 0 | AB26: 0 | AE26: 0 | AI26: 1/1/2015 | AJ26: 0
U27: 2015 | V27: 42071 | W27: 3/1/2015 | X27: Irrigation | Y27: Bills | Z27: 0 | AA27: 0 | AB27: 0 | AE27: 0 | AI27: 2/1/2015 | AJ27: 0
B28: 2014 | C28: 0 | D28: 0 | E28: 0 | F28: 0 | G28: 0 | H28: 0 | I28: 0 | J28: 0 | K28: 0 | L28: 0 | M28: 0 | N28: 0 | O28: =SUM(C28:N28) -> 0 | U28: 2015 | V28: 42072 | W28: 3/1/2015 | X28: Irrigation | Y28: Bills | Z28: 0 | AA28: 0 | AB28: 0 | AE28: 0 | AI28: 3/1/2015 | AJ28: 3370150
U29: 2015 | V29: 42073 | W29: 3/1/2015 | X29: Irrigation | Y29: Bills | Z29: 0 | AA29: 0 | AB29: 0 | AE29: 0 | AI29: 4/1/2015 | AJ29: 37530250
B30: 2015 | C30: 0 | D30: 0 | E30: 3370150 | F30: 37530250 | G30: 88121500 | H30: 147320240 | I30: 157571080 | J30: 131337690 | K30: 75775340 | L30: 44576340 | M30: 2806450 | N30: 0 | O30: =SUM(C30:N30) -> 688409040 | U30: 2015 | V30: 42074 | W30: 3/1/2015 | X30: Irrigation | Y30: Bills | Z30: 0 | AA30: 0 | AB30: 0 | AE30: 0 | AI30: 5/1/2015 | AJ30: 88121500
U31: 2015 | V31: 42075 | W31: 3/1/2015 | X31: Irrigation | Y31: Bills | Z31: 0 | AA31: 0 | AB31: 0 | AE31: 0 | AI31: 6/1/2015 | AJ31: 147320240
B32: 2016 | C32: 0 | D32: 0 | E32: 1477870 | F32: 19284580 | G32: 84150960 | H32: 119760780 | I32: 139460890 | J32: 130054590 | K32: 77292720 | L32: 26972380 | M32: 1153300 | N32: -540 | O32: =SUM(C32:N32) -> 599607530 | U32: 2015 | V32: 42076 | W32: 3/1/2015 | X32: Irrigation | Y32: Bills | Z32: 0 | AA32: 0 | AB32: 0 | AE32: 0 | AI32: 7/1/2015 | AJ32: 157571080
U33: 2015 | V33: 42077 | W33: 3/1/2015 | X33: Irrigation | Y33: Bills | Z33: 0 | AA33: 0 | AB33: 0 | AE33: 0 | AI33: 8/1/2015 | AJ33: 131337690
B34: 2017 | C34: 0 | D34: 0 | E34: 560490 | F34: 9679010 | G34: 68404200 | H34: 119137780 | I34: 154396000 | J34: 127123060 | K34: 75936770 | L34: 36638010 | M34: 2283710 | N34: -430 | O34: =SUM(C34:N34) -> 594158600 | U34: 2015 | V34: 42078 | W34: 3/1/2015 | X34: Irrigation | Y34: Bills | Z34: 0 | AA34: 0 | AB34: 0 | AE34: 0 | AI34: 9/1/2015 | AJ34: 75775340
U35: 2015 | V35: 42079 | W35: 3/1/2015 | X35: Irrigation | Y35: Bills | Z35: 0 | AA35: 0 | AB35: 0 | AE35: 0 | AI35: 10/1/2015 | AJ35: 44576340
B36: 2018 | C36: 0 | D36: 0 | E36: 1040580 | F36: 13326340 | G36: 73062520 | H36: 124675830 | I36: 155363240 | J36: 124070110 | K36: 75886070 | L36: 29437730 | M36: 970990 | N36: -440 | O36: =SUM(C36:N36) -> 597832970 | U36: 2015 | V36: 42080 | W36: 3/1/2015 | X36: Irrigation | Y36: Bills | Z36: 0 | AA36: 0 | AB36: 0 | AE36: 0 | AI36: 11/1/2015 | AJ36: 2806450
U37: 2015 | V37: 42081 | W37: 3/1/2015 | X37: Irrigation | Y37: Bills | Z37: 0 | AA37: 0 | AB37: 0 | AE37: 0 | AI37: 12/1/2015 | AJ37: 0
B38: 2019 | C38: 0 | D38: 0 | E38: 1111090 | F38: 13460270 | G38: 72493430 | H38: 129389560 | I38: 145477260 | J38: 125470940 | K38: 73846670 | L38: 31415710 | M38: 1722730 | N38: -430 | O38: =SUM(C38:N38) -> 594387230 | U38: 2015 | V38: 42082 | W38: 3/1/2015 | X38: Irrigation | Y38: Bills | Z38: 0 | AA38: 0 | AB38: 0 | AE38: 0 | AI38: 1/1/2016 | AJ38: 0
U39: 2015 | V39: 42083 | W39: 3/1/2015 | X39: Irrigation | Y39: Bills | Z39: 0 | AA39: 0 | AB39: 0 | AE39: 0 | AI39: 2/1/2016 | AJ39: 0
B40: 2020 | C40: 0 | D40: 0 | E40: 1911900 | F40: 21505610 | G40: 71157500 | H40: 121354290 | I40: 154556760 | J40: 144167720 | K40: 82629090 | L40: 37312380 | M40: 1973870 | N40: 0 | O40: =SUM(C40:N40) -> 636569120 | U40: 2015 | V40: 42084 | W40: 3/1/2015 | X40: Irrigation | Y40: Bills | Z40: 0 | AA40: 0 | AB40: 0 | AE40: 0 | AI40: 3/1/2016 | AJ40: 1477870
...

Sheet Monthly Load
A1: Grant PUD
A2: 10190
M7: fiscal_year | N7: date | O7: hours | P7: month | Q7: component | R7: source | S7: mwh_sales | T7: mwh_load | U7: mwh_losses | V7: kwh_load | X7: fiscal_year | Y7: date | Z7: hours | AA7: hours | AB7: component | AC7: source | AD7: mwh_sales | AE7: mwh_load | AF7: mwh_losses
M8: 2018 | N8: 43009 | O8: 24 | P8: 10/1/2017 | Q8: Total System | R8: PCI Calculation | S8: 12071.098 | T8: 11792.513 | U8: -278.58536 | V8: =T8*1000 -> 11792513 | X8: 2018 | Y8: 43009 | Z8: 24 | AA8: 24 | AB8: NLSL | AC8: Bills | AD8: 3316.8872 | AE8: 3338.9761 | AF8: 22.088825
M9: 2018 | N9: 43010 | O9: 24 | P9: 10/1/2017 | Q9: Total System | R9: PCI Calculation | S9: 12061.238 | T9: 12435.846 | U9: 374.60792 | V9: =T9*1000 -> 12435846 | X9: 2018 | Y9: 43010 | Z9: 24 | AA9: 24 | AB9: NLSL | AC9: Bills | AD9: 3316.8872 | AE9: 3338.9761 | AF9: 22.088825
M10: 2018 | N10: 43011 | O10: 24 | P10: 10/1/2017 | Q10: Total System | R10: PCI Calculation | S10: 12044.023 | T10: 12719.943 | U10: 675.92007 | V10: =T10*1000 -> 12719943 | X10: 2018 | Y10: 43011 | Z10: 24 | AA10: 24 | AB10: NLSL | AC10: Bills | AD10: 3316.8872 | AE10: 3338.9761 | AF10: 22.088825
M11: 2018 | N11: 43012 | O11: 24 | P11: 10/1/2017 | Q11: Total System | R11: PCI Calculation | S11: 12046.002 | T11: 13045.205 | U11: 999.2034 | V11: =T11*1000 -> 13045205 | X11: 2018 | Y11: 43012 | Z11: 24 | AA11: 24 | AB11: NLSL | AC11: Bills | AD11: 3316.8872 | AE11: 3338.9761 | AF11: 22.088825
M12: 2018 | N12: 43013 | O12: 24 | P12: 10/1/2017 | Q12: Total System | R12: PCI Calculation | S12: 12040.46 | T12: 13144.724 | U12: 1104.2645 | V12: =T12*1000 -> 13144724 | X12: 2018 | Y12: 43013 | Z12: 24 | AA12: 24 | AB12: NLSL | AC12: Bills | AD12: 3316.8872 | AE12: 3338.9761 | AF12: 22.088825
M13: 2018 | N13: 43014 | O13: 24 | P13: 10/1/2017 | Q13: Total System | R13: PCI Calculation | S13: 12022.101 | T13: 12989.481 | U13: 967.38011 | V13: =T13*1000 -> 12989481 | X13: 2018 | Y13: 43014 | Z13: 24 | AA13: 24 | AB13: NLSL | AC13: Bills | AD13: 3316.8872 | AE13: 3338.9761 | AF13: 22.088825
M14: 2018 | N14: 43015 | O14: 24 | P14: 10/1/2017 | Q14: Total System | R14: PCI Calculation | S14: 11980.688 | T14: 12351.719 | U14: 371.03076 | V14: =T14*1000 -> 12351719 | X14: 2018 | Y14: 43015 | Z14: 24 | AA14: 24 | AB14: NLSL | AC14: Bills | AD14: 3316.8872 | AE14: 3338.9761 | AF14: 22.088825
M15: 2018 | N15: 43016 | O15: 24 | P15: 10/1/2017 | Q15: Total System | R15: PCI Calculation | S15: 11940.238 | T15: 12212.516 | U15: 272.2784 | V15: =T15*1000 -> 12212516 | X15: 2018 | Y15: 43016 | Z15: 24 | AA15: 24 | AB15: NLSL | AC15: Bills | AD15: 3316.8872 | AE15: 3338.9761 | AF15: 22.088825
M16: 2018 | N16: 43017 | O16: 24 | P16: 10/1/2017 | Q16: Total System | R16: PCI Calculation | S16: 11956.488 | T16: 12907.2 | U16: 950.71217 | V16: =T16*1000 -> 12907200 | X16: 2018 | Y16: 43017 | Z16: 24 | AA16: 24 | AB16: NLSL | AC16: Bills | AD16: 3316.8872 | AE16: 3338.9761 | AF16: 22.088825
M17: 2018 | N17: 43018 | O17: 24 | P17: 10/1/2017 | Q17: Total System | R17: PCI Calculation | S17: 11981.128 | T17: 13241.43 | U17: 1260.3022 | V17: =T17*1000 -> 13241430 | X17: 2018 | Y17: 43018 | Z17: 24 | AA17: 24 | AB17: NLSL | AC17: Bills | AD17: 3316.8872 | AE17: 3338.9761 | AF17: 22.088825
M18: 2018 | N18: 43019 | O18: 24 | P18: 10/1/2017 | Q18: Total System | R18: PCI Calculation | S18: 11987.012 | T18: 13432.8 | U18: 1445.7875 | V18: =T18*1000 -> 13432800 | X18: 2018 | Y18: 43019 | Z18: 24 | AA18: 24 | AB18: NLSL | AC18: Bills | AD18: 3316.8872 | AE18: 3338.9761 | AF18: 22.088825
M19: 2018 | N19: 43020 | O19: 24 | P19: 10/1/2017 | Q19: Total System | R19: PCI Calculation | S19: 12016.271 | T19: 13857.63 | U19: 1841.3585 | V19: =T19*1000 -> 13857630 | X19: 2018 | Y19: 43020 | Z19: 24 | AA19: 24 | AB19: NLSL | AC19: Bills | AD19: 3316.8872 | AE19: 3338.9761 | AF19: 22.088825
... M22: 2018 | N22: 43023 | O22: 24 | P22: 10/1/2017 | Q22: Total System | R22: PCI Calculation | S22: 12021.156 | T22: 12308.549 | U22: 287.39334 | V22: =T22*1000 -> 12308549 | X22: 2018 | Y22: 43023 | Z22: 24 | AA22: 24 | AB22: NLSL | AC22: Bills | AD22: 3316.8872 | AE22: 3338.9761 | AF22: 22.088825
B23: BESID | C23: Calendar Year | D23: Month | E23: Date | F23: TRL (MWh) | G23: NLSL (MWh) | M23: 2018 | N23: 43024 | O23: 24 | P23: 10/1/2017 | Q23: Total System | R23: PCI Calculation | S23: 12061.621 | T23: 12888.869 | U23: 827.24794 | V23: =T23*1000 -> 12888869 | X23: 2018 | Y23: 43024 | Z23: 24 | AA23: 24 | AB23: NLSL | AC23: Bills | AD23: 3316.8872 | AE23: 3338.9761 | AF23: 22.088825
B24: ='Monthly Irrigation'!$A$2 -> 10190 | C24: =YEAR(E24) -> 2017 | D24: =MONTH(E24) -> 10 | E24: 43009 | F24: =SUMIF($P$8:$P$2198,E24,$T$8:$T$2198) -> 385123.05 | G24: =SUMIF($Y$8:$Y$2198,E24,$AE$8:$AE$2198) -> 3338.9761 | M24: 2018 | N24: 43025 | O24: 24 | P24: 10/1/2017 | Q24: Total System | R24: PCI Calculation | S24: 12122.841 | T24: 13148.426 | U24: 1025.5855 | V24: =T24*1000 -> 13148426 | X24: 2018 | Y24: 43025 | Z24: 24 | AA24: 24 | AB24: NLSL | AC24: Bills | AD24: 3316.8872 | AE24: 3338.9761 | AF24: 22.088825
B25: ='Monthly Irrigation'!$A$2 -> 10190 | C25: =YEAR(E25) -> 2017 | D25: =MONTH(E25) -> 11 | E25: 43040 | F25: =SUMIF($P$8:$P$2198,E25,$T$8:$T$2198) -> 385960.85 | G25: =SUMIF($Y$8:$Y$2198,E25,$AE$8:$AE$2198) -> 3560.9412 | M25: 2018 | N25: 43026 | O25: 24 | P25: 10/1/2017 | Q25: Total System | R25: PCI Calculation | S25: 12159.986 | T25: 13186.504 | U25: 1026.5181 | V25: =T25*1000 -> 13186504 | X25: 2018 | Y25: 43026 | Z25: 24 | AA25: 24 | AB25: NLSL | AC25: Bills | AD25: 3316.8872 | AE25: 3338.9761 | AF25: 22.088825
B26: ='Monthly Irrigation'!$A$2 -> 10190 | C26: =YEAR(E26) -> 2017 | D26: =MONTH(E26) -> 12 | E26: 43070 | F26: =SUMIF($P$8:$P$2198,E26,$T$8:$T$2198) -> 437450.77 | G26: =SUMIF($Y$8:$Y$2198,E26,$AE$8:$AE$2198) -> 3628.8615 | M26: 2018 | N26: 43027 | O26: 24 | P26: 10/1/2017 | Q26: Total System | R26: PCI Calculation | S26: 12181.407 | T26: 12726.363 | U26: 544.95611 | V26: =T26*1000 -> 12726363 | X26: 2018 | Y26: 43027 | Z26: 24 | AA26: 24 | AB26: NLSL | AC26: Bills | AD26: 3316.8872 | AE26: 3338.9761 | AF26: 22.088825
B27: ='Monthly Irrigation'!$A$2 -> 10190 | C27: =YEAR(E27) -> 2018 | D27: =MONTH(E27) -> 1 | E27: 43101 | F27: =SUMIF($P$8:$P$2198,E27,$T$8:$T$2198) -> 431803.69 | G27: =SUMIF($Y$8:$Y$2198,E27,$AE$8:$AE$2198) -> 3848.703 | M27: 2018 | N27: 43028 | O27: 24 | P27: 10/1/2017 | Q27: Total System | R27: PCI Calculation | S27: 12221.696 | T27: 12764.967 | U27: 543.27136 | V27: =T27*1000 -> 12764967 | X27: 2018 | Y27: 43028 | Z27: 24 | AA27: 24 | AB27: NLSL | AC27: Bills | AD27: 3316.8872 | AE27: 3338.9761 | AF27: 22.088825
B28: ='Monthly Irrigation'!$A$2 -> 10190 | C28: =YEAR(E28) -> 2018 | D28: =MONTH(E28) -> 2 | E28: 43132 | F28: =SUMIF($P$8:$P$2198,E28,$T$8:$T$2198) -> 390795.97 | G28: =SUMIF($Y$8:$Y$2198,E28,$AE$8:$AE$2198) -> 2946.8358 | M28: 2018 | N28: 43029 | O28: 24 | P28: 10/1/2017 | Q28: Total System | R28: PCI Calculation | S28: 12194.85 | T28: 12857.228 | U28: 662.37782 | V28: =T28*1000 -> 12857228 | X28: 2018 | Y28: 43029 | Z28: 24 | AA28: 24 | AB28: NLSL | AC28: Bills | AD28: 3316.8872 | AE28: 3338.9761 | AF28: 22.088825
B29: ='Monthly Irrigation'!$A$2 -> 10190 | C29: =YEAR(E29) -> 2018 | D29: =MONTH(E29) -> 3 | E29: 43160 | F29: =SUMIF($P$8:$P$2198,E29,$T$8:$T$2198) -> 398621.15 | G29: =SUMIF($Y$8:$Y$2198,E29,$AE$8:$AE$2198) -> 2923.8751 | M29: 2018 | N29: 43030 | O29: 24 | P29: 10/1/2017 | Q29: Total System | R29: PCI Calculation | S29: 12135.475 | T29: 11634.466 | U29: -501.00894 | V29: =T29*1000 -> 11634466 | X29: 2018 | Y29: 43030 | Z29: 24 | AA29: 24 | AB29: NLSL | AC29: Bills | AD29: 3316.8872 | AE29: 3338.9761 | AF29: 22.088825
B30: ='Monthly Irrigation'!$A$2 -> 10190 | C30: =YEAR(E30) -> 2018 | D30: =MONTH(E30) -> 4 | E30: 43191 | F30: =SUMIF($P$8:$P$2198,E30,$T$8:$T$2198) -> 385819.26 | G30: =SUMIF($Y$8:$Y$2198,E30,$AE$8:$AE$2198) -> 2866.6817 | M30: 2018 | N30: 43031 | O30: 24 | P30: 10/1/2017 | Q30: Total System | R30: PCI Calculation | S30: 12142.54 | T30: 11354.262 | U30: -788.27803 | V30: =T30*1000 -> 11354262 | X30: 2018 | Y30: 43031 | Z30: 24 | AA30: 24 | AB30: NLSL | AC30: Bills | AD30: 3316.8872 | AE30: 3338.9761 | AF30: 22.088825
B31: ='Monthly Irrigation'!$A$2 -> 10190 | C31: =YEAR(E31) -> 2018 | D31: =MONTH(E31) -> 5 | E31: 43221 | F31: =SUMIF($P$8:$P$2198,E31,$T$8:$T$2198) -> 428003.01 | G31: =SUMIF($Y$8:$Y$2198,E31,$AE$8:$AE$2198) -> 2764.4657 | M31: 2018 | N31: 43032 | O31: 24 | P31: 10/1/2017 | Q31: Total System | R31: PCI Calculation | S31: 12091.549 | T31: 11031.337 | U31: -1060.2118 | V31: =T31*1000 -> 11031337 | X31: 2018 | Y31: 43032 | Z31: 24 | AA31: 24 | AB31: NLSL | AC31: Bills | AD31: 3316.8872 | AE31: 3338.9761 | AF31: 22.088825
B32: ='Monthly Irrigation'!$A$2 -> 10190 | C32: =YEAR(E32) -> 2018 | D32: =MONTH(E32) -> 6 | E32: 43252 | F32: =SUMIF($P$8:$P$2198,E32,$T$8:$T$2198) -> 458139.38 | G32: =SUMIF($Y$8:$Y$2198,E32,$AE$8:$AE$2198) -> 2599.8029 | M32: 2018 | N32: 43033 | O32: 24 | P32: 10/1/2017 | Q32: Total System | R32: PCI Calculation | S32: 12093.917 | T32: 11154.445 | U32: -939.47194 | V32: =T32*1000 -> 11154445 | X32: 2018 | Y32: 43033 | Z32: 24 | AA32: 24 | AB32: NLSL | AC32: Bills | AD32: 3316.8872 | AE32: 3338.9761 | AF32: 22.088825
B33: ='Monthly Irrigation'!$A$2 -> 10190 | C33: =YEAR(E33) -> 2018 | D33: =MONTH(E33) -> 7 | E33: 43282 | F33: =SUMIF($P$8:$P$2198,E33,$T$8:$T$2198) -> 504954.88 | G33: =SUMIF($Y$8:$Y$2198,E33,$AE$8:$AE$2198) -> 2789.8374 | M33: 2018 | N33: 43034 | O33: 24 | P33: 10/1/2017 | Q33: Total System | R33: PCI Calculation | S33: 12096 | T33: 10952.805 | U33: -1143.195 | V33: =T33*1000 -> 10952805 | X33: 2018 | Y33: 43034 | Z33: 24 | AA33: 24 | AB33: NLSL | AC33: Bills | AD33: 3316.8872 | AE33: 3338.9761 | AF33: 22.088825
B34: ='Monthly Irrigation'!$A$2 -> 10190 | C34: =YEAR(E34) -> 2018 | D34: =MONTH(E34) -> 8 | E34: 43313 | F34: =SUMIF($P$8:$P$2198,E34,$T$8:$T$2198) -> 476697.4 | G34: =SUMIF($Y$8:$Y$2198,E34,$AE$8:$AE$2198) -> 2781.6868 | M34: 2018 | N34: 43035 | O34: 24 | P34: 10/1/2017 | Q34: Total System | R34: PCI Calculation | S34: 12174.307 | T34: 11227.992 | U34: -946.31471 | V34: =T34*1000 -> 11227992 | X34: 2018 | Y34: 43035 | Z34: 24 | AA34: 24 | AB34: NLSL | AC34: Bills | AD34: 3316.8872 | AE34: 3338.9761 | AF34: 22.088825
B35: ='Monthly Irrigation'!$A$2 -> 10190 | C35: =YEAR(E35) -> 2018 | D35: =MONTH(E35) -> 9 | E35: 43344 | F35: =SUMIF($P$8:$P$2198,E35,$T$8:$T$2198) -> 406922.07 | G35: =SUMIF($Y$8:$Y$2198,E35,$AE$8:$AE$2198) -> 2856.1471 | M35: 2018 | N35: 43036 | O35: 24 | P35: 10/1/2017 | Q35: Total System | R35: PCI Calculation | S35: 12124.024 | T35: 11565.967 | U35: -558.05742 | V35: =T35*1000 -> 11565967 | X35: 2018 | Y35: 43036 | Z35: 24 | AA35: 24 | AB35: NLSL | AC35: Bills | AD35: 3316.8872 | AE35: 3338.9761 | AF35: 22.088825
... B95: ='Monthly Irrigation'!$A$2 -> 10190 | C95: =YEAR(E95) -> 2023 | D95: =MONTH(E95) -> 9 | E95: 45170 | F95: =SUMIF($P$8:$P$2198,E95,$T$8:$T$2198) -> 483059.51 | G95: =SUMIF($Y$8:$Y$2198,E95,$AE$8:$AE$2198) -> 5329.8358 | M95: 2018 | N95: 43096 | O95: 24 | P95: 12/1/2017 | Q95: Total System | R95: PCI Calculation | S95: 13467.793 | T95: 14671.552 | U95: 1203.7593 | V95: =T95*1000 -> 14671552 | X95: 2018 | Y95: 43096 | Z95: 24 | AA95: 24 | AB95: NLSL | AC95: Bills | AD95: 3604.855 | AE95: 3628.8615 | AF95: 24.006547
M96: 2018 | N96: 43097 | O96: 24 | P96: 12/1/2017 | Q96: Total System | R96: PCI Calculation | S96: 13455.813 | T96: 14559.036 | U96: 1103.223 | V96: =T96*1000 -> 14559036 | X96: 2018 | Y96: 43097 | Z96: 24 | AA96: 24 | AB96: NLSL | AC96: Bills | AD96: 3604.855 | AE96: 3628.8615 | AF96: 24.006547
M97: 2018 | N97: 43098 | O97: 24 | P97: 12/1/2017 | Q97: Total System | R97: PCI Calculation | S97: 13428.153 | T97: 13993.928 | U97: 565.77509 | V97: =T97*1000 -> 13993928 | X97: 2018 | Y97: 43098 | Z97: 24 | AA97: 24 | AB97: NLSL | AC97: Bills | AD97: 3604.855 | AE97: 3628.8615 | AF97: 24.006547
M98: 2018 | N98: 43099 | O98: 24 | P98: 12/1/2017 | Q98: Total System | R98: PCI Calculation | S98: 13428.371 | T98: 13168.293 | U98: -260.07829 | V98: =T98*1000 -> 13168293 | X98: 2018 | Y98: 43099 | Z98: 24 | AA98: 24 | AB98: NLSL | AC98: Bills | AD98: 3604.855 | AE98: 3628.8615 | AF98: 24.006547
M99: 2018 | N99: 43100 | O99: 24 | P99: 12/1/2017 | Q99: Total System | R99: PCI Calculation | S99: 13822.11 | T99: 13975.35 | U99: 153.24037 | V99: =T99*1000 -> 13975350 | X99: 2018 | Y99: 43100 | Z99: 24 | AA99: 24 | AB99: NLSL | AC99: Bills | AD99: 3823.2421 | AE99: 3848.703 | AF99: 25.460897
M100: 2018 | N100: 43101 | O100: 24 | P100: 1/1/2018 | Q100: Total System | R100: PCI Calculation | S100: 13826.766 | T100: 14166.364 | U100: 339.59792 | V100: =T100*1000 -> 14166364 | X100: 2018 | Y100: 43101 | Z100: 24 | AA100: 24 | AB100: NLSL | AC100: Bills | AD100: 3823.2421 | AE100: 3848.703 | AF100: 25.460897
M101: 2018 | N101: 43102 | O101: 24 | P101: 1/1/2018 | Q101: Total System | R101: PCI Calculation | S101: 13821.184 | T101: 14725.589 | U101: 904.40493 | V101: =T101*1000 -> 14725589 | X101: 2018 | Y101: 43102 | Z101: 24 | AA101: 24 | AB101: NLSL | AC101: Bills | AD101: 3823.2421 | AE101: 3848.703 | AF101: 25.460897
M102: 2018 | N102: 43103 | O102: 24 | P102: 1/1/2018 | Q102: Total System | R102: PCI Calculation | S102: 13744.164 | T102: 14641.489 | U102: 897.32511 | V102: =T102*1000 -> 14641489 | X102: 2018 | Y102: 43103 | Z102: 24 | AA102: 24 | AB102: NLSL | AC102: Bills | AD102: 3823.2421 | AE102: 3848.703 | AF102: 25.460897
M103: 2018 | N103: 43104 | O103: 24 | P103: 1/1/2018 | Q103: Total System | R103: PCI Calculation | S103: 13689.651 | T103: 14699.178 | U103: 1009.5267 | V103: =T103*1000 -> 14699178 | X103: 2018 | Y103: 43104 | Z103: 24 | AA103: 24 | AB103: NLSL | AC103: Bills | AD103: 3823.2421 | AE103: 3848.703 | AF103: 25.460897
M104: 2018 | N104: 43105 | O104: 24 | P104: 1/1/2018 | Q104: Total System | R104: PCI Calculation | S104: 13637.415 | T104: 14185.472 | U104: 548.05727 | V104: =T104*1000 -> 14185472 | X104: 2018 | Y104: 43105 | Z104: 24 | AA104: 24 | AB104: NLSL | AC104: Bills | AD104: 3823.2421 | AE104: 3848.703 | AF104: 25.460897
M105: 2018 | N105: 43106 | O105: 24 | P105: 1/1/2018 | Q105: Total System | R105: PCI Calculation | S105: 13637.133 | T105: 13664.093 | U105: 26.959529 | V105: =T105*1000 -> 13664093 | X105: 2018 | Y105: 43106 | Z105: 24 | AA105: 24 | AB105: NLSL | AC105: Bills | AD105: 3823.2421 | AE105: 3848.703 | AF105: 25.460897
...

Sheet metered data
A1: Grant PUD
A2: 10190-BLCK
D4: Metered Load (KWh)
D6: Jan | E6: Feb | F6: Mar | G6: Apr | H6: May | I6: Jun | J6: Jul | K6: Aug | L6: Sep | M6: Oct | N6: Nov | O6: Dec
B7: Calendar Year | D7: 1 | E7: 2 | F7: 3 | G7: 4 | H7: 5 | I7: 6 | J7: 7 | K7: 8 | L7: 9 | M7: 10 | N7: 11 | O7: 12
B8: 2017 | C8: Sum of daily sum | M8: =SUMIFS($B$32:$B$1857,$D$32:$D$1857,$B8,$E$32:$E$1857,M$7) -> 385123050 | N8: =SUMIFS($B$32:$B$1857,$D$32:$D$1857,$B8,$E$32:$E$1857,N$7) -> 385960851 | O8: =SUMIFS($B$32:$B$1857,$D$32:$D$1857,$B8,$E$32:$E$1857,O$7) -> 437450767
B9: =B8+0.1 -> 2017.1 | C9: average of daily average | M9: =AVERAGEIFS($C$32:$C$1857,$D$32:$D$1857,$B8,$E$32:$E$1857,M$7) -> 517638.51 | N9: =AVERAGEIFS($C$32:$C$1857,$D$32:$D$1857,$B8,$E$32:$E$1857,N$7) -> 535266.95 | O9: =AVERAGEIFS($C$32:$C$1857,$D$32:$D$1857,$B8,$E$32:$E$1857,O$7) -> 587971.46
B10: 2018 | C10: Sum of daily sum | D10: =SUMIFS($B$32:$B$1857,$D$32:$D$1857,$B10,$E$32:$E$1857,D$7) -> 431803693 | E10: =SUMIFS($B$32:$B$1857,$D$32:$D$1857,$B10,$E$32:$E$1857,E$7) -> 390795973 | F10: =SUMIFS($B$32:$B$1857,$D$32:$D$1857,$B10,$E$32:$E$1857,F$7) -> 398621153 | G10: =SUMIFS($B$32:$B$1857,$D$32:$D$1857,$B10,$E$32:$E$1857,G$7) -> 385819258 | H10: =SUMIFS($B$32:$B$1857,$D$32:$D$1857,$B10,$E$32:$E$1857,H$7) -> 428003007 | I10: =SUMIFS($B$32:$B$1857,$D$32:$D$1857,$B10,$E$32:$E$1857,I$7) -> 458139384 | J10: =SUMIFS($B$32:$B$1857,$D$32:$D$1857,$B10,$E$32:$E$1857,J$7) -> 504954877 | K10: =SUMIFS($B$32:$B$1857,$D$32:$D$1857,$B10,$E$32:$E$1857,K$7) -> 476697403 | ... O10: =SUMIFS($B$32:$B$1857,$D$32:$D$1857,$B10,$E$32:$E$1857,O$7) -> 444338882
B11: =B10+0.1 -> 2018.1 | C11: average of daily average | D11: =AVERAGEIFS($C$32:$C$1857,$D$32:$D$1857,$B10,$E$32:$E$1857,D$7) -> 580381.31 | E11: =AVERAGEIFS($C$32:$C$1857,$D$32:$D$1857,$B10,$E$32:$E$1857,E$7) -> 581541.63 | F11: =AVERAGEIFS($C$32:$C$1857,$D$32:$D$1857,$B10,$E$32:$E$1857,F$7) -> 536446.79 | G11: =AVERAGEIFS($C$32:$C$1857,$D$32:$D$1857,$B10,$E$32:$E$1857,G$7) -> 535860.08 | H11: =AVERAGEIFS($C$32:$C$1857,$D$32:$D$1857,$B10,$E$32:$E$1857,H$7) -> 575272.86 | I11: =AVERAGEIFS($C$32:$C$1857,$D$32:$D$1857,$B10,$E$32:$E$1857,I$7) -> 636304.7 | J11: =AVERAGEIFS($C$32:$C$1857,$D$32:$D$1857,$B10,$E$32:$E$1857,J$7) -> 678702.79 | K11: =AVERAGEIFS($C$32:$C$1857,$D$32:$D$1857,$B10,$E$32:$E$1857,K$7) -> 640722.32 | ... O11: =AVERAGEIFS($C$32:$C$1857,$D$32:$D$1857,$B10,$E$32:$E$1857,O$7) -> 597229.68
B12: 2019 | C12: Sum of daily sum | D12: =SUMIFS($B$32:$B$1857,$D$32:$D$1857,$B12,$E$32:$E$1857,D$7) -> 449901372 | E12: =SUMIFS($B$32:$B$1857,$D$32:$D$1857,$B12,$E$32:$E$1857,E$7) -> 438248239 | F12: =SUMIFS($B$32:$B$1857,$D$32:$D$1857,$B12,$E$32:$E$1857,F$7) -> 426871277 | G12: =SUMIFS($B$32:$B$1857,$D$32:$D$1857,$B12,$E$32:$E$1857,G$7) -> 367746858 | H12: =SUMIFS($B$32:$B$1857,$D$32:$D$1857,$B12,$E$32:$E$1857,H$7) -> 431485433 | I12: =SUMIFS($B$32:$B$1857,$D$32:$D$1857,$B12,$E$32:$E$1857,I$7) -> 465501393 | J12: =SUMIFS($B$32:$B$1857,$D$32:$D$1857,$B12,$E$32:$E$1857,J$7) -> 486797016 | K12: =SUMIFS($B$32:$B$1857,$D$32:$D$1857,$B12,$E$32:$E$1857,K$7) -> 478755891 | ... O12: =SUMIFS($B$32:$B$1857,$D$32:$D$1857,$B12,$E$32:$E$1857,O$7) -> 442249200
B13: =B12+0.1 -> 2019.1 | C13: average of daily average | D13: =AVERAGEIFS($C$32:$C$1857,$D$32:$D$1857,$B12,$E$32:$E$1857,D$7) -> 604706.15 | E13: =AVERAGEIFS($C$32:$C$1857,$D$32:$D$1857,$B12,$E$32:$E$1857,E$7) -> 652155.12 | F13: =AVERAGEIFS($C$32:$C$1857,$D$32:$D$1857,$B12,$E$32:$E$1857,F$7) -> 574585.88 | G13: =AVERAGEIFS($C$32:$C$1857,$D$32:$D$1857,$B12,$E$32:$E$1857,G$7) -> 510759.53 | H13: =AVERAGEIFS($C$32:$C$1857,$D$32:$D$1857,$B12,$E$32:$E$1857,H$7) -> 579953.54 | I13: =AVERAGEIFS($C$32:$C$1857,$D$32:$D$1857,$B12,$E$32:$E$1857,I$7) -> 646529.71 | J13: =AVERAGEIFS($C$32:$C$1857,$D$32:$D$1857,$B12,$E$32:$E$1857,J$7) -> 654297.06 | K13: =AVERAGEIFS($C$32:$C$1857,$D$32:$D$1857,$B12,$E$32:$E$1857,K$7) -> 643489.1 | ... O13: =AVERAGEIFS($C$32:$C$1857,$D$32:$D$1857,$B12,$E$32:$E$1857,O$7) -> 594420.97
B14: 2020 | C14: Sum of daily sum | D14: =SUMIFS($B$32:$B$1857,$D$32:$D$1857,$B14,$E$32:$E$1857,D$7) -> 451988883 | E14: =SUMIFS($B$32:$B$1857,$D$32:$D$1857,$B14,$E$32:$E$1857,E$7) -> 403654821 | F14: =SUMIFS($B$32:$B$1857,$D$32:$D$1857,$B14,$E$32:$E$1857,F$7) -> 407196678 | G14: =SUMIFS($B$32:$B$1857,$D$32:$D$1857,$B14,$E$32:$E$1857,G$7) -> 397045792 | H14: =SUMIFS($B$32:$B$1857,$D$32:$D$1857,$B14,$E$32:$E$1857,H$7) -> 400275890 | I14: =SUMIFS($B$32:$B$1857,$D$32:$D$1857,$B14,$E$32:$E$1857,I$7) -> 439143049 | J14: =SUMIFS($B$32:$B$1857,$D$32:$D$1857,$B14,$E$32:$E$1857,J$7) -> 492314210 | K14: =SUMIFS($B$32:$B$1857,$D$32:$D$1857,$B14,$E$32:$E$1857,K$7) -> 475381610 | ... O14: =SUMIFS($B$32:$B$1857,$D$32:$D$1857,$B14,$E$32:$E$1857,O$7) -> 457431738
B15: =B14+0.1 -> 2020.1 | C15: average of daily average | D15: =AVERAGEIFS($C$32:$C$1857,$D$32:$D$1857,$B14,$E$32:$E$1857,D$7) -> 607511.94 | E15: =AVERAGEIFS($C$32:$C$1857,$D$32:$D$1857,$B14,$E$32:$E$1857,E$7) -> 579963.82 | F15: =AVERAGEIFS($C$32:$C$1857,$D$32:$D$1857,$B14,$E$32:$E$1857,F$7) -> 548038.37 | G15: =AVERAGEIFS($C$32:$C$1857,$D$32:$D$1857,$B14,$E$32:$E$1857,G$7) -> 551452.49 | H15: =AVERAGEIFS($C$32:$C$1857,$D$32:$D$1857,$B14,$E$32:$E$1857,H$7) -> 538005.23 | I15: =AVERAGEIFS($C$32:$C$1857,$D$32:$D$1857,$B14,$E$32:$E$1857,I$7) -> 609920.9 | J15: =AVERAGEIFS($C$32:$C$1857,$D$32:$D$1857,$B14,$E$32:$E$1857,J$7) -> 661712.65 | K15: =AVERAGEIFS($C$32:$C$1857,$D$32:$D$1857,$B14,$E$32:$E$1857,K$7) -> 638953.78 | ... O15: =AVERAGEIFS($C$32:$C$1857,$D$32:$D$1857,$B14,$E$32:$E$1857,O$7) -> 614827.6
B16: 2021 | C16: Sum of daily sum | D16: =SUMIFS($B$32:$B$1857,$D$32:$D$1857,$B16,$E$32:$E$1857,D$7) -> 448519985 | E16: =SUMIFS($B$32:$B$1857,$D$32:$D$1857,$B16,$E$32:$E$1857,E$7) -> 418569642 | F16: =SUMIFS($B$32:$B$1857,$D$32:$D$1857,$B16,$E$32:$E$1857,F$7) -> 424914628 | G16: =SUMIFS($B$32:$B$1857,$D$32:$D$1857,$B16,$E$32:$E$1857,G$7) -> 428715477 | H16: =SUMIFS($B$32:$B$1857,$D$32:$D$1857,$B16,$E$32:$E$1857,H$7) -> 464492259 | I16: =SUMIFS($B$32:$B$1857,$D$32:$D$1857,$B16,$E$32:$E$1857,I$7) -> 522354369 | J16: =SUMIFS($B$32:$B$1857,$D$32:$D$1857,$B16,$E$32:$E$1857,J$7) -> 559132195 | K16: =SUMIFS($B$32:$B$1857,$D$32:$D$1857,$B16,$E$32:$E$1857,K$7) -> 511470693 | ... O16: =SUMIFS($B$32:$B$1857,$D$32:$D$1857,$B16,$E$32:$E$1857,O$7) -> 499849473
B17: =B16+0.1 -> 2021.1 | C17: average of daily average | D17: =AVERAGEIFS($C$32:$C$1857,$D$32:$D$1857,$B16,$E$32:$E$1857,D$7) -> 602849.44 | E17: =AVERAGEIFS($C$32:$C$1857,$D$32:$D$1857,$B16,$E$32:$E$1857,E$7) -> 622871.49 | F17: =AVERAGEIFS($C$32:$C$1857,$D$32:$D$1857,$B16,$E$32:$E$1857,F$7) -> 571892.42 | G17: =AVERAGEIFS($C$32:$C$1857,$D$32:$D$1857,$B16,$E$32:$E$1857,G$7) -> 595438.16 | H17: =AVERAGEIFS($C$32:$C$1857,$D$32:$D$1857,$B16,$E$32:$E$1857,H$7) -> 624317.55 | I17: =AVERAGEIFS($C$32:$C$1857,$D$32:$D$1857,$B16,$E$32:$E$1857,I$7) -> 725492.18 | J17: =AVERAGEIFS($C$32:$C$1857,$D$32:$D$1857,$B16,$E$32:$E$1857,J$7) -> 751521.77 | K17: =AVERAGEIFS($C$32:$C$1857,$D$32:$D$1857,$B16,$E$32:$E$1857,K$7) -> 687460.61 | ... O17: =AVERAGEIFS($C$32:$C$1857,$D$32:$D$1857,$B16,$E$32:$E$1857,O$7) -> 671840.69
B18: 2022 | C18: Sum of daily sum | D18: =SUMIFS($B$32:$B$1857,$D$32:$D$1857,$B18,$E$32:$E$1857,D$7) -> 526701387 | E18: =SUMIFS($B$32:$B$1857,$D$32:$D$1857,$B18,$E$32:$E$1857,E$7) -> 453693277 | F18: =SUMIFS($B$32:$B$1857,$D$32:$D$1857,$B18,$E$32:$E$1857,F$7) -> 449151923 | G18: =SUMIFS($B$32:$B$1857,$D$32:$D$1857,$B18,$E$32:$E$1857,G$7) -> 460034494 | H18: =SUMIFS($B$32:$B$1857,$D$32:$D$1857,$B18,$E$32:$E$1857,H$7) -> 480695034 | I18: =SUMIFS($B$32:$B$1857,$D$32:$D$1857,$B18,$E$32:$E$1857,I$7) -> 492732027 | J18: =SUMIFS($B$32:$B$1857,$D$32:$D$1857,$B18,$E$32:$E$1857,J$7) -> 582944258 | K18: =SUMIFS($B$32:$B$1857,$D$32:$D$1857,$B18,$E$32:$E$1857,K$7) -> 581345197 | ... O18: =SUMIFS($B$32:$B$1857,$D$32:$D$1857,$B18,$E$32:$E$1857,O$7) -> 0
B19: =B18+0.1 -> 2022.1 | C19: average of daily average | D19: =AVERAGEIFS($C$32:$C$1857,$D$32:$D$1857,$B18,$E$32:$E$1857,D$7) -> 707931.97 | E19: =AVERAGEIFS($C$32:$C$1857,$D$32:$D$1857,$B18,$E$32:$E$1857,E$7) -> 675138.81 | F19: =AVERAGEIFS($C$32:$C$1857,$D$32:$D$1857,$B18,$E$32:$E$1857,F$7) -> 604500.68 | G19: =AVERAGEIFS($C$32:$C$1857,$D$32:$D$1857,$B18,$E$32:$E$1857,G$7) -> 638936.8 | H19: =AVERAGEIFS($C$32:$C$1857,$D$32:$D$1857,$B18,$E$32:$E$1857,H$7) -> 646095.48 | I19: =AVERAGEIFS($C$32:$C$1857,$D$32:$D$1857,$B18,$E$32:$E$1857,I$7) -> 684350.04 | J19: =AVERAGEIFS($C$32:$C$1857,$D$32:$D$1857,$B18,$E$32:$E$1857,J$7) -> 783527.23 | K19: =AVERAGEIFS($C$32:$C$1857,$D$32:$D$1857,$B18,$E$32:$E$1857,K$7) -> 781377.95 | L19: =AVERAGEIFS($C$32:$C$1857,$D$32:$D$1857,$B18,$E$32:$E$1857,L$7) -> 656626.55
A31: dt | B31: daily sum | C31: daily average | D31: year | E31: month | F31: customer | G31: meter | H31: hr count | I31: units | J31: date | K31: hr1 | L31: hr2 | M31: hr3 | N31: hr4 | O31: hr5 | P31: hr6 | Q31: hr7 | R31: hr8 | S31: hr9 | T31: hr10 | U31: hr11 | V31: hr12 | W31: hr13 | X31: hr14 | Y31: hr15 | Z31: hr16 | AA31: hr17 | AB31: hr18 | AC31: hr19 | AD31: hr20 | AE31: hr21 | AF31: hr22 | AG31: hr23 | AH31: hr24
A32: =J32 -> 43009 | B32: 11792513 | C32: =B32/H32 -> 491354.71 | D32: =YEAR(J32) -> 2017 | E32: =MONTH(J32) -> 10 | F32: 10190 | G32: TOTAL | H32: 24 | I32: kWh | J32: 43009
A33: =J33 -> 43010 | B33: 12435846 | C33: =B33/H33 -> 518160.25 | D33: =YEAR(J33) -> 2017 | E33: =MONTH(J33) -> 10 | F33: 10190 | G33: TOTAL | H33: 24 | I33: kWh | J33: 43010
A34: =J34 -> 43011 | B34: 12719943 | C34: =B34/H34 -> 529997.62 | D34: =YEAR(J34) -> 2017 | E34: =MONTH(J34) -> 10 | F34: 10190 | G34: TOTAL | H34: 24 | I34: kWh | J34: 43011
A35: =J35 -> 43012 | B35: 13045205 | C35: =B35/H35 -> 543550.21 | D35: =YEAR(J35) -> 2017 | E35: =MONTH(J35) -> 10 | F35: 10190 | G35: TOTAL | H35: 24 | I35: kWh | J35: 43012
A36: =J36 -> 43013 | B36: 13144724 | C36: =B36/H36 -> 547696.83 | D36: =YEAR(J36) -> 2017 | E36: =MONTH(J36) -> 10 | F36: 10190 | G36: TOTAL | H36: 24 | I36: kWh | J36: 43013
A37: =J37 -> 43014 | B37: 12989481 | C37: =B37/H37 -> 541228.38 | D37: =YEAR(J37) -> 2017 | E37: =MONTH(J37) -> 10 | F37: 10190 | G37: TOTAL | H37: 24 | I37: kWh | J37: 43014
A38: =J38 -> 43015 | B38: 12351719 | C38: =B38/H38 -> 514654.96 | D38: =YEAR(J38) -> 2017 | E38: =MONTH(J38) -> 10 | F38: 10190 | G38: TOTAL | H38: 24 | I38: kWh | J38: 43015
A39: =J39 -> 43016 | B39: 12212516 | C39: =B39/H39 -> 508854.83 | D39: =YEAR(J39) -> 2017 | E39: =MONTH(J39) -> 10 | F39: 10190 | G39: TOTAL | H39: 24 | I39: kWh | J39: 43016
A40: =J40 -> 43017 | B40: 12907200 | C40: =B40/H40 -> 537800 | D40: =YEAR(J40) -> 2017 | E40: =MONTH(J40) -> 10 | F40: 10190 | G40: TOTAL | H40: 24 | I40: kWh | J40: 43017
A41: =J41 -> 43018 | B41: 13241430 | C41: =B41/H41 -> 551726.25 | D41: =YEAR(J41) -> 2017 | E41: =MONTH(J41) -> 10 | F41: 10190 | G41: TOTAL | H41: 24 | I41: kWh | J41: 43018
A42: =J42 -> 43019 | B42: 13432800 | C42: =B42/H42 -> 559700 | D42: =YEAR(J42) -> 2017 | E42: =MONTH(J42) -> 10 | F42: 10190 | G42: TOTAL | H42: 24 | I42: kWh | J42: 43019
A43: =J43 -> 43020 | B43: 13857630 | C43: =B43/H43 -> 577401.25 | D43: =YEAR(J43) -> 2017 | E43: =MONTH(J43) -> 10 | F43: 10190 | G43: TOTAL | H43: 24 | I43: kWh | J43: 43020
... A1857: =J1857 -> 44834 | B1857: 15246601 | C1857: =B1857/H1857 -> 635275.04 | D1857: =YEAR(J1857) -> 2022 | E1857: =MONTH(J1857) -> 9 | F1857: 10190 | G1857: TOTAL | H1857: 24 | I1857: kWh | J1857: 44834
A1858: =J1858 -> 44835 | B1858: 15050843 | C1858: =B1858/H1858 -> 627118.46 | D1858: =YEAR(J1858) -> 2022 | E1858: =MONTH(J1858) -> 10 | F1858: 10190 | G1858: TOTAL | H1858: 24 | I1858: kWh | J1858: 44835 | K1858: 593383 | L1858: 591302 | M1858: 583208 | N1858: 584236 | O1858: 585671 | P1858: 591825 | Q1858: 594106 | R1858: 601893 | S1858: 607538 | T1858: 625176 | U1858: 634368 | V1858: 635765 | W1858: 639524 | X1858: 641584 | Y1858: 654578 | Z1858: 655715 | AA1858: 660559 | AB1858: 657135 | AC1858: 645230 | AD1858: 640855 | AE1858: 627902 | AF1858: 612463 | AG1858: 606847 | AH1858: 594271
A1859: =J1859 -> 44836 | B1859: 14883868 | C1859: =B1859/H1859 -> 620161.17 | D1859: =YEAR(J1859) -> 2022 | E1859: =MONTH(J1859) -> 10 | F1859: 10190 | G1859: TOTAL | H1859: 24 | I1859: kWh | J1859: 44836 | K1859: 593170 | L1859: 583985 | M1859: 582023 | N1859: 582177 | O1859: 576131 | P1859: 579391 | Q1859: 580193 | R1859: 581443 | S1859: 595377 | T1859: 610778 | U1859: 620374 | V1859: 627181 | W1859: 629520 | X1859: 640885 | Y1859: 648893 | Z1859: 658809 | AA1859: 655391 | AB1859: 657926 | AC1859: 647545 | AD1859: 642081 | AE1859: 630806 | AF1859: 617942 | AG1859: 599093 | AH1859: 584432
A1860: =J1860 -> 44837 | B1860: 15061561 | C1860: =B1860/H1860 -> 627565.04 | D1860: =YEAR(J1860) -> 2022 | E1860: =MONTH(J1860) -> 10 | F1860: 10190 | G1860: TOTAL | H1860: 24 | I1860: kWh | J1860: 44837 | K1860: 581591 | L1860: 574650 | M1860: 570221 | N1860: 574854 | O1860: 571393 | P1860: 574349 | Q1860: 588336 | R1860: 600596 | S1860: 605185 | T1860: 614088 | U1860: 624720 | V1860: 630632 | W1860: 648068 | X1860: 657462 | Y1860: 669116 | Z1860: 667915 | AA1860: 672677 | AB1860: 671628 | AC1860: 662342 | AD1860: 657104 | AE1860: 633687 | AF1860: 622100 | AG1860: 605030 | AH1860: 595004
A1861: =J1861 -> 44838 | B1861: 15221150 | C1861: =B1861/H1861 -> 634214.58 | D1861: =YEAR(J1861) -> 2022 | E1861: =MONTH(J1861) -> 10 | F1861: 10190 | G1861: TOTAL | H1861: 24 | I1861: kWh | J1861: 44838 | K1861: 583328 | L1861: 577944 | M1861: 574914 | N1861: 567828 | O1861: 573896 | P1861: 594321 | Q1861: 612125 | R1861: 618133 | S1861: 620973 | T1861: 621407 | U1861: 630818 | V1861: 640031 | W1861: 651344 | X1861: 658015 | Y1861: 672544 | Z1861: 671699 | AA1861: 680278 | AB1861: 666162 | AC1861: 658604 | AD1861: 651968 | AE1861: 637966 | AF1861: 626081 | AG1861: 608350 | AH1861: 594769
A1862: =J1862 -> 44839 | B1862: 15341081 | C1862: =B1862/H1862 -> 639211.71 | D1862: =YEAR(J1862) -> 2022 | E1862: =MONTH(J1862) -> 10 | F1862: 10190 | G1862: TOTAL | H1862: 24 | I1862: kWh | J1862: 44839 | K1862: 588270 | L1862: 584259 | M1862: 576050 | N1862: 578605 | O1862: 579324 | P1862: 589875 | Q1862: 611764 | R1862: 612923 | S1862: 617228 | T1862: 620041 | U1862: 634015 | V1862: 639599 | W1862: 648295 | X1862: 661232 | Y1862: 666938 | Z1862: 672593 | AA1862: 672608 | AB1862: 677482 | AC1862: 669534 | AD1862: 663861 | AE1862: 647587 | AF1862: 637749 | AG1862: 617052 | AH1862: 607200
A1863: =J1863 -> 44840 | B1863: 15954481 | C1863: =B1863/H1863 -> 664770.04 | D1863: =YEAR(J1863) -> 2022 | E1863: =MONTH(J1863) -> 10 | F1863: 10190 | G1863: TOTAL | H1863: 24 | I1863: kWh | J1863: 44840 | K1863: 599631 | L1863: 591194 | M1863: 584146 | N1863: 587774 | O1863: 597312 | P1863: 614075 | Q1863: 629271 | R1863: 633303 | S1863: 639044 | T1863: 649350 | U1863: 666096 | V1863: 676973 | W1863: 688001 | X1863: 704328 | Y1863: 709139 | Z1863: 707539 | AA1863: 710398 | AB1863: 699822 | AC1863: 695809 | AD1863: 686694 | AE1863: 678951 | AF1863: 657022 | AG1863: 645542 | AH1863: 631155
A1864: =J1864 -> 44841 | B1864: 15745781 | C1864: =B1864/H1864 -> 656074.21 | D1864: =YEAR(J1864) -> 2022 | E1864: =MONTH(J1864) -> 10 | F1864: 10190 | G1864: TOTAL | H1864: 24 | I1864: kWh | J1864: 44841 | K1864: 624160 | L1864: 608029 | M1864: 613922 | N1864: 610229 | O1864: 618205 | P1864: 626810 | Q1864: 638150 | R1864: 648421 | S1864: 649637 | T1864: 651483 | U1864: 658505 | V1864: 672732 | W1864: 674608 | X1864: 684768 | Y1864: 688689 | Z1864: 690255 | AA1864: 687525 | AB1864: 680839 | AC1864: 672351 | AD1864: 658647 | AE1864: 650251 | AF1864: 635867 | AG1864: 620251 | AH1864: 605502
A1865: =J1865 -> 44842 | B1865: 14981981 | C1865: =B1865/H1865 -> 624249.21 | D1865: =YEAR(J1865) -> 2022 | E1865: =MONTH(J1865) -> 10 | F1865: 10190 | G1865: TOTAL | H1865: 24 | I1865: kWh | J1865: 44842 | K1865: 598977 | L1865: 589689 | M1865: 583979 | N1865: 592013 | O1865: 588299 | P1865: 597332 | Q1865: 602779 | R1865: 597415 | S1865: 614926 | T1865: 615584 | U1865: 620047 | V1865: 622965 | W1865: 631323 | X1865: 641636 | Y1865: 647241 | Z1865: 657609 | AA1865: 653303 | AB1865: 649991 | AC1865: 640913 | AD1865: 637138 | AE1865: 628284 | AF1865: 614233 | AG1865: 606557 | AH1865: 599582
A1866: =J1866 -> 44843 | B1866: 14971683 | C1866: =B1866/H1866 -> 623820.12 | D1866: =YEAR(J1866) -> 2022 | E1866: =MONTH(J1866) -> 10 | F1866: 10190 | G1866: TOTAL | H1866: 24 | I1866: kWh | J1866: 44843 | K1866: 591711 | L1866: 586614 | M1866: 585840 | N1866: 580658 | O1866: 589890 | P1866: 587213 | Q1866: 591652 | R1866: 601676 | S1866: 609086 | T1866: 618382 | U1866: 617599 | V1866: 624537 | W1866: 631124 | X1866: 638581 | Y1866: 644940 | Z1866: 651234 | AA1866: 651665 | AB1866: 649870 | AC1866: 646321 | AD1866: 646220 | AE1866: 633696 | AF1866: 624144 | AG1866: 612593 | AH1866: 597123
...

Sheet Non-Irr load
A1: ='metered data'!A1 -> Grant PUD
C4: Non-Irrigation Load (KWh)
C5: month
A6: Calendar Year | B6: data | C6: 1 | D6: 2 | E6: 3 | F6: 4 | G6: 5 | H6: 6 | I6: 7 | J6: 8 | K6: 9 | L6: 10 | M6: 11 | N6: 12
A7: 2017 | B7: Sum of daily sum | L7: ='metered data'!M8-'Monthly Irrigation'!L34 -> 348485040 | M7: ='metered data'!N8-'Monthly Irrigation'!M34 -> 383677141 | N7: ='metered data'!O8-'Monthly Irrigation'!N34 -> 437451197
A8: =A7+0.1 -> 2017.1 | B8: average of daily average | L8: ='metered data'!M9-'Monthly Irrigation'!L35 -> 517638.51 | M8: ='metered data'!N9-'Monthly Irrigation'!M35 -> 535266.95 | N8: ='metered data'!O9-'Monthly Irrigation'!N35 -> 587971.46
A9: 2018 | B9: Sum of daily sum | C9: ='metered data'!D10-'Monthly Irrigation'!C36 -> 431803693 | D9: ='metered data'!E10-'Monthly Irrigation'!D36 -> 390795973 | E9: ='metered data'!F10-'Monthly Irrigation'!E36 -> 397580573 | F9: ='metered data'!G10-'Monthly Irrigation'!F36 -> 372492918 | G9: ='metered data'!H10-'Monthly Irrigation'!G36 -> 354940487 | H9: ='metered data'!I10-'Monthly Irrigation'!H36 -> 333463554 | I9: ='metered data'!J10-'Monthly Irrigation'!I36 -> 349591637 | J9: ='metered data'!K10-'Monthly Irrigation'!J36 -> 352627293 | ... N9: ='metered data'!O10-'Monthly Irrigation'!N36 -> 444339322
A10: =A9+0.1 -> 2018.1 | B10: average of daily average | C10: =C9/C$23 -> 580381.31 | D10: =D9/D$23 -> 581541.63 | E10: =E9/E$23 -> 535101.71 | F10: =F9/F$23 -> 517351.28 | G10: =G9/G$23 -> 477070.55 | H10: =H9/H$23 -> 463143.83 | I10: =I9/I$23 -> 469881.23 | J10: =J9/J$23 -> 473961.42 | ... N10: =N9/N$23 -> 597230.27
A11: 2019 | B11: Sum of daily sum | C11: ='metered data'!D12-'Monthly Irrigation'!C38 -> 449901372 | D11: ='metered data'!E12-'Monthly Irrigation'!D38 -> 438248239 | E11: ='metered data'!F12-'Monthly Irrigation'!E38 -> 425760187 | F11: ='metered data'!G12-'Monthly Irrigation'!F38 -> 354286588 | G11: ='metered data'!H12-'Monthly Irrigation'!G38 -> 358992003 | H11: ='metered data'!I12-'Monthly Irrigation'!H38 -> 336111833 | I11: ='metered data'!J12-'Monthly Irrigation'!I38 -> 341319756 | J11: ='metered data'!K12-'Monthly Irrigation'!J38 -> 353284951 | ... N11: ='metered data'!O12-'Monthly Irrigation'!N38 -> 442249630
A12: =A11+0.1 -> 2019.1 | B12: average of daily average | C12: =C11/C$23 -> 604706.15 | D12: =D11/D$23 -> 652155.12 | E12: =E11/E$23 -> 573028.52 | F12: =F11/F$23 -> 492064.71 | G12: =G11/G$23 -> 482516.13 | H12: =H11/H$23 -> 466821.99 | I12: =I11/I$23 -> 458763.11 | J12: =J11/J$23 -> 474845.36 | ... N12: =N11/N$23 -> 594421.55
A13: 2020 | B13: Sum of daily sum | C13: ='metered data'!D14-'Monthly Irrigation'!C40 -> 451988883 | D13: ='metered data'!E14-'Monthly Irrigation'!D40 -> 403654821 | E13: ='metered data'!F14-'Monthly Irrigation'!E40 -> 405284778 | F13: ='metered data'!G14-'Monthly Irrigation'!F40 -> 375540182 | G13: ='metered data'!H14-'Monthly Irrigation'!G40 -> 329118390 | H13: ='metered data'!I14-'Monthly Irrigation'!H40 -> 317788759 | I13: ='metered data'!J14-'Monthly Irrigation'!I40 -> 337757450 | J13: ='metered data'!K14-'Monthly Irrigation'!J40 -> 331213890 | ... N13: ='metered data'!O14-'Monthly Irrigation'!N40 -> 457431738
A14: =A13+0.1 -> 2020.1 | B14: average of daily average | C14: =C13/C$23 -> 607511.94 | D14: =D13/(D$23+24) -> 579963.82 | E14: =E13/E$23 -> 545470.76 | F14: =F13/F$23 -> 521583.59 | G14: =G13/G$23 -> 442363.43 | H14: =H13/H$23 -> 441373.28 | I14: =I13/I$23 -> 453975.07 | J14: =J13/J$23 -> 445179.96 | K14: =K13/K$23 -> 441416.67 | L14: =L13/L$23 -> 514922.97 | ... N14: =N13/N$23 -> 614827.6
A15: 2021 | B15: Sum of daily sum | C15: ='metered data'!D16-'Monthly Irrigation'!C42 -> 447742635 | D15: ='metered data'!E16-'Monthly Irrigation'!D42 -> 418345282 | E15: ='metered data'!F16-'Monthly Irrigation'!E42 -> 410180388 | F15: ='metered data'!G16-'Monthly Irrigation'!F42 -> 357853917 | G15: ='metered data'!H16-'Monthly Irrigation'!G42 -> 354164689 | H15: ='metered data'!I16-'Monthly Irrigation'!H42 -> 382830549 | I15: ='metered data'!J16-'Monthly Irrigation'!I42 -> 401595285 | J15: ='metered data'!K16-'Monthly Irrigation'!J42 -> 392180203 | ... N15: ='metered data'!O16-'Monthly Irrigation'!N42 -> 498440403
A16: =A15+0.1 -> 2021.1 | B16: average of daily average | C16: =C15/C$23 -> 601804.62 | D16: =D15/D$23 -> 622537.62 | E16: =E15/E$23 -> 552059.74 | F16: =F15/F$23 -> 497019.33 | G16: =G15/G$23 -> 476027.81 | H16: =H15/H$23 -> 531709.1 | I16: =I15/I$23 -> 539778.61 | J16: =J15/J$23 -> 527123.93 | ... N16: =N15/N$23 -> 669946.78
A17: 2022 | B17: Sum of daily sum | C17: ='metered data'!D18-'Monthly Irrigation'!C44 -> 525660457 | D17: ='metered data'!E18-'Monthly Irrigation'!D44 -> 452738217 | E17: ='metered data'!F18-'Monthly Irrigation'!E44 -> 439538663 | F17: ='metered data'!G18-'Monthly Irrigation'!F44 -> 409305184 | G17: ='metered data'!H18-'Monthly Irrigation'!G44 -> 407027104 | H17: ='metered data'!I18-'Monthly Irrigation'!H44 -> 400115587 | I17: ='metered data'!J18-'Monthly Irrigation'!I44 -> 439655738 | J17: ='metered data'!K18-'Monthly Irrigation'!J44 -> 442748597 | K17: ='metered data'!L18-'Monthly Irrigation'!K44 -> 394256427
A18: =A17+0.1 -> 2022.1 | B18: average of daily average | C18: =C17/C$23 -> 706532.87 | D18: =D17/D$23 -> 673717.58 | E18: =E17/E$23 -> 591572.9 | F18: =F17/F$23 -> 568479.42 | G18: =G17/G$23 -> 547079.44 | H18: =H17/H$23 -> 555716.09 | I18: =I17/I$23 -> 590935.13 | J18: =J17/J$23 -> 595092.2 | ... N18: =N17/N$23 -> 0
A19: 2023 | B19: Sum of daily sum
A20: =A19+0.1 -> 2023.1 | B20: average of daily average
B23: hours per month | C23: 744 | D23: 672 | E23: 743 | F23: 720 | G23: 744 | H23: 720 | I23: 744 | J23: 744 | K23: 720 | L23: 744 | M23: 721 | N23: 744
B28: Daily Sum (kWh) | C28: Daily Average (akW) | D28: Year | E28: Month | F28: Day
A29: =DATE(D29,E29,F29) -> 43009 | B29: =C29*'metered data'!H32 -> 3242382.1 | C29: =SUMIFS('Regression Inputs'!$G$26:$G$1851,'Regression Inputs'!$B$26:$B$1851,A29) -> 135099.25 | D29: =YEAR('metered data'!J32) -> 2017 | E29: =MONTH('metered data'!J32) -> 10 | F29: =DAY('metered data'!J32) -> 1
A30: =DATE(D30,E30,F30) -> 43010 | B30: =C30*'metered data'!H33 -> 3932695.1 | C30: =SUMIFS('Regression Inputs'!$G$26:$G$1851,'Regression Inputs'!$B$26:$B$1851,A30) -> 163862.29 | D30: =YEAR('metered data'!J33) -> 2017 | E30: =MONTH('metered data'!J33) -> 10 | F30: =DAY('metered data'!J33) -> 2
A31: =DATE(D31,E31,F31) -> 43011 | B31: =C31*'metered data'!H34 -> 4261122.1 | C31: =SUMIFS('Regression Inputs'!$G$26:$G$1851,'Regression Inputs'!$B$26:$B$1851,A31) -> 177546.75 | D31: =YEAR('metered data'!J34) -> 2017 | E31: =MONTH('metered data'!J34) -> 10 | F31: =DAY('metered data'!J34) -> 3
A32: =DATE(D32,E32,F32) -> 43012 | B32: =C32*'metered data'!H35 -> 4631504.1 | C32: =SUMIFS('Regression Inputs'!$G$26:$G$1851,'Regression Inputs'!$B$26:$B$1851,A32) -> 192979.34 | D32: =YEAR('metered data'!J35) -> 2017 | E32: =MONTH('metered data'!J35) -> 10 | F32: =DAY('metered data'!J35) -> 4
A33: =DATE(D33,E33,F33) -> 43013 | B33: =C33*'metered data'!H36 -> 4774943.1 | C33: =SUMIFS('Regression Inputs'!$G$26:$G$1851,'Regression Inputs'!$B$26:$B$1851,A33) -> 198955.96 | D33: =YEAR('metered data'!J36) -> 2017 | E33: =MONTH('metered data'!J36) -> 10 | F33: =DAY('metered data'!J36) -> 5
A34: =DATE(D34,E34,F34) -> 43014 | B34: =C34*'metered data'!H37 -> 4664850.1 | C34: =SUMIFS('Regression Inputs'!$G$26:$G$1851,'Regression Inputs'!$B$26:$B$1851,A34) -> 194368.75 | D34: =YEAR('metered data'!J37) -> 2017 | E34: =MONTH('metered data'!J37) -> 10 | F34: =DAY('metered data'!J37) -> 6
A35: =DATE(D35,E35,F35) -> 43015 | B35: =C35*'metered data'!H38 -> 4072368.1 | C35: =SUMIFS('Regression Inputs'!$G$26:$G$1851,'Regression Inputs'!$B$26:$B$1851,A35) -> 169682 | D35: =YEAR('metered data'!J38) -> 2017 | E35: =MONTH('metered data'!J38) -> 10 | F35: =DAY('metered data'!J38) -> 7
A36: =DATE(D36,E36,F36) -> 43016 | B36: =C36*'metered data'!H39 -> 3979015.1 | C36: =SUMIFS('Regression Inputs'!$G$26:$G$1851,'Regression Inputs'!$B$26:$B$1851,A36) -> 165792.29 | D36: =YEAR('metered data'!J39) -> 2017 | E36: =MONTH('metered data'!J39) -> 10 | F36: =DAY('metered data'!J39) -> 8
A37: =DATE(D37,E37,F37) -> 43017 | B37: =C37*'metered data'!H40 -> 4720499.1 | C37: =SUMIFS('Regression Inputs'!$G$26:$G$1851,'Regression Inputs'!$B$26:$B$1851,A37) -> 196687.46 | D37: =YEAR('metered data'!J40) -> 2017 | E37: =MONTH('metered data'!J40) -> 10 | F37: =DAY('metered data'!J40) -> 9
A38: =DATE(D38,E38,F38) -> 43018 | B38: =C38*'metered data'!H41 -> 5101439.1 | C38: =SUMIFS('Regression Inputs'!$G$26:$G$1851,'Regression Inputs'!$B$26:$B$1851,A38) -> 212559.96 | D38: =YEAR('metered data'!J41) -> 2017 | E38: =MONTH('metered data'!J41) -> 10 | F38: =DAY('metered data'!J41) -> 10
A39: =DATE(D39,E39,F39) -> 43019 | B39: =C39*'metered data'!H42 -> 5341349.1 | C39: =SUMIFS('Regression Inputs'!$G$26:$G$1851,'Regression Inputs'!$B$26:$B$1851,A39) -> 222556.21 | D39: =YEAR('metered data'!J42) -> 2017 | E39: =MONTH('metered data'!J42) -> 10 | F39: =DAY('metered data'!J42) -> 11
A40: =DATE(D40,E40,F40) -> 43020 | B40: =C40*'metered data'!H43 -> 5816219.1 | C40: =SUMIFS('Regression Inputs'!$G$26:$G$1851,'Regression Inputs'!$B$26:$B$1851,A40) -> 242342.46 | D40: =YEAR('metered data'!J43) -> 2017 | E40: =MONTH('metered data'!J43) -> 10 | F40: =DAY('metered data'!J43) -> 12
... A1854: =DATE(D1854,E1854,F1854) -> 44834 | B1854: =C1854*'metered data'!H1857 -> 3906307.7 | C1854: =SUMIFS('Regression Inputs'!$G$26:$G$1851,'Regression Inputs'!$B$26:$B$1851,A1854) -> 162762.82 | D1854: =YEAR('metered data'!J1857) -> 2022 | E1854: =MONTH('metered data'!J1857) -> 9 | F1854: =DAY('metered data'!J1857) -> 30

Sheet Irrigation adj
A1: ='metered data'!A1 -> Grant PUD
A2: Irrigation load normalization per Section 2.4.1.2 of the Provider of Choice Policy dated March 2024
A4: Step 1 | B4: 2013 | C4: 2014 | D4: 2015 | E4: 2016 | F4: 2017 | G4: 2018 | H4: 2019 | I4: 2020 | J4: 2021 | K4: 2022 | L4: 2023
A5: Enter Historical irrigation data MWh (w/ losses)
A6: CY Total | B6: =INDEX('Monthly Irrigation'!$O$26:$O$47,MATCH(B$4,'Monthly Irrigation'!$B$26:$B$47))/1000 -> 1001.45 | C6: =INDEX('Monthly Irrigation'!$O$26:$O$47,MATCH(C$4,'Monthly Irrigation'!$B$26:$B$47))/1000 -> 0 | D6: =INDEX('Monthly Irrigation'!$O$26:$O$47,MATCH(D$4,'Monthly Irrigation'!$B$26:$B$47))/1000 -> 688409.04 | E6: =INDEX('Monthly Irrigation'!$O$26:$O$47,MATCH(E$4,'Monthly Irrigation'!$B$26:$B$47))/1000 -> 599607.53 | F6: =INDEX('Monthly Irrigation'!$O$26:$O$47,MATCH(F$4,'Monthly Irrigation'!$B$26:$B$47))/1000 -> 594158.6 | G6: =INDEX('Monthly Irrigation'!$O$26:$O$47,MATCH(G$4,'Monthly Irrigation'!$B$26:$B$47))/1000 -> 597832.97 | H6: =INDEX('Monthly Irrigation'!$O$26:$O$47,MATCH(H$4,'Monthly Irrigation'!$B$26:$B$47))/1000 -> 594387.23 | I6: =INDEX('Monthly Irrigation'!$O$26:$O$47,MATCH(I$4,'Monthly Irrigation'!$B$26:$B$47))/1000 -> 636569.12 | ... L6: =INDEX('Monthly Irrigation'!$O$26:$O$47,MATCH(L$4,'Monthly Irrigation'!$B$26:$B$47))/1000 -> 595875.2
A9: Step 2
B10: Fy 2018 | C10: Fy 2019 | D10: Fy 2020 | E10: Fy 2021 | F10: Fy 2022 | G10: Average
A11: Determine Average 2018 to 2022 irrigation load | B11: =SUM('Monthly Irrigation'!L34:N34,'Monthly Irrigation'!C36:K36)/1000 -> 606345.98 | C11: =SUM('Monthly Irrigation'!L36:N36,'Monthly Irrigation'!C38:K38)/1000 -> 591657.5 | D11: =SUM('Monthly Irrigation'!L38:N38,'Monthly Irrigation'!C40:K40)/1000 -> 630420.88 | E11: =SUM('Monthly Irrigation'!L40:N40,'Monthly Irrigation'!C42:K42)/1000 -> 714194.26 | F11: =SUM('Monthly Irrigation'!L42:N42,'Monthly Irrigation'!C44:K44)/1000 -> 627259.86 | G11: =AVERAGE(B11:F11) -> 633975.7
A14: Step 3
A15: Determine highest irrigation loads CY 2013 to CY 2015
B16: Cy 2013 | C16: Cy 2014 | D16: Cy 2015 | E16: Max
B17: =B6 -> 1001.45 | C17: =C6 -> 0 | D17: =D6 -> 688409.04 | E17: =MAX(B17:D17) -> 688409.04
A18: Determine highest irrigation loads CY 2021 to CY 2023
B19: Cy 2021 | C19: Cy 2022 | D19: Cy 2023 | E19: Max
B20: =J6 -> 713145.13 | C20: =K6 -> 638065 | D20: =L6 -> 595875.2 | E20: =MAX(B20:D20) -> 713145.13
A23: Step 4
A24: Calculate annual average growth rate
A25: from highest year to highest year
B26: 2013-2015 | C26: 2021-2023
A27: Max year | B27: =_xlfn.MAXIFS(B4:D4,$B$6:$D$6,E17) -> 2015 | C27: =_xlfn.MAXIFS(J4:L4,$J$6:$L$6,E20) -> 2021
A28: number of years between 2013-15 Max and 2021-23 Max | B28: =C27-B27 -> 6
A29: Average annual growth rate per year | B29: =(E20/E17)^(1/B28)-1 -> 0.0059009678
A32: Step 5
B33: average Fy 2018-22 load
A34: Adjust Average 2018 to 2022 irrigation load by | B34: =G11 -> 633975.7
A35: Annual Average growth rate (if positive) | B35: =MAX(0,B29) -> 0.0059009678
A36: Number of years from FY 2020 (midpoint of FY18-22) to FY 2023 | B36: 3
A37: Adjusted irrigation load | B37: =ROUND(B34*(1+B35)^B36,3) -> 645265.27
A39: Step 6
A41: Remove Fy 2023 load (MWh) | B41: =SUM('Monthly Irrigation'!L44:N44,'Monthly Irrigation'!C46:K46)/1000 -> 644917.46
A42: Insert adjusted average load (MWh) | B42: =IFERROR(B37,0) -> 645265.27
A43: Implied Adjustment (MWh) | B43: =B42-B41 -> 347.805
B56: =B4 -> 2013 | C56: =C4 -> 2014 | D56: =D4 -> 2015 | E56: =E4 -> 2016 | F56: =F4 -> 2017 | G56: =G4 -> 2018 | H56: =H4 -> 2019 | I56: =I4 -> 2020 | ... L56: =L4 -> 2023
B57: =IF(B56=$B$27,HLOOKUP(B56,$B$4:$L$6,3,FALSE),NA()) -> #N/A | C57: =IF(C56=$B$27,HLOOKUP(C56,$B$4:$L$6,3,FALSE),NA()) -> #N/A | D57: =IF(D56=$B$27,HLOOKUP(D56,$B$4:$L$6,3,FALSE),NA()) -> 688409.04
J58: =IF(J56=$C$27,HLOOKUP(J56,$B$4:$L$6,3,FALSE),NA()) -> 713145.13 | K58: =IF(K56=$C$27,HLOOKUP(K56,$B$4:$L$6,3,FALSE),NA()) -> #N/A | L58: =IF(L56=$C$27,HLOOKUP(L56,$B$4:$L$6,3,FALSE),NA()) -> #N/A
L59: =B42 -> 645265.27

Sheet Temperature
A1: Grant PUD
A2: KOMK (Omak WA) | J2: HDD base | K2: CDD base
F3: Daily | J3: =RIGHT(Calcs!H15,2) -> 52 | K3: =RIGHT(Calcs!K15,2) -> 62
A4: date | B4: year | C4: month | D4: day | E4: yrmo | F4: average
A5: 43009 | B5: =YEAR(A5) -> 2017 | C5: =MONTH(A5) -> 10 | D5: =DAY(A5) -> 1 | E5: =B5*100+C5 -> 201710 | F5: 52.66667 | J5: =IF(F5=999,0,MAX(ROUND($J$3-F5,0),0)) -> 0 | K5: =IF(F5=999,0,MAX(ROUND(F5-$K$3,0),0)) -> 0
A6: 43010 | B6: =YEAR(A6) -> 2017 | C6: =MONTH(A6) -> 10 | D6: =DAY(A6) -> 2 | E6: =B6*100+C6 -> 201710 | F6: 54.95652 | J6: =IF(F6=999,0,MAX(ROUND($J$3-F6,0),0)) -> 0 | K6: =IF(F6=999,0,MAX(ROUND(F6-$K$3,0),0)) -> 0
A7: 43011 | B7: =YEAR(A7) -> 2017 | C7: =MONTH(A7) -> 10 | D7: =DAY(A7) -> 3 | E7: =B7*100+C7 -> 201710 | F7: 53.25 | J7: =IF(F7=999,0,MAX(ROUND($J$3-F7,0),0)) -> 0 | K7: =IF(F7=999,0,MAX(ROUND(F7-$K$3,0),0)) -> 0
A8: 43012 | B8: =YEAR(A8) -> 2017 | C8: =MONTH(A8) -> 10 | D8: =DAY(A8) -> 4 | E8: =B8*100+C8 -> 201710 | F8: 53.70833 | J8: =IF(F8=999,0,MAX(ROUND($J$3-F8,0),0)) -> 0 | K8: =IF(F8=999,0,MAX(ROUND(F8-$K$3,0),0)) -> 0
A9: 43013 | B9: =YEAR(A9) -> 2017 | C9: =MONTH(A9) -> 10 | D9: =DAY(A9) -> 5 | E9: =B9*100+C9 -> 201710 | F9: 51.95833 | J9: =IF(F9=999,0,MAX(ROUND($J$3-F9,0),0)) -> 0 | K9: =IF(F9=999,0,MAX(ROUND(F9-$K$3,0),0)) -> 0
A10: 43014 | B10: =YEAR(A10) -> 2017 | C10: =MONTH(A10) -> 10 | D10: =DAY(A10) -> 6 | E10: =B10*100+C10 -> 201710 | F10: 49.04167 | J10: =IF(F10=999,0,MAX(ROUND($J$3-F10,0),0)) -> 3 | K10: =IF(F10=999,0,MAX(ROUND(F10-$K$3,0),0)) -> 0
A11: 43015 | B11: =YEAR(A11) -> 2017 | C11: =MONTH(A11) -> 10 | D11: =DAY(A11) -> 7 | E11: =B11*100+C11 -> 201710 | F11: 52.41667 | J11: =IF(F11=999,0,MAX(ROUND($J$3-F11,0),0)) -> 0 | K11: =IF(F11=999,0,MAX(ROUND(F11-$K$3,0),0)) -> 0
A12: 43016 | B12: =YEAR(A12) -> 2017 | C12: =MONTH(A12) -> 10 | D12: =DAY(A12) -> 8 | E12: =B12*100+C12 -> 201710 | F12: 49.16667 | J12: =IF(F12=999,0,MAX(ROUND($J$3-F12,0),0)) -> 3 | K12: =IF(F12=999,0,MAX(ROUND(F12-$K$3,0),0)) -> 0
A13: 43017 | B13: =YEAR(A13) -> 2017 | C13: =MONTH(A13) -> 10 | D13: =DAY(A13) -> 9 | E13: =B13*100+C13 -> 201710 | F13: 45.70833 | J13: =IF(F13=999,0,MAX(ROUND($J$3-F13,0),0)) -> 6 | K13: =IF(F13=999,0,MAX(ROUND(F13-$K$3,0),0)) -> 0
