Workbook

Sheet Regression Inputs
A1: Grant PUD
A2: 10190
B23: ="Weather Station for Temperature Analysis: "&Temperature!A2 -> Weather Station for Temperature Analysis: KOMK (Omak WA)
B25: Date | C25: Year | D25: Month | E25: Day | F25: Average Temperature (F) | G25: Non Irrigation Average Use (akW) | H25: Irrigation Average Use (akW) | I25: NLSL Average Use (akW) | J25: Industrial Average Use (akW) | K25: Total System (akW)
B26: 43009 | C26: =YEAR(B26) -> 2017 | D26: =MONTH(B26) -> 10 | E26: =DAY(B26) -> 1 | F26: =IF(VLOOKUP(B26,Temperature!$A$5:$F$2241,6,FALSE)=999,0,VLOOKUP(B26,Temperature!$A$5:$F$2241,6,FALSE)) -> 52.66667 | G26: =K26-H26-I26-J26 -> 135099.25 | H26: 76465 | I26: =VLOOKUP(B26,'Daily NLSL'!D3:E1828,2,FALSE) -> 139124 | J26: 140666.45 | K26: 491354.71
B27: 43010 | C27: =YEAR(B27) -> 2017 | D27: =MONTH(B27) -> 10 | E27: =DAY(B27) -> 2 | F27: =IF(VLOOKUP(B27,Temperature!$A$5:$F$2241,6,FALSE)=999,0,VLOOKUP(B27,Temperature!$A$5:$F$2241,6,FALSE)) -> 54.95652 | G27: =K27-H27-I27-J27 -> 163862.29 | H27: 74507.5 | I27: =VLOOKUP(B27,'Daily NLSL'!D4:E1829,2,FALSE) -> 139124 | J27: 140666.45 | K27: 518160.25
B28: 43011 | C28: =YEAR(B28) -> 2017 | D28: =MONTH(B28) -> 10 | E28: =DAY(B28) -> 3 | F28: =IF(VLOOKUP(B28,Temperature!$A$5:$F$2241,6,FALSE)=999,0,VLOOKUP(B28,Temperature!$A$5:$F$2241,6,FALSE)) -> 53.25 | G28: =K28-H28-I28-J28 -> 177546.75 | H28: 72660.417 | I28: =VLOOKUP(B28,'Daily NLSL'!D5:E1830,2,FALSE) -> 139124 | J28: 140666.45 | K28: 529997.62
B29: 43012 | C29: =YEAR(B29) -> 2017 | D29: =MONTH(B29) -> 10 | E29: =DAY(B29) -> 4 | F29: =IF(VLOOKUP(B29,Temperature!$A$5:$F$2241,6,FALSE)=999,0,VLOOKUP(B29,Temperature!$A$5:$F$2241,6,FALSE)) -> 53.70833 | G29: =K29-H29-I29-J29 -> 192979.34 | H29: 70780.417 | I29: =VLOOKUP(B29,'Daily NLSL'!D6:E1831,2,FALSE) -> 139124 | J29: 140666.45 | K29: 543550.21
B30: 43013 | C30: =YEAR(B30) -> 2017 | D30: =MONTH(B30) -> 10 | E30: =DAY(B30) -> 5 | F30: =IF(VLOOKUP(B30,Temperature!$A$5:$F$2241,6,FALSE)=999,0,VLOOKUP(B30,Temperature!$A$5:$F$2241,6,FALSE)) -> 51.95833 | G30: =K30-H30-I30-J30 -> 198955.96 | H30: 68950.417 | I30: =VLOOKUP(B30,'Daily NLSL'!D7:E1832,2,FALSE) -> 139124 | J30: 140666.45 | K30: 547696.83
B31: 43014 | C31: =YEAR(B31) -> 2017 | D31: =MONTH(B31) -> 10 | E31: =DAY(B31) -> 6 | F31: =IF(VLOOKUP(B31,Temperature!$A$5:$F$2241,6,FALSE)=999,0,VLOOKUP(B31,Temperature!$A$5:$F$2241,6,FALSE)) -> 49.04167 | G31: =K31-H31-I31-J31 -> 194368.75 | H31: 67069.167 | I31: =VLOOKUP(B31,'Daily NLSL'!D8:E1833,2,FALSE) -> 139124 | J31: 140666.45 | K31: 541228.38
B32: 43015 | C32: =YEAR(B32) -> 2017 | D32: =MONTH(B32) -> 10 | E32: =DAY(B32) -> 7 | F32: =IF(VLOOKUP(B32,Temperature!$A$5:$F$2241,6,FALSE)=999,0,VLOOKUP(B32,Temperature!$A$5:$F$2241,6,FALSE)) -> 52.41667 | G32: =K32-H32-I32-J32 -> 169682 | H32: 65182.5 | I32: =VLOOKUP(B32,'Daily NLSL'!D9:E1834,2,FALSE) -> 139124 | J32: 140666.45 | K32: 514654.96
B33: 43016 | C33: =YEAR(B33) -> 2017 | D33: =MONTH(B33) -> 10 | E33: =DAY(B33) -> 8 | F33: =IF(VLOOKUP(B33,Temperature!$A$5:$F$2241,6,FALSE)=999,0,VLOOKUP(B33,Temperature!$A$5:$F$2241,6,FALSE)) -> 49.16667 | G33: =K33-H33-I33-J33 -> 165792.29 | H33: 63272.083 | I33: =VLOOKUP(B33,'Daily NLSL'!D10:E1835,2,FALSE) -> 139124 | J33: 140666.45 | K33: 508854.83
B34: 43017 | C34: =YEAR(B34) -> 2017 | D34: =MONTH(B34) -> 10 | E34: =DAY(B34) -> 9 | F34: =IF(VLOOKUP(B34,Temperature!$A$5:$F$2241,6,FALSE)=999,0,VLOOKUP(B34,Temperature!$A$5:$F$2241,6,FALSE)) -> 45.70833 | G34: =K34-H34-I34-J34 -> 196687.46 | H34: 61322.083 | I34: =VLOOKUP(B34,'Daily NLSL'!D11:E1836,2,FALSE) -> 139124 | J34: 140666.45 | K34: 537800
B35: 43018 | C35: =YEAR(B35) -> 2017 | D35: =MONTH(B35) -> 10 | E35: =DAY(B35) -> 10 | F35: =IF(VLOOKUP(B35,Temperature!$A$5:$F$2241,6,FALSE)=999,0,VLOOKUP(B35,Temperature!$A$5:$F$2241,6,FALSE)) -> 47.75 | G35: =K35-H35-I35-J35 -> 212559.96 | H35: 59375.833 | I35: =VLOOKUP(B35,'Daily NLSL'!D12:E1837,2,FALSE) -> 139124 | J35: 140666.45 | K35: 551726.25
B36: 43019 | C36: =YEAR(B36) -> 2017 | D36: =MONTH(B36) -> 10 | E36: =DAY(B36) -> 11 | F36: =IF(VLOOKUP(B36,Temperature!$A$5:$F$2241,6,FALSE)=999,0,VLOOKUP(B36,Temperature!$A$5:$F$2241,6,FALSE)) -> 43.47826 | G36: =K36-H36-I36-J36 -> 222556.21 | H36: 57353.333 | I36: =VLOOKUP(B36,'Daily NLSL'!D13:E1838,2,FALSE) -> 139124 | J36: 140666.45 | K36: 559700
B37: 43020 | C37: =YEAR(B37) -> 2017 | D37: =MONTH(B37) -> 10 | E37: =DAY(B37) -> 12 | F37: =IF(VLOOKUP(B37,Temperature!$A$5:$F$2241,6,FALSE)=999,0,VLOOKUP(B37,Temperature!$A$5:$F$2241,6,FALSE)) -> 39 | G37: =K37-H37-I37-J37 -> 242342.46 | H37: 55268.333 | I37: =VLOOKUP(B37,'Daily NLSL'!D14:E1839,2,FALSE) -> 139124 | J37: 140666.45 | K37: 577401.25
... B1851: 44834 | C1851: =YEAR(B1851) -> 2022 | D1851: =MONTH(B1851) -> 9 | E1851: =DAY(B1851) -> 30 | F1851: =IF(VLOOKUP(B1851,Temperature!$A$5:$F$2241,6,FALSE)=999,0,VLOOKUP(B1851,Temperature!$A$5:$F$2241,6,FALSE)) -> 61.79167 | G1851: =K1851-H1851-I1851-J1851 -> 162762.82 | H1851: 80138.75 | I1851: =VLOOKUP(B1851,'Daily NLSL'!D1828:E3653,2,FALSE) -> 218240.26 | J1851: 174133.21 | K1851: 635275.04
J1852: 168995.41 | K1852: 627118.46

Sheet Monthly Irrigation
A1: Grant PUD | U1: fiscal_year | V1: date | W1: month | X1: component | Y1: source | Z1: mwh_sales | AA1: mwh_load | AB1: mwh_losses | AE1: kWh_load | AJ1: kWh_load
A2: 10190 | U2: 2015 | V2: 42046 | W2: 2/1/2015 | X2: Irrigation | Y2: Bills | Z2: 0 | AA2: 0 | AB2: 0 | AE2: 0 | AI2: 41275 | AJ2: 0
U3: 2015 | V3: 42047 | W3: 2/1/2015 | X3: Irrigation | Y3: Bills | Z3: 0 | AA3: 0 | AB3: 0 | AE3: 0 | AI3: 44958 | AJ3: 1001450
U4: 2015 | V4: 42048 | W4: 2/1/2015 | X4: Irrigation | Y4: Bills | Z4: 0 | AA4: 0 | AB4: 0 | AE4: 0 | AI4: 41334 | AJ4: 0
U5: 2015 | V5: 42049 | W5: 2/1/2015 | X5: Irrigation | Y5: Bills | Z5: 0 | AA5: 0 | AB5: 0 | AE5: 0 | AI5: 41365 | AJ5: 0
U6: 2015 | V6: 42050 | W6: 2/1/2015 | X6: Irrigation | Y6: Bills | Z6: 0 | AA6: 0 | AB6: 0 | AE6: 0 | AI6: 41395 | AJ6: 0
U7: 2015 | V7: 42051 | W7: 2/1/2015 | X7: Irrigation | Y7: Bills | Z7: 0 | AA7: 0 | AB7: 0 | AE7: 0 | AI7: 41426 | AJ7: 0
U8: 2015 | V8: 42052 | W8: 2/1/2015 | X8: Irrigation | Y8: Bills | Z8: 0 | AA8: 0 | AB8: 0 | AE8: 0 | AI8: 41456 | AJ8: 0
U9: 2015 | V9: 42053 | W9: 2/1/2015 | X9: Irrigation | Y9: Bills | Z9: 0 | AA9: 0 | AB9: 0 | AE9: 0 | AI9: 41487 | AJ9: 0
U10: 2015 | V10: 42054 | W10: 2/1/2015 | X10: Irrigation | Y10: Bills | Z10: 0 | AA10: 0 | AB10: 0 | AE10: 0 | AI10: 41518 | AJ10: 0
U11: 2015 | V11: 42055 | W11: 2/1/2015 | X11: Irrigation | Y11: Bills | Z11: 0 | AA11: 0 | AB11: 0 | AE11: 0 | AI11: 41548 | AJ11: 0
U12: 2015 | V12: 42056 | W12: 2/1/2015 | X12: Irrigation | Y12: Bills | Z12: 0 | AA12: 0 | AB12: 0 | AE12: 0 | AI12: 41579 | AJ12: 0
U13: 2015 | V13: 42057 | W13: 2/1/2015 | X13: Irrigation | Y13: Bills | Z13: 0 | AA13: 0 | AB13: 0 | AE13: 0 | AI13: 41609 | AJ13: 0
U14: 2015 | V14: 42058 | W14: 2/1/2015 | X14: Irrigation | Y14: Bills | Z14: 0 | AA14: 0 | AB14: 0 | AE14: 0 | AI14: 1/1/2014 | AJ14: 0
U15: 2015 | V15: 42059 | W15: 2/1/2015 | X15: Irrigation | Y15: Bills | Z15: 0 | AA15: 0 | AB15: 0 | AE15: 0 | AI15: 2/1/2014 | AJ15: 0
U16: 2015 | V16: 42060 | W16: 2/1/2015 | X16: Irrigation | Y16: Bills | Z16: 0 | AA16: 0 | AB16: 0 | AE16: 0 | AI16: 3/1/2014 | AJ16: 0
U17: 2015 | V17: 42061 | W17: 2/1/2015 | X17: Irrigation | Y17: Bills | Z17: 0 | AA17: 0 | AB17: 0 | AE17: 0 | AI17: 4/1/2014 | AJ17: 0
U18: 2015 | V18: 42062 | W18: 2/1/2015 | X18: Irrigation | Y18: Bills | Z18: 0 | AA18: 0 | AB18: 0 | AE18: 0 | AI18: 5/1/2014 | AJ18: 0
U19: 2015 | V19: 42063 | W19: 2/1/2015 | X19: Irrigation | Y19: Bills | Z19: 0 | AA19: 0 | AB19: 0 | AE19: 0 | AI19: 6/1/2014 | AJ19: 0
U20: 2015 | V20: 42064 | W20: 3/1/2015 | X20: Irrigation | Y20: Bills | Z20: 0 | AA20: 0 | AB20: 0 | AE20: 0 | AI20: 7/1/2014 | AJ20: 0
U21: 2015 | V21: 42065 | W21: 3/1/2015 | X21: Irrigation | Y21: Bills | Z21: 0 | AA21: 0 | AB21: 0 | AE21: 0 | AI21: 8/1/2014 | AJ21: 0
U22: 2015 | V22: 42066 | W22: 3/1/2015 | X22: Irrigation | Y22: Bills | Z22: 0 | AA22: 0 | AB22: 0 | AE22: 0 | AI22: 9/1/2014 | AJ22: 0
B23: Total kWh (with losses) | U23: 2015 | V23: 42067 | W23: 3/1/2015 | X23: Irrigation | Y23: Bills | Z23: 0 | AA23: 0 | AB23: 0 | AE23: 0 | AI23: 10/1/2014 | AJ23: 0
C24: Jan | D24: Feb | E24: Mar | F24: Apr | G24: May | H24: Jun | I24: Jul | J24: Aug | K24: Sep | L24: Oct | M24: Nov | N24: Dec | U24: 2015 | V24: 42068 | W24: 3/1/2015 | X24: Irrigation | Y24: Bills | Z24: 0 | AA24: 0 | AB24: 0 | AE24: 0 | AI24: 11/1/2014 | AJ24: 0
B25: Calendar Year | C25: 1 | D25: 2 | E25: 3 | F25: 4 | G25: 5 | H25: 6 | I25: 7 | J25: 8 | K25: 9 | L25: 10 | M25: 11 | N25: 12 | O25: CY Total | U25: 2015 | V25: 42069 | W25: 3/1/2015 | X25: Irrigation | Y25: Bills | Z25: 0 | AA25: 0 | AB25: 0 | AE25: 0 | AI25: 12/1/2014 | AJ25: 0
B26: 2013 | C26: 0 | D26: 1001450 | E26: 0 | F26: 0 | G26: 0 | H26: 0 | I26: 0 | J26: 0 | K26: 0 | L26: 0 | M26: 0 | N26: 0 | O26: =SUM(C26:N26) -> 1001450 | U26: 2015 | V26: 42070 | W26: 3/1/2015 | X26: Irrigation | Y26: Bills | Z26: 0 | AA26: 0 | AB26: 0 | AE26: 0 | AI26: 1/1/2015 | AJ26: 0
U27: 2015 | V27: 42071 | W27: 3/1/2015 | X27: Irrigation | Y27: Bills | Z27: 0 | AA27: 0 | AB27: 0 | AE27: 0 | AI27: 2/1/2015 | AJ27: 0
B28: 2014 | C28: 0 | D28: 0 | E28: 0 | F28: 0 | G28: 0 | H28: 0 | I28: 0 | J28: 0 | K28: 0 | L28: 0 | M28: 0 | N28: 0 | O28: =SUM(C28:N28) -> 0 | U28: 2015 | V28: 42072 | W28: 3/1/2015 | X28: Irrigation | Y28: Bills | Z28: 0 | AA28: 0 | AB28: 0 | AE28: 0 | AI28: 3/1/2015 | AJ28: 3370150
U29: 2015 | V29: 42073 | W29: 3/1/2015 | X29: Irrigation | Y29: Bills | Z29: 0 | AA29: 0 | AB29: 0 | AE29: 0 | AI29: 4/1/2015 | AJ29: 37530250
B30: 2015 | C30: 0 | D30: 0 | E30: 3370150 | F30: 37530250 | G30: 88121500 | H30: 147320240 | I30: 157571080 | J30: 131337690 | K30: 75775340 | L30: 44576340 | M30: 2806450 | N30: 0 | O30: =SUM(C30:N30) -> 688409040 | U30: 2015 | V30: 42074 | W30: 3/1/2015 | X30: Irrigation | Y30: Bills | Z30: 0 | AA30: 0 | AB30: 0 | AE30: 0 | AI30: 5/1/2015 | AJ30: 88121500
U31: 2015 | V31: 42075 | W31: 3/1/2015 | X31: Irrigation | Y31: Bills | Z31: 0 | AA31: 0 | AB31: 0 | AE31: 0 | AI31: 6/1/2015 | AJ31: 147320240
B32: 2016 | C32: 0 | D32: 0 | E32: 1477870 | F32: 19284580 | G32: 84150960 | H32: 119760780 | I32: 139460890 | J32: 130054590 | K32: 77292720 | L32: 26972380 | M32: 1153300 | N32: -540 | O32: =SUM(C32:N32) -> 599607530 | U32: 2015 | V32: 42076 | W32: 3/1/2015 | X32: Irrigation | Y32: Bills | Z32: 0 | AA32: 0 | AB32: 0 | AE32: 0 | AI32: 7/1/2015 | AJ32: 157571080
U33: 2015 | V33: 42077 | W33: 3/1/2015 | X33: Irrigation | Y33: Bills | Z33: 0 | AA33: 0 | AB33: 0 | AE33: 0 | AI33: 8/1/2015 | AJ33: 131337690
B34: 2017 | C34: 0 | D34: 0 | E34: 560490 | F34: 9679010 | G34: 68404200 | H34: 119137780 | I34: 154396000 | J34: 127123060 | K34: 75936770 | L34: 36638010 | M34: 2283710 | N34: -430 | O34: =SUM(C34:N34) -> 594158600 | U34: 2015 | V34: 42078 | W34: 3/1/2015 | X34: Irrigation | Y34: Bills | Z34: 0 | AA34: 0 | AB34: 0 | AE34: 0 | AI34: 9/1/2015 | AJ34: 75775340
U35: 2015 | V35: 42079 | W35: 3/1/2015 | X35: Irrigation | Y35: Bills | Z35: 0 | AA35: 0 | AB35: 0 | AE35: 0 | AI35: 10/1/2015 | AJ35: 44576340
B36: 2018 | C36: 0 | D36: 0 | E36: 1040580 | F36: 13326340 | G36: 73062520 | H36: 124675830 | I36: 155363240 | J36: 124070110 | K36: 75886070 | L36: 29437730 | M36: 970990 | N36: -440 | O36: =SUM(C36:N36) -> 597832970 | U36: 2015 | V36: 42080 | W36: 3/1/2015 | X36: Irrigation | Y36: Bills | Z36: 0 | AA36: 0 | AB36: 0 | AE36: 0 | AI36: 11/1/2015 | AJ36: 2806450
U37: 2015 | V37: 42081 | W37: 3/1/2015 | X37: Irrigation | Y37: Bills | Z37: 0 | AA37: 0 | AB37: 0 | AE37: 0 | AI37: 12/1/2015 | AJ37: 0
B38: 2019 | C38: 0 | D38: 0 | E38: 1111090 | F38: 13460270 | G38: 72493430 | H38: 129389560 | I38: 145477260 | J38: 125470940 | K38: 73846670 | L38: 31415710 | M38: 1722730 | N38: -430 | O38: =SUM(C38:N38) -> 594387230 | U38: 2015 | V38: 42082 | W38: 3/1/2015 | X38: Irrigation | Y38: Bills | Z38: 0 | AA38: 0 | AB38: 0 | AE38: 0 | AI38: 1/1/2016 | AJ38: 0
U39: 2015 | V39: 42083 | W39: 3/1/2015 | X39: Irrigation | Y39: Bills | Z39: 0 | AA39: 0 | AB39: 0 | AE39: 0 | AI39: 2/1/2016 | AJ39: 0
B40: 2020 | C40: 0 | D40: 0 | E40: 1911900 | F40: 21505610 | G40: 71157500 | H40: 121354290 | I40: 154556760 | J40: 144167720 | K40: 82629090 | L40: 37312380 | M40: 1973870 | N40: 0 | O40: =SUM(C40:N40) -> 636569120 | U40: 2015 | V40: 42084 | W40: 3/1/2015 | X40: Irrigation | Y40: Bills | Z40: 0 | AA40: 0 | AB40: 0 | AE40: 0 | AI40: 3/1/2016 | AJ40: 1477870
U41: 2015 | V41: 42085 | W41: 3/1/2015 | X41: Irrigation | Y41: Bills | Z41: 48.87 | AA41: 53.98 | AB41: 5.12 | AE41: 53980 | AI41: 4/1/2016 | AJ41: 19284580
B42: 2021 | C42: 777350 | D42: 224360 | E42: 14734240 | F42: 70861560 | G42: 110327570 | H42: 139523820 | I42: 157536910 | J42: 119290490 | K42: 61631710 | L42: 34585410 | M42: 2242640 | N42: 1409070 | O42: =SUM(C42:N42) -> 713145130 | U42: 2015 | V42: 42086 | W42: 3/1/2015 | X42: Irrigation | Y42: Bills | Z42: 105.89 | AA42: 116.98 | AB42: 11.09 | AE42: 116980 | AI42: 5/1/2016 | AJ42: 84150960
U43: 2015 | V43: 42087 | W43: 3/1/2015 | X43: Irrigation | Y43: Bills | Z43: 162.1 | AA43: 179.08 | AB43: 16.97 | AE43: 179080 | AI43: 6/1/2016 | AJ43: 119760780
B44: 2022 | C44: 1040930 | D44: 955060 | E44: 9613260 | F44: 50729310 | G44: 73667930 | H44: 92616440 | I44: 143288520 | J44: 138596600 | K44: 78514690 | L44: 46060900 | M44: 2023330 | N44: 958030 | O44: =SUM(C44:N44) -> 638065000 | U44: 2015 | V44: 42088 | W44: 3/1/2015 | X44: Irrigation | Y44: Bills | Z44: 217.91 | AA44: 240.73 | AB44: 22.82 | AE44: 240730 | AI44: 7/1/2016 | AJ44: 139460890
U45: 2015 | V45: 42089 | W45: 3/1/2015 | X45: Irrigation | Y45: Bills | Z45: 276.15 | AA45: 305.06 | AB45: 28.92 | AE45: 305060 | AI45: 8/1/2016 | AJ45: 130054590
B46: 2023 | C46: 1092280 | D46: 1001450 | E46: 4864970 | F46: 33590360 | G46: 92898670 | H46: 135492220 | I46: 149945830 | J46: 113698920 | K46: 63290500 | L46: 0 | M46: 0 | N46: 0 | O46: =SUM(C46:N46) -> 595875200 | U46: 2015 | V46: 42090 | W46: 3/1/2015 | X46: Irrigation | Y46: Bills | Z46: 333.51 | AA46: 368.43 | AB46: 34.92 | AE46: 368430 | AI46: 9/1/2016 | AJ46: 77292720
U47: 2015 | V47: 42091 | W47: 3/1/2015 | X47: Irrigation | Y47: Bills | Z47: 390.92 | AA47: 431.85 | AB47: 40.94 | AE47: 431850 | AI47: 10/1/2016 | AJ47: 26972380
U48: 2015 | V48: 42092 | W48: 3/1/2015 | X48: Irrigation | Y48: Bills | Z48: 447.72 | AA48: 494.61 | AB48: 46.88 | AE48: 494610 | AI48: 11/1/2016 | AJ48: 1153300
U49: 2015 | V49: 42093 | W49: 3/1/2015 | X49: Irrigation | Y49: Bills | Z49: 505.34 | AA49: 558.25 | AB49: 52.92 | AE49: 558250 | AI49: 12/1/2016 | AJ49: -540
U50: 2015 | V50: 42094 | W50: 3/1/2015 | X50: Irrigation | Y50: Bills | Z50: 562.29 | AA50: 621.18 | AB50: 58.88 | AE50: 621180 | AI50: 1/1/2017 | AJ50: 0
U51: 2015 | V51: 42095 | W51: 4/1/2015 | X51: Irrigation | Y51: Bills | Z51: 617.23 | AA51: 681.87 | AB51: 64.63 | AE51: 681870 | AI51: 2/1/2017 | AJ51: 0
U52: 2015 | V52: 42096 | W52: 4/1/2015 | X52: Irrigation | Y52: Bills | Z52: 674.3 | AA52: 744.91 | AB52: 70.61 | AE52: 744910 | AI52: 3/1/2017 | AJ52: 560490
U53: 2015 | V53: 42097 | W53: 4/1/2015 | X53: Irrigation | Y53: Bills | Z53: 731.85 | AA53: 808.48 | AB53: 76.64 | AE53: 808480 | AI53: 4/1/2017 | AJ53: 9679010
U54: 2015 | V54: 42098 | W54: 4/1/2015 | X54: Irrigation | Y54: Bills | Z54: 789.11 | AA54: 871.74 | AB54: 82.63 | AE54: 871740 | AI54: 5/1/2017 | AJ54: 68404200
U55: 2015 | V55: 42099 | W55: 4/1/2015 | X55: Irrigation | Y55: Bills | Z55: 846.2 | AA55: 934.81 | AB55: 88.61 | AE55: 934810 | AI55: 6/1/2017 | AJ55: 119137780
U56: 2015 | V56: 42100 | W56: 4/1/2015 | X56: Irrigation | Y56: Bills | Z56: 903.17 | AA56: 997.74 | AB56: 94.58 | AE56: 997740 | AI56: 7/1/2017 | AJ56: 154396000
U57: 2015 | V57: 42101 | W57: 4/1/2015 | X57: Irrigation | Y57: Bills | Z57: 961.47 | AA57: 1062.15 | AB57: 100.68 | AE57: 1062150 | AI57: 8/1/2017 | AJ57: 127123060
U58: 2015 | V58: 42102 | W58: 4/1/2015 | X58: Irrigation | Y58: Bills | Z58: 1020.46 | AA58: 1127.32 | AB58: 106.86 | AE58: 1127320 | AI58: 9/1/2017 | AJ58: 75936770
... U133: 2015 | V133: 42177 | W133: 6/1/2015 | X133: Irrigation | Y133: Bills | Z133: 4693.86 | AA133: 5185.38 | AB133: 491.52 | AE133: 5185380 | AI133: 12/1/2023 | AJ133: 0
U134: 2015 | V134: 42178 | W134: 6/1/2015 | X134: Irrigation | Y134: Bills | Z134: 4696.1 | AA134: 5187.85 | AB134: 491.75 | AE134: 5187850
U135: 2015 | V135: 42179 | W135: 6/1/2015 | X135: Irrigation | Y135: Bills | Z135: 4701.63 | AA135: 5193.96 | AB135: 492.33 | AE135: 5193960
U136: 2015 | V136: 42180 | W136: 6/1/2015 | X136: Irrigation | Y136: Bills | Z136: 4701.11 | AA136: 5193.39 | AB136: 492.28 | AE136: 5193390
U137: 2015 | V137: 42181 | W137: 6/1/2015 | X137: Irrigation | Y137: Bills | Z137: 4699.22 | AA137: 5191.3 | AB137: 492.08 | AE137: 5191300
U138: 2015 | V138: 42182 | W138: 6/1/2015 | X138: Irrigation | Y138: Bills | Z138: 4698.41 | AA138: 5190.41 | AB138: 492 | AE138: 5190410
U139: 2015 | V139: 42183 | W139: 6/1/2015 | X139: Irrigation | Y139: Bills | Z139: 4698.39 | AA139: 5190.38 | AB139: 491.99 | AE139: 5190380
U140: 2015 | V140: 42184 | W140: 6/1/2015 | X140: Irrigation | Y140: Bills | Z140: 4702.02 | AA140: 5194.4 | AB140: 492.37 | AE140: 5194400
U141: 2015 | V141: 42185 | W141: 6/1/2015 | X141: Irrigation | Y141: Bills | Z141: 4703.91 | AA141: 5196.49 | AB141: 492.57 | AE141: 5196490
U142: 2015 | V142: 42186 | W142: 7/1/2015 | X142: Irrigation | Y142: Bills | Z142: 4707.86 | AA142: 5200.85 | AB142: 492.99 | AE142: 5200850
U143: 2015 | V143: 42187 | W143: 7/1/2015 | X143: Irrigation | Y143: Bills | Z143: 4706.3 | AA143: 5199.12 | AB143: 492.82 | AE143: 5199120
U144: 2015 | V144: 42188 | W144: 7/1/2015 | X144: Irrigation | Y144: Bills | Z144: 4702.2 | AA144: 5194.6 | AB144: 492.39 | AE144: 5194600
U145: 2015 | V145: 42189 | W145: 7/1/2015 | X145: Irrigation | Y145: Bills | Z145: 4697.69 | AA145: 5189.61 | AB145: 491.92 | AE145: 5189610
... U964: 2017 | V964: 43008 | W964: 9/1/2017 | X964: Irrigation | Y964: Bills | Z964: 1686.48 | AA964: 1863.08 | AB964: 176.6 | AE964: 1863080
U965: 2018 | V965: 43009 | W965: 10/1/2017 | X965: Irrigation | Y965: Bills | Z965: 1661.21 | AA965: 1835.16 | AB965: 173.95 | AC965: 24 | AD965: 69217.083 | AE965: 1835160
U966: 2018 | V966: 43010 | W966: 10/1/2017 | X966: Irrigation | Y966: Bills | Z966: 1618.68 | AA966: 1788.18 | AB966: 169.5 | AC966: 24 | AD966: 67445 | AE966: 1788180
U967: 2018 | V967: 43011 | W967: 10/1/2017 | X967: Irrigation | Y967: Bills | Z967: 1578.55 | AA967: 1743.85 | AB967: 165.3 | AC967: 24 | AD967: 65772.917 | AE967: 1743850
U968: 2018 | V968: 43012 | W968: 10/1/2017 | X968: Irrigation | Y968: Bills | Z968: 1537.71 | AA968: 1698.73 | AB968: 161.02 | AC968: 24 | AD968: 64071.25 | AE968: 1698730
U969: 2018 | V969: 43013 | W969: 10/1/2017 | X969: Irrigation | Y969: Bills | Z969: 1497.95 | AA969: 1654.81 | AB969: 156.86 | AC969: 24 | AD969: 62414.583 | AE969: 1654810
U970: 2018 | V970: 43014 | W970: 10/1/2017 | X970: Irrigation | Y970: Bills | Z970: 1457.08 | AA970: 1609.66 | AB970: 152.58 | AC970: 24 | AD970: 60711.667 | AE970: 1609660
U971: 2018 | V971: 43015 | W971: 10/1/2017 | X971: Irrigation | Y971: Bills | Z971: 1416.09 | AA971: 1564.38 | AB971: 148.29 | AC971: 24 | AD971: 59003.75 | AE971: 1564380
U972: 2018 | V972: 43016 | W972: 10/1/2017 | X972: Irrigation | Y972: Bills | Z972: 1374.59 | AA972: 1518.53 | AB972: 143.94 | AC972: 24 | AD972: 57274.583 | AE972: 1518530
U973: 2018 | V973: 43017 | W973: 10/1/2017 | X973: Irrigation | Y973: Bills | Z973: 1332.23 | AA973: 1471.73 | AB973: 139.5 | AC973: 24 | AD973: 55509.583 | AE973: 1471730
U974: 2018 | V974: 43018 | W974: 10/1/2017 | X974: Irrigation | Y974: Bills | Z974: 1289.94 | AA974: 1425.02 | AB974: 135.08 | AC974: 24 | AD974: 53747.5 | AE974: 1425020
U975: 2018 | V975: 43019 | W975: 10/1/2017 | X975: Irrigation | Y975: Bills | Z975: 1246 | AA975: 1376.48 | AB975: 130.48 | AC975: 24 | AD975: 51916.667 | AE975: 1376480
U976: 2018 | V976: 43020 | W976: 10/1/2017 | X976: Irrigation | Y976: Bills | Z976: 1200.71 | AA976: 1326.44 | AB976: 125.73 | AC976: 24 | AD976: 50029.583 | AE976: 1326440
... U2790: 2022 | V2790: 44834 | W2790: 9/1/2022 | X2790: Irrigation | Y2790: AMI | Z2790: 1741.02 | AA2790: 1923.33 | AB2790: 182.31 | AC2790: 24 | AD2790: 72542.5 | AE2790: 1923330
U2791: 2023 | V2791: 44835 | W2791: 10/1/2022 | X2791: Irrigation | Y2791: AMI | Z2791: 1496.08 | AA2791: 1652.75 | AB2791: 156.66 | AD2791: #DIV/0! | AE2791: 1652750
U2792: 2023 | V2792: 44836 | W2792: 10/1/2022 | X2792: Irrigation | Y2792: AMI | Z2792: 1408.98 | AA2792: 1556.52 | AB2792: 147.54 | AD2792: #DIV/0! | AE2792: 1556520
U2793: 2023 | V2793: 44837 | W2793: 10/1/2022 | X2793: Irrigation | Y2793: AMI | Z2793: 1621.57 | AA2793: 1791.38 | AB2793: 169.8 | AD2793: #DIV/0! | AE2793: 1791380
U2794: 2023 | V2794: 44838 | W2794: 10/1/2022 | X2794: Irrigation | Y2794: AMI | Z2794: 1830.39 | AA2794: 2022.06 | AB2794: 191.67 | AD2794: #DIV/0! | AE2794: 2022060
U2795: 2023 | V2795: 44839 | W2795: 10/1/2022 | X2795: Irrigation | Y2795: AMI | Z2795: 1936.72 | AA2795: 2139.53 | AB2795: 202.8 | AD2795: #DIV/0! | AE2795: 2139530
U2796: 2023 | V2796: 44840 | W2796: 10/1/2022 | X2796: Irrigation | Y2796: AMI | Z2796: 1989.18 | AA2796: 2197.48 | AB2796: 208.3 | AD2796: #DIV/0! | AE2796: 2197480
U2797: 2023 | V2797: 44841 | W2797: 10/1/2022 | X2797: Irrigation | Y2797: AMI | Z2797: 1717.54 | AA2797: 1897.39 | AB2797: 179.85 | AD2797: #DIV/0! | AE2797: 1897390
U2798: 2023 | V2798: 44842 | W2798: 10/1/2022 | X2798: Irrigation | Y2798: AMI | Z2798: 1434.7 | AA2798: 1584.94 | AB2798: 150.24 | AD2798: #DIV/0! | AE2798: 1584940
U2799: 2023 | V2799: 44843 | W2799: 10/1/2022 | X2799: Irrigation | Y2799: AMI | Z2799: 1430.06 | AA2799: 1579.81 | AB2799: 149.75 | AD2799: #DIV/0! | AE2799: 1579810
U2800: 2023 | V2800: 44844 | W2800: 10/1/2022 | X2800: Irrigation | Y2800: AMI | Z2800: 1706.02 | AA2800: 1884.67 | AB2800: 178.65 | AD2800: #DIV/0! | AE2800: 1884670
U2801: 2023 | V2801: 44845 | W2801: 10/1/2022 | X2801: Irrigation | Y2801: AMI | Z2801: 1880.81 | AA2801: 2077.76 | AB2801: 196.95 | AD2801: #DIV/0! | AE2801: 2077760
U2802: 2023 | V2802: 44846 | W2802: 10/1/2022 | X2802: Irrigation | Y2802: AMI | Z2802: 1940.19 | AA2802: 2143.36 | AB2802: 203.17 | AD2802: #DIV/0! | AE2802: 2143360
... U3155: 2023 | V3155: 45199 | W3155: 9/1/2023 | X3155: Irrigation | Y3155: AMI | Z3155: 980.04 | AA3155: 1082.66 | AB3155: 102.62 | AD3155: #DIV/0! | AE3155: 1082660

Sheet Monthly Load
A1: Grant PUD
A2: 10190
M7: fiscal_year | N7: date | O7: hours | P7: month | Q7: component | R7: source | S7: mwh_sales | T7: mwh_load | U7: mwh_losses | V7: kwh_load | X7: fiscal_year | Y7: date | Z7: hours | AA7: hours | AB7: component | AC7: source | AD7: mwh_sales | AE7: mwh_load | AF7: mwh_losses
M8: 2018 | N8: 43009 | O8: 24 | P8: 10/1/2017 | Q8: Total System | R8: PCI Calculation | S8: 12071.098 | T8: 11792.513 | U8: -278.58536 | V8: =T8*1000 -> 11792513 | X8: 2018 | Y8: 43009 | Z8: 24 | AA8: 24 | AB8: NLSL | AC8: Bills | AD8: 3316.8872 | AE8: 3338.9761 | AF8: 22.088825
M9: 2018 | N9: 43010 | O9: 24 | P9: 10/1/2017 | Q9: Total System | R9: PCI Calculation | S9: 12061.238 | T9: 12435.846 | U9: 374.60792 | V9: =T9*1000 -> 12435846 | X9: 2018 | Y9: 43010 | Z9: 24 | AA9: 24 | AB9: NLSL | AC9: Bills | AD9: 3316.8872 | AE9: 3338.9761 | AF9: 22.088825
M10: 2018 | N10: 43011 | O10: 24 | P10: 10/1/2017 | Q10: Total System | R10: PCI Calculation | S10: 12044.023 | T10: 12719.943 | U10: 675.92007 | V10: =T10*1000 -> 12719943 | X10: 2018 | Y10: 43011 | Z10: 24 | AA10: 24 | AB10: NLSL | AC10: Bills | AD10: 3316.8872 | AE10: 3338.9761 | AF10: 22.088825
M11: 2018 | N11: 43012 | O11: 24 | P11: 10/1/2017 | Q11: Total System | R11: PCI Calculation | S11: 12046.002 | T11: 13045.205 | U11: 999.2034 | V11: =T11*1000 -> 13045205 | X11: 2018 | Y11: 43012 | Z11: 24 | AA11: 24 | AB11: NLSL | AC11: Bills | AD11: 3316.8872 | AE11: 3338.9761 | AF11: 22.088825
M12: 2018 | N12: 43013 | O12: 24 | P12: 10/1/2017 | Q12: Total System | R12: PCI Calculation | S12: 12040.46 | T12: 13144.724 | U12: 1104.2645 | V12: =T12*1000 -> 13144724 | X12: 2018 | Y12: 43013 | Z12: 24 | AA12: 24 | AB12: NLSL | AC12: Bills | AD12: 3316.8872 | AE12: 3338.9761 | AF12: 22.088825
M13: 2018 | N13: 43014 | O13: 24 | P13: 10/1/2017 | Q13: Total System | R13: PCI Calculation | S13: 12022.101 | T13: 12989.481 | U13: 967.38011 | V13: =T13*1000 -> 12989481 | X13: 2018 | Y13: 43014 | Z13: 24 | AA13: 24 | AB13: NLSL | AC13: Bills | AD13: 3316.8872 | AE13: 3338.9761 | AF13: 22.088825
M14: 2018 | N14: 43015 | O14: 24 | P14: 10/1/2017 | Q14: Total System | R14: PCI Calculation | S14: 11980.688 | T14: 12351.719 | U14: 371.03076 | V14: =T14*1000 -> 12351719 | X14: 2018 | Y14: 43015 | Z14: 24 | AA14: 24 | AB14: NLSL | AC14: Bills | AD14: 3316.8872 | AE14: 3338.9761 | AF14: 22.088825
M15: 2018 | N15: 43016 | O15: 24 | P15: 10/1/2017 | Q15: Total System | R15: PCI Calculation | S15: 11940.238 | T15: 12212.516 | U15: 272.2784 | V15: =T15*1000 -> 12212516 | X15: 2018 | Y15: 43016 | Z15: 24 | AA15: 24 | AB15: NLSL | AC15: Bills | AD15: 3316.8872 | AE15: 3338.9761 | AF15: 22.088825
M16: 2018 | N16: 43017 | O16: 24 | P16: 10/1/2017 | Q16: Total System | R16: PCI Calculation | S16: 11956.488 | T16: 12907.2 | U16: 950.71217 | V16: =T16*1000 -> 12907200 | X16: 2018 | Y16: 43017 | Z16: 24 | AA16: 24 | AB16: NLSL | AC16: Bills | AD16: 3316.8872 | AE16: 3338.9761 | AF16: 22.088825
M17: 2018 | N17: 43018 | O17: 24 | P17: 10/1/2017 | Q17: Total System | R17: PCI Calculation | S17: 11981.128 | T17: 13241.43 | U17: 1260.3022 | V17: =T17*1000 -> 13241430 | X17: 2018 | Y17: 43018 | Z17: 24 | AA17: 24 | AB17: NLSL | AC17: Bills | AD17: 3316.8872 | AE17: 3338.9761 | AF17: 22.088825
M18: 2018 | N18: 43019 | O18: 24 | P18: 10/1/2017 | Q18: Total System | R18: PCI Calculation | S18: 11987.012 | T18: 13432.8 | U18: 1445.7875 | V18: =T18*1000 -> 13432800 | X18: 2018 | Y18: 43019 | Z18: 24 | AA18: 24 | AB18: NLSL | AC18: Bills | AD18: 3316.8872 | AE18: 3338.9761 | AF18: 22.088825
M19: 2018 | N19: 43020 | O19: 24 | P19: 10/1/2017 | Q19: Total System | R19: PCI Calculation | S19: 12016.271 | T19: 13857.63 | U19: 1841.3585 | V19: =T19*1000 -> 13857630 | X19: 2018 | Y19: 43020 | Z19: 24 | AA19: 24 | AB19: NLSL | AC19: Bills | AD19: 3316.8872 | AE19: 3338.9761 | AF19: 22.088825
... M22: 2018 | N22: 43023 | O22: 24 | P22: 10/1/2017 | Q22: Total System | R22: PCI Calculation | S22: 12021.156 | T22: 12308.549 | U22: 287.39334 | V22: =T22*1000 -> 12308549 | X22: 2018 | Y22: 43023 | Z22: 24 | AA22: 24 | AB22: NLSL | AC22: Bills | AD22: 3316.8872 | AE22: 3338.9761 | AF22: 22.088825
B23: BESID | C23: Calendar Year | D23: Month | E23: Date | F23: TRL (MWh) | G23: NLSL (MWh) | M23: 2018 | N23: 43024 | O23: 24 | P23: 10/1/2017 | Q23: Total System | R23: PCI Calculation | S23: 12061.621 | T23: 12888.869 | U23: 827.24794 | V23: =T23*1000 -> 12888869 | X23: 2018 | Y23: 43024 | Z23: 24 | AA23: 24 | AB23: NLSL | AC23: Bills | AD23: 3316.8872 | AE23: 3338.9761 | AF23: 22.088825
B24: ='Monthly Irrigation'!$A$2 -> 10190 | C24: =YEAR(E24) -> 2017 | D24: =MONTH(E24) -> 10 | E24: 43009 | F24: =SUMIF($P$8:$P$2198,E24,$T$8:$T$2198) -> 385123.05 | G24: =SUMIF($Y$8:$Y$2198,E24,$AE$8:$AE$2198) -> 3338.9761 | M24: 2018 | N24: 43025 | O24: 24 | P24: 10/1/2017 | Q24: Total System | R24: PCI Calculation | S24: 12122.841 | T24: 13148.426 | U24: 1025.5855 | V24: =T24*1000 -> 13148426 | X24: 2018 | Y24: 43025 | Z24: 24 | AA24: 24 | AB24: NLSL | AC24: Bills | AD24: 3316.8872 | AE24: 3338.9761 | AF24: 22.088825
B25: ='Monthly Irrigation'!$A$2 -> 10190 | C25: =YEAR(E25) -> 2017 | D25: =MONTH(E25) -> 11 | E25: 43040 | F25: =SUMIF($P$8:$P$2198,E25,$T$8:$T$2198) -> 385960.85 | G25: =SUMIF($Y$8:$Y$2198,E25,$AE$8:$AE$2198) -> 3560.9412 | M25: 2018 | N25: 43026 | O25: 24 | P25: 10/1/2017 | Q25: Total System | R25: PCI Calculation | S25: 12159.986 | T25: 13186.504 | U25: 1026.5181 | V25: =T25*1000 -> 13186504 | X25: 2018 | Y25: 43026 | Z25: 24 | AA25: 24 | AB25: NLSL | AC25: Bills | AD25: 3316.8872 | AE25: 3338.9761 | AF25: 22.088825
B26: ='Monthly Irrigation'!$A$2 -> 10190 | C26: =YEAR(E26) -> 2017 | D26: =MONTH(E26) -> 12 | E26: 43070 | F26: =SUMIF($P$8:$P$2198,E26,$T$8:$T$2198) -> 437450.77 | G26: =SUMIF($Y$8:$Y$2198,E26,$AE$8:$AE$2198) -> 3628.8615 | M26: 2018 | N26: 43027 | O26: 24 | P26: 10/1/2017 | Q26: Total System | R26: PCI Calculation | S26: 12181.407 | T26: 12726.363 | U26: 544.95611 | V26: =T26*1000 -> 12726363 | X26: 2018 | Y26: 43027 | Z26: 24 | AA26: 24 | AB26: NLSL | AC26: Bills | AD26: 3316.8872 | AE26: 3338.9761 | AF26: 22.088825
B27: ='Monthly Irrigation'!$A$2 -> 10190 | C27: =YEAR(E27) -> 2018 | D27: =MONTH(E27) -> 1 | E27: 43101 | F27: =SUMIF($P$8:$P$2198,E27,$T$8:$T$2198) -> 431803.69 | G27: =SUMIF($Y$8:$Y$2198,E27,$AE$8:$AE$2198) -> 3848.703 | M27: 2018 | N27: 43028 | O27: 24 | P27: 10/1/2017 | Q27: Total System | R27: PCI Calculation | S27: 12221.696 | T27: 12764.967 | U27: 543.27136 | V27: =T27*1000 -> 12764967 | X27: 2018 | Y27: 43028 | Z27: 24 | AA27: 24 | AB27: NLSL | AC27: Bills | AD27: 3316.8872 | AE27: 3338.9761 | AF27: 22.088825
B28: ='Monthly Irrigation'!$A$2 -> 10190 | C28: =YEAR(E28) -> 2018 | D28: =MONTH(E28) -> 2 | E28: 43132 | F28: =SUMIF($P$8:$P$2198,E28,$T$8:$T$2198) -> 390795.97 | G28: =SUMIF($Y$8:$Y$2198,E28,$AE$8:$AE$2198) -> 2946.8358 | M28: 2018 | N28: 43029 | O28: 24 | P28: 10/1/2017 | Q28: Total System | R28: PCI Calculation | S28: 12194.85 | T28: 12857.228 | U28: 662.37782 | V28: =T28*1000 -> 12857228 | X28: 2018 | Y28: 43029 | Z28: 24 | AA28: 24 | AB28: NLSL | AC28: Bills | AD28: 3316.8872 | AE28: 3338.9761 | AF28: 22.088825
B29: ='Monthly Irrigation'!$A$2 -> 10190 | C29: =YEAR(E29) -> 2018 | D29: =MONTH(E29) -> 3 | E29: 43160 | F29: =SUMIF($P$8:$P$2198,E29,$T$8:$T$2198) -> 398621.15 | G29: =SUMIF($Y$8:$Y$2198,E29,$AE$8:$AE$2198) -> 2923.8751 | M29: 2018 | N29: 43030 | O29: 24 | P29: 10/1/2017 | Q29: Total System | R29: PCI Calculation | S29: 12135.475 | T29: 11634.466 | U29: -501.00894 | V29: =T29*1000 -> 11634466 | X29: 2018 | Y29: 43030 | Z29: 24 | AA29: 24 | AB29: NLSL | AC29: Bills | AD29: 3316.8872 | AE29: 3338.9761 | AF29: 22.088825
B30: ='Monthly Irrigation'!$A$2 -> 10190 | C30: =YEAR(E30) -> 2018 | D30: =MONTH(E30) -> 4 | E30: 43191 | F30: =SUMIF($P$8:$P$2198,E30,$T$8:$T$2198) -> 385819.26 | G30: =SUMIF($Y$8:$Y$2198,E30,$AE$8:$AE$2198) -> 2866.6817 | M30: 2018 | N30: 43031 | O30: 24 | P30: 10/1/2017 | Q30: Total System | R30: PCI Calculation | S30: 12142.54 | T30: 11354.262 | U30: -788.27803 | V30: =T30*1000 -> 11354262 | X30: 2018 | Y30: 43031 | Z30: 24 | AA30: 24 | AB30: NLSL | AC30: Bills | AD30: 3316.8872 | AE30: 3338.9761 | AF30: 22.088825
B31: ='Monthly Irrigation'!$A$2 -> 10190 | C31: =YEAR(E31) -> 2018 | D31: =MONTH(E31) -> 5 | E31: 43221 | F31: =SUMIF($P$8:$P$2198,E31,$T$8:$T$2198) -> 428003.01 | G31: =SUMIF($Y$8:$Y$2198,E31,$AE$8:$AE$2198) -> 2764.4657 | M31: 2018 | N31: 43032 | O31: 24 | P31: 10/1/2017 | Q31: Total System | R31: PCI Calculation | S31: 12091.549 | T31: 11031.337 | U31: -1060.2118 | V31: =T31*1000 -> 11031337 | X31: 2018 | Y31: 43032 | Z31: 24 | AA31: 24 | AB31: NLSL | AC31: Bills | AD31: 3316.8872 | AE31: 3338.9761 | AF31: 22.088825
B32: ='Monthly Irrigation'!$A$2 -> 10190 | C32: =YEAR(E32) -> 2018 | D32: =MONTH(E32) -> 6 | E32: 43252 | F32: =SUMIF($P$8:$P$2198,E32,$T$8:$T$2198) -> 458139.38 | G32: =SUMIF($Y$8:$Y$2198,E32,$AE$8:$AE$2198) -> 2599.8029 | M32: 2018 | N32: 43033 | O32: 24 | P32: 10/1/2017 | Q32: Total System | R32: PCI Calculation | S32: 12093.917 | T32: 11154.445 | U32: -939.47194 | V32: =T32*1000 -> 11154445 | X32: 2018 | Y32: 43033 | Z32: 24 | AA32: 24 | AB32: NLSL | AC32: Bills | AD32: 3316.8872 | AE32: 3338.9761 | AF32: 22.088825
B33: ='Monthly Irrigation'!$A$2 -> 10190 | C33: =YEAR(E33) -> 2018 | D33: =MONTH(E33) -> 7 | E33: 43282 | F33: =SUMIF($P$8:$P$2198,E33,$T$8:$T$2198) -> 504954.88 | G33: =SUMIF($Y$8:$Y$2198,E33,$AE$8:$AE$2198) -> 2789.8374 | M33: 2018 | N33: 43034 | O33: 24 | P33: 10/1/2017 | Q33: Total System | R33: PCI Calculation | S33: 12096 | T33: 10952.805 | U33: -1143.195 | V33: =T33*1000 -> 10952805 | X33: 2018 | Y33: 43034 | Z33: 24 | AA33: 24 | AB33: NLSL | AC33: Bills | AD33: 3316.8872 | AE33: 3338.9761 | AF33: 22.088825
B34: ='Monthly Irrigation'!$A$2 -> 10190 | C34: =YEAR(E34) -> 2018 | D34: =MONTH(E34) -> 8 | E34: 43313 | F34: =SUMIF($P$8:$P$2198,E34,$T$8:$T$2198) -> 476697.4 | G34: =SUMIF($Y$8:$Y$2198,E34,$AE$8:$AE$2198) -> 2781.6868 | M34: 2018 | N34: 43035 | O34: 24 | P34: 10/1/2017 | Q34: Total System | R34: PCI Calculation | S34: 12174.307 | T34: 11227.992 | U34: -946.31471 | V34: =T34*1000 -> 11227992 | X34: 2018 | Y34: 43035 | Z34: 24 | AA34: 24 | AB34: NLSL | AC34: Bills | AD34: 3316.8872 | AE34: 3338.9761 | AF34: 22.088825
B35: ='Monthly Irrigation'!$A$2 -> 10190 | C35: =YEAR(E35) -> 2018 | D35: =MONTH(E35) -> 9 | E35: 43344 | F35: =SUMIF($P$8:$P$2198,E35,$T$8:$T$2198) -> 406922.07 | G35: =SUMIF($Y$8:$Y$2198,E35,$AE$8:$AE$2198) -> 2856.1471 | M35: 2018 | N35: 43036 | O35: 24 | P35: 10/1/2017 | Q35: Total System | R35: PCI Calculation | S35: 12124.024 | T35: 11565.967 | U35: -558.05742 | V35: =T35*1000 -> 11565967 | X35: 2018 | Y35: 43036 | Z35: 24 | AA35: 24 | AB35: NLSL | AC35: Bills | AD35: 3316.8872 | AE35: 3338.9761 | AF35: 22.088825
... B95: ='Monthly Irrigation'!$A$2 -> 10190 | C95: =YEAR(E95) -> 2023 | D95: =MONTH(E95) -> 9 | E95: 45170 | F95: =SUMIF($P$8:$P$2198,E95,$T$8:$T$2198) -> 483059.51 | G95: =SUMIF($Y$8:$Y$2198,E95,$AE$8:$AE$2198) -> 5329.8358 | M95: 2018 | N95: 43096 | O95: 24 | P95: 12/1/2017 | Q95: Total System | R95: PCI Calculation | S95: 13467.793 | T95: 14671.552 | U95: 1203.7593 | V95: =T95*1000 -> 14671552 | X95: 2018 | Y95: 43096 | Z95: 24 | AA95: 24 | AB95: NLSL | AC95: Bills | AD95: 3604.855 | AE95: 3628.8615 | AF95: 24.006547
M96: 2018 | N96: 43097 | O96: 24 | P96: 12/1/2017 | Q96: Total System | R96: PCI Calculation | S96: 13455.813 | T96: 14559.036 | U96: 1103.223 | V96: =T96*1000 -> 14559036 | X96: 2018 | Y96: 43097 | Z96: 24 | AA96: 24 | AB96: NLSL | AC96: Bills | AD96: 3604.855 | AE96: 3628.8615 | AF96: 24.006547
M97: 2018 | N97: 43098 | O97: 24 | P97: 12/1/2017 | Q97: Total System | R97: PCI Calculation | S97: 13428.153 | T97: 13993.928 | U97: 565.77509 | V97: =T97*1000 -> 13993928 | X97: 2018 | Y97: 43098 | Z97: 24 | AA97: 24 | AB97: NLSL | AC97: Bills | AD97: 3604.855 | AE97: 3628.8615 | AF97: 24.006547
M98: 2018 | N98: 43099 | O98: 24 | P98: 12/1/2017 | Q98: Total System | R98: PCI Calculation | S98: 13428.371 | T98: 13168.293 | U98: -260.07829 | V98: =T98*1000 -> 13168293 | X98: 2018 | Y98: 43099 | Z98: 24 | AA98: 24 | AB98: NLSL | AC98: Bills | AD98: 3604.855 | AE98: 3628.8615 | AF98: 24.006547
M99: 2018 | N99: 43100 | O99: 24 | P99: 12/1/2017 | Q99: Total System | R99: PCI Calculation | S99: 13822.11 | T99: 13975.35 | U99: 153.24037 | V99: =T99*1000 -> 13975350 | X99: 2018 | Y99: 43100 | Z99: 24 | AA99: 24 | AB99: NLSL | AC99: Bills | AD99: 3823.2421 | AE99: 3848.703 | AF99: 25.460897
M100: 2018 | N100: 43101 | O100: 24 | P100: 1/1/2018 | Q100: Total System | R100: PCI Calculation | S100: 13826.766 | T100: 14166.364 | U100: 339.59792 | V100: =T100*1000 -> 14166364 | X100: 2018 | Y100: 43101 | Z100: 24 | AA100: 24 | AB100: NLSL | AC100: Bills | AD100: 3823.2421 | AE100: 3848.703 | AF100: 25.460897
M101: 2018 | N101: 43102 | O101: 24 | P101: 1/1/2018 | Q101: Total System | R101: PCI Calculation | S101: 13821.184 | T101: 14725.589 | U101: 904.40493 | V101: =T101*1000 -> 14725589 | X101: 2018 | Y101: 43102 | Z101: 24 | AA101: 24 | AB101: NLSL | AC101: Bills | AD101: 3823.2421 | AE101: 3848.703 | AF101: 25.460897
M102: 2018 | N102: 43103 | O102: 24 | P102: 1/1/2018 | Q102: Total System | R102: PCI Calculation | S102: 13744.164 | T102: 14641.489 | U102: 897.32511 | V102: =T102*1000 -> 14641489 | X102: 2018 | Y102: 43103 | Z102: 24 | AA102: 24 | AB102: NLSL | AC102: Bills | AD102: 3823.2421 | AE102: 3848.703 | AF102: 25.460897
M103: 2018 | N103: 43104 | O103: 24 | P103: 1/1/2018 | Q103: Total System | R103: PCI Calculation | S103: 13689.651 | T103: 14699.178 | U103: 1009.5267 | V103: =T103*1000 -> 14699178 | X103: 2018 | Y103: 43104 | Z103: 24 | AA103: 24 | AB103: NLSL | AC103: Bills | AD103: 3823.2421 | AE103: 3848.703 | AF103: 25.460897
M104: 2018 | N104: 43105 | O104: 24 | P104: 1/1/2018 | Q104: Total System | R104: PCI Calculation | S104: 13637.415 | T104: 14185.472 | U104: 548.05727 | V104: =T104*1000 -> 14185472 | X104: 2018 | Y104: 43105 | Z104: 24 | AA104: 24 | AB104: NLSL | AC104: Bills | AD104: 3823.2421 | AE104: 3848.703 | AF104: 25.460897
M105: 2018 | N105: 43106 | O105: 24 | P105: 1/1/2018 | Q105: Total System | R105: PCI Calculation | S105: 13637.133 | T105: 13664.093 | U105: 26.959529 | V105: =T105*1000 -> 13664093 | X105: 2018 | Y105: 43106 | Z105: 24 | AA105: 24 | AB105: NLSL | AC105: Bills | AD105: 3823.2421 | AE105: 3848.703 | AF105: 25.460897
M106: 2018 | N106: 43107 | O106: 24 | P106: 1/1/2018 | Q106: Total System | R106: PCI Calculation | S106: 13637.052 | T106: 13634.198 | U106: -2.8543858 | V106: =T106*1000 -> 13634198 | X106: 2018 | Y106: 43107 | Z106: 24 | AA106: 24 | AB106: NLSL | AC106: Bills | AD106: 3823.2421 | AE106: 3848.703 | AF106: 25.460897
M107: 2018 | N107: 43108 | O107: 24 | P107: 1/1/2018 | Q107: Total System | R107: PCI Calculation | S107: 13544.072 | T107: 13920.538 | U107: 376.46576 | V107: =T107*1000 -> 13920538 | X107: 2018 | Y107: 43108 | Z107: 24 | AA107: 24 | AB107: NLSL | AC107: Bills | AD107: 3823.2421 | AE107: 3848.703 | AF107: 25.460897
... M2198: 2023 | N2198: 45199 | O2198: 24 | P2198: 9/1/2023 | Q2198: Total System | R2198: PCI Calculation | S2198: 14638.283 | T2198: 15104.427 | U2198: 466.14378 | V2198: =T2198*1000 -> 15104427 | X2198: 2023 | Y2198: 45199 | Z2198: 24 | AA2198: 24 | AB2198: NLSL | AC2198: AMI | AD2198: 5362.527 | AE2198: 5398.2388 | AF2198: 35.711772

Sheet metered data
A1: Grant PUD
A2: 10190-BLCK
D4: Metered Load (KWh)
D6: Jan | E6: Feb | F6: Mar | G6: Apr | H6: May | I6: Jun | J6: Jul | K6: Aug | L6: Sep | M6: Oct | N6: Nov | O6: Dec
B7: Calendar Year | D7: 1 | E7: 2 | F7: 3 | G7: 4 | H7: 5 | I7: 6 | J7: 7 | K7: 8 | L7: 9 | M7: 10 | N7: 11 | O7: 12
B8: 2017 | C8: Sum of daily sum | M8: =SUMIFS($B$32:$B$1857,$D$32:$D$1857,$B8,$E$32:$E$1857,M$7) -> 385123050 | N8: =SUMIFS($B$32:$B$1857,$D$32:$D$1857,$B8,$E$32:$E$1857,N$7) -> 385960851 | O8: =SUMIFS($B$32:$B$1857,$D$32:$D$1857,$B8,$E$32:$E$1857,O$7) -> 437450767
B9: =B8+0.1 -> 2017.1 | C9: average of daily average | M9: =AVERAGEIFS($C$32:$C$1857,$D$32:$D$1857,$B8,$E$32:$E$1857,M$7) -> 517638.51 | N9: =AVERAGEIFS($C$32:$C$1857,$D$32:$D$1857,$B8,$E$32:$E$1857,N$7) -> 535266.95 | O9: =AVERAGEIFS($C$32:$C$1857,$D$32:$D$1857,$B8,$E$32:$E$1857,O$7) -> 587971.46
B10: 2018 | C10: Sum of daily sum | D10: =SUMIFS($B$32:$B$1857,$D$32:$D$1857,$B10,$E$32:$E$1857,D$7) -> 431803693 | E10: =SUMIFS($B$32:$B$1857,$D$32:$D$1857,$B10,$E$32:$E$1857,E$7) -> 390795973 | F10: =SUMIFS($B$32:$B$1857,$D$32:$D$1857,$B10,$E$32:$E$1857,F$7) -> 398621153 | G10: =SUMIFS($B$32:$B$1857,$D$32:$D$1857,$B10,$E$32:$E$1857,G$7) -> 385819258 | H10: =SUMIFS($B$32:$B$1857,$D$32:$D$1857,$B10,$E$32:$E$1857,H$7) -> 428003007 | I10: =SUMIFS($B$32:$B$1857,$D$32:$D$1857,$B10,$E$32:$E$1857,I$7) -> 458139384 | J10: =SUMIFS($B$32:$B$1857,$D$32:$D$1857,$B10,$E$32:$E$1857,J$7) -> 504954877 | K10: =SUMIFS($B$32:$B$1857,$D$32:$D$1857,$B10,$E$32:$E$1857,K$7) -> 476697403 | ... O10: =SUMIFS($B$32:$B$1857,$D$32:$D$1857,$B10,$E$32:$E$1857,O$7) -> 444338882
B11: =B10+0.1 -> 2018.1 | C11: average of daily average | D11: =AVERAGEIFS($C$32:$C$1857,$D$32:$D$1857,$B10,$E$32:$E$1857,D$7) -> 580381.31 | E11: =AVERAGEIFS($C$32:$C$1857,$D$32:$D$1857,$B10,$E$32:$E$1857,E$7) -> 581541.63 | F11: =AVERAGEIFS($C$32:$C$1857,$D$32:$D$1857,$B10,$E$32:$E$1857,F$7) -> 536446.79 | G11: =AVERAGEIFS($C$32:$C$1857,$D$32:$D$1857,$B10,$E$32:$E$1857,G$7) -> 535860.08 | H11: =AVERAGEIFS($C$32:$C$1857,$D$32:$D$1857,$B10,$E$32:$E$1857,H$7) -> 575272.86 | I11: =AVERAGEIFS($C$32:$C$1857,$D$32:$D$1857,$B10,$E$32:$E$1857,I$7) -> 636304.7 | J11: =AVERAGEIFS($C$32:$C$1857,$D$32:$D$1857,$B10,$E$32:$E$1857,J$7) -> 678702.79 | K11: =AVERAGEIFS($C$32:$C$1857,$D$32:$D$1857,$B10,$E$32:$E$1857,K$7) -> 640722.32 | ... O11: =AVERAGEIFS($C$32:$C$1857,$D$32:$D$1857,$B10,$E$32:$E$1857,O$7) -> 597229.68
B12: 2019 | C12: Sum of daily sum | D12: =SUMIFS($B$32:$B$1857,$D$32:$D$1857,$B12,$E$32:$E$1857,D$7) -> 449901372 | E12: =SUMIFS($B$32:$B$1857,$D$32:$D$1857,$B12,$E$32:$E$1857,E$7) -> 438248239 | F12: =SUMIFS($B$32:$B$1857,$D$32:$D$1857,$B12,$E$32:$E$1857,F$7) -> 426871277 | G12: =SUMIFS($B$32:$B$1857,$D$32:$D$1857,$B12,$E$32:$E$1857,G$7) -> 367746858 | H12: =SUMIFS($B$32:$B$1857,$D$32:$D$1857,$B12,$E$32:$E$1857,H$7) -> 431485433 | I12: =SUMIFS($B$32:$B$1857,$D$32:$D$1857,$B12,$E$32:$E$1857,I$7) -> 465501393 | J12: =SUMIFS($B$32:$B$1857,$D$32:$D$1857,$B12,$E$32:$E$1857,J$7) -> 486797016 | K12: =SUMIFS($B$32:$B$1857,$D$32:$D$1857,$B12,$E$32:$E$1857,K$7) -> 478755891 | ... O12: =SUMIFS($B$32:$B$1857,$D$32:$D$1857,$B12,$E$32:$E$1857,O$7) -> 442249200
B13: =B12+0.1 -> 2019.1 | C13: average of daily average | D13: =AVERAGEIFS($C$32:$C$1857,$D$32:$D$1857,$B12,$E$32:$E$1857,D$7) -> 604706.15 | E13: =AVERAGEIFS($C$32:$C$1857,$D$32:$D$1857,$B12,$E$32:$E$1857,E$7) -> 652155.12 | F13: =AVERAGEIFS($C$32:$C$1857,$D$32:$D$1857,$B12,$E$32:$E$1857,F$7) -> 574585.88 | G13: =AVERAGEIFS($C$32:$C$1857,$D$32:$D$1857,$B12,$E$32:$E$1857,G$7) -> 510759.53 | H13: =AVERAGEIFS($C$32:$C$1857,$D$32:$D$1857,$B12,$E$32:$E$1857,H$7) -> 579953.54 | I13: =AVERAGEIFS($C$32:$C$1857,$D$32:$D$1857,$B12,$E$32:$E$1857,I$7) -> 646529.71 | J13: =AVERAGEIFS($C$32:$C$1857,$D$32:$D$1857,$B12,$E$32:$E$1857,J$7) -> 654297.06 | K13: =AVERAGEIFS($C$32:$C$1857,$D$32:$D$1857,$B12,$E$32:$E$1857,K$7) -> 643489.1 | ... O13: =AVERAGEIFS($C$32:$C$1857,$D$32:$D$1857,$B12,$E$32:$E$1857,O$7) -> 594420.97
B14: 2020 | C14: Sum of daily sum | D14: =SUMIFS($B$32:$B$1857,$D$32:$D$1857,$B14,$E$32:$E$1857,D$7) -> 451988883 | E14: =SUMIFS($B$32:$B$1857,$D$32:$D$1857,$B14,$E$32:$E$1857,E$7) -> 403654821 | F14: =SUMIFS($B$32:$B$1857,$D$32:$D$1857,$B14,$E$32:$E$1857,F$7) -> 407196678 | G14: =SUMIFS($B$32:$B$1857,$D$32:$D$1857,$B14,$E$32:$E$1857,G$7) -> 397045792 | H14: =SUMIFS($B$32:$B$1857,$D$32:$D$1857,$B14,$E$32:$E$1857,H$7) -> 400275890 | I14: =SUMIFS($B$32:$B$1857,$D$32:$D$1857,$B14,$E$32:$E$1857,I$7) -> 439143049 | J14: =SUMIFS($B$32:$B$1857,$D$32:$D$1857,$B14,$E$32:$E$1857,J$7) -> 492314210 | K14: =SUMIFS($B$32:$B$1857,$D$32:$D$1857,$B14,$E$32:$E$1857,K$7) -> 475381610 | ... O14: =SUMIFS($B$32:$B$1857,$D$32:$D$1857,$B14,$E$32:$E$1857,O$7) -> 457431738
B15: =B14+0.1 -> 2020.1 | C15: average of daily average | D15: =AVERAGEIFS($C$32:$C$1857,$D$32:$D$1857,$B14,$E$32:$E$1857,D$7) -> 607511.94 | E15: =AVERAGEIFS($C$32:$C$1857,$D$32:$D$1857,$B14,$E$32:$E$1857,E$7) -> 579963.82 | F15: =AVERAGEIFS($C$32:$C$1857,$D$32:$D$1857,$B14,$E$32:$E$1857,F$7) -> 548038.37 | G15: =AVERAGEIFS($C$32:$C$1857,$D$32:$D$1857,$B14,$E$32:$E$1857,G$7) -> 551452.49 | H15: =AVERAGEIFS($C$32:$C$1857,$D$32:$D$1857,$B14,$E$32:$E$1857,H$7) -> 538005.23 | I15: =AVERAGEIFS($C$32:$C$1857,$D$32:$D$1857,$B14,$E$32:$E$1857,I$7) -> 609920.9 | J15: =AVERAGEIFS($C$32:$C$1857,$D$32:$D$1857,$B14,$E$32:$E$1857,J$7) -> 661712.65 | K15: =AVERAGEIFS($C$32:$C$1857,$D$32:$D$1857,$B14,$E$32:$E$1857,K$7) -> 638953.78 | ... O15: =AVERAGEIFS($C$32:$C$1857,$D$32:$D$1857,$B14,$E$32:$E$1857,O$7) -> 614827.6
B16: 2021 | C16: Sum of daily sum | D16: =SUMIFS($B$32:$B$1857,$D$32:$D$1857,$B16,$E$32:$E$1857,D$7) -> 448519985 | E16: =SUMIFS($B$32:$B$1857,$D$32:$D$1857,$B16,$E$32:$E$1857,E$7) -> 418569642 | F16: =SUMIFS($B$32:$B$1857,$D$32:$D$1857,$B16,$E$32:$E$1857,F$7) -> 424914628 | G16: =SUMIFS($B$32:$B$1857,$D$32:$D$1857,$B16,$E$32:$E$1857,G$7) -> 428715477 | H16: =SUMIFS($B$32:$B$1857,$D$32:$D$1857,$B16,$E$32:$E$1857,H$7) -> 464492259 | I16: =SUMIFS($B$32:$B$1857,$D$32:$D$1857,$B16,$E$32:$E$1857,I$7) -> 522354369 | J16: =SUMIFS($B$32:$B$1857,$D$32:$D$1857,$B16,$E$32:$E$1857,J$7) -> 559132195 | K16: =SUMIFS($B$32:$B$1857,$D$32:$D$1857,$B16,$E$32:$E$1857,K$7) -> 511470693 | ... O16: =SUMIFS($B$32:$B$1857,$D$32:$D$1857,$B16,$E$32:$E$1857,O$7) -> 499849473
B17: =B16+0.1 -> 2021.1 | C17: average of daily average | D17: =AVERAGEIFS($C$32:$C$1857,$D$32:$D$1857,$B16,$E$32:$E$1857,D$7) -> 602849.44 | E17: =AVERAGEIFS($C$32:$C$1857,$D$32:$D$1857,$B16,$E$32:$E$1857,E$7) -> 622871.49 | F17: =AVERAGEIFS($C$32:$C$1857,$D$32:$D$1857,$B16,$E$32:$E$1857,F$7) -> 571892.42 | G17: =AVERAGEIFS($C$32:$C$1857,$D$32:$D$1857,$B16,$E$32:$E$1857,G$7) -> 595438.16 | H17: =AVERAGEIFS($C$32:$C$1857,$D$32:$D$1857,$B16,$E$32:$E$1857,H$7) -> 624317.55 | I17: =AVERAGEIFS($C$32:$C$1857,$D$32:$D$1857,$B16,$E$32:$E$1857,I$7) -> 725492.18 | J17: =AVERAGEIFS($C$32:$C$1857,$D$32:$D$1857,$B16,$E$32:$E$1857,J$7) -> 751521.77 | K17: =AVERAGEIFS($C$32:$C$1857,$D$32:$D$1857,$B16,$E$32:$E$1857,K$7) -> 687460.61 | ... O17: =AVERAGEIFS($C$32:$C$1857,$D$32:$D$1857,$B16,$E$32:$E$1857,O$7) -> 671840.69
B18: 2022 | C18: Sum of daily sum | D18: =SUMIFS($B$32:$B$1857,$D$32:$D$1857,$B18,$E$32:$E$1857,D$7) -> 526701387 | E18: =SUMIFS($B$32:$B$1857,$D$32:$D$1857,$B18,$E$32:$E$1857,E$7) -> 453693277 | F18: =SUMIFS($B$32:$B$1857,$D$32:$D$1857,$B18,$E$32:$E$1857,F$7) -> 449151923 | G18: =SUMIFS($B$32:$B$1857,$D$32:$D$1857,$B18,$E$32:$E$1857,G$7) -> 460034494 | H18: =SUMIFS($B$32:$B$1857,$D$32:$D$1857,$B18,$E$32:$E$1857,H$7) -> 480695034 | I18: =SUMIFS($B$32:$B$1857,$D$32:$D$1857,$B18,$E$32:$E$1857,I$7) -> 492732027 | J18: =SUMIFS($B$32:$B$1857,$D$32:$D$1857,$B18,$E$32:$E$1857,J$7) -> 582944258 | K18: =SUMIFS($B$32:$B$1857,$D$32:$D$1857,$B18,$E$32:$E$1857,K$7) -> 581345197 | ... O18: =SUMIFS($B$32:$B$1857,$D$32:$D$1857,$B18,$E$32:$E$1857,O$7) -> 0
B19: =B18+0.1 -> 2022.1 | C19: average of daily average | D19: =AVERAGEIFS($C$32:$C$1857,$D$32:$D$1857,$B18,$E$32:$E$1857,D$7) -> 707931.97 | E19: =AVERAGEIFS($C$32:$C$1857,$D$32:$D$1857,$B18,$E$32:$E$1857,E$7) -> 675138.81 | F19: =AVERAGEIFS($C$32:$C$1857,$D$32:$D$1857,$B18,$E$32:$E$1857,F$7) -> 604500.68 | G19: =AVERAGEIFS($C$32:$C$1857,$D$32:$D$1857,$B18,$E$32:$E$1857,G$7) -> 638936.8 | H19: =AVERAGEIFS($C$32:$C$1857,$D$32:$D$1857,$B18,$E$32:$E$1857,H$7) -> 646095.48 | I19: =AVERAGEIFS($C$32:$C$1857,$D$32:$D$1857,$B18,$E$32:$E$1857,I$7) -> 684350.04 | J19: =AVERAGEIFS($C$32:$C$1857,$D$32:$D$1857,$B18,$E$32:$E$1857,J$7) -> 783527.23 | K19: =AVERAGEIFS($C$32:$C$1857,$D$32:$D$1857,$B18,$E$32:$E$1857,K$7) -> 781377.95 | L19: =AVERAGEIFS($C$32:$C$1857,$D$32:$D$1857,$B18,$E$32:$E$1857,L$7) -> 656626.55
A31: dt | B31: daily sum | C31: daily average | D31: year | E31: month | F31: customer | G31: meter | H31: hr count | I31: units | J31: date | K31: hr1 | L31: hr2 | M31: hr3 | N31: hr4 | O31: hr5 | P31: hr6 | Q31: hr7 | R31: hr8 | S31: hr9 | T31: hr10 | U31: hr11 | V31: hr12 | W31: hr13 | X31: hr14 | Y31: hr15 | Z31: hr16 | AA31: hr17 | AB31: hr18 | AC31: hr19 | AD31: hr20 | AE31: hr21 | AF31: hr22 | AG31: hr23 | AH31: hr24
A32: =J32 -> 43009 | B32: 11792513 | C32: =B32/H32 -> 491354.71 | D32: =YEAR(J32) -> 2017 | E32: =MONTH(J32) -> 10 | F32: 10190 | G32: TOTAL | H32: 24 | I32: kWh | J32: 43009
A33: =J33 -> 43010 | B33: 12435846 | C33: =B33/H33 -> 518160.25 | D33: =YEAR(J33) -> 2017 | E33: =MONTH(J33) -> 10 | F33: 10190 | G33: TOTAL | H33: 24 | I33: kWh | J33: 43010
A34: =J34 -> 43011 | B34: 12719943 | C34: =B34/H34 -> 529997.62 | D34: =YEAR(J34) -> 2017 | E34: =MONTH(J34) -> 10 | F34: 10190 | G34: TOTAL | H34: 24 | I34: kWh | J34: 43011
A35: =J35 -> 43012 | B35: 13045205 | C35: =B35/H35 -> 543550.21 | D35: =YEAR(J35) -> 2017 | E35: =MONTH(J35) -> 10 | F35: 10190 | G35: TOTAL | H35: 24 | I35: kWh | J35: 43012
A36: =J36 -> 43013 | B36: 13144724 | C36: =B36/H36 -> 547696.83 | D36: =YEAR(J36) -> 2017 | E36: =MONTH(J36) -> 10 | F36: 10190 | G36: TOTAL | H36: 24 | I36: kWh | J36: 43013
A37: =J37 -> 43014 | B37: 12989481 | C37: =B37/H37 -> 541228.38 | D37: =YEAR(J37) -> 2017 | E37: =MONTH(J37) -> 10 | F37: 10190 | G37: TOTAL | H37: 24 | I37: kWh | J37: 43014
A38: =J38 -> 43015 | B38: 12351719 | C38: =B38/H38 -> 514654.96 | D38: =YEAR(J38) -> 2017 | E38: =MONTH(J38) -> 10 | F38: 10190 | G38: TOTAL | H38: 24 | I38: kWh | J38: 43015
A39: =J39 -> 43016 | B39: 12212516 | C39: =B39/H39 -> 508854.83 | D39: =YEAR(J39) -> 2017 | E39: =MONTH(J39) -> 10 | F39: 10190 | G39: TOTAL | H39: 24 | I39: kWh | J39: 43016
A40: =J40 -> 43017 | B40: 12907200 | C40: =B40/H40 -> 537800 | D40: =YEAR(J40) -> 2017 | E40: =MONTH(J40) -> 10 | F40: 10190 | G40: TOTAL | H40: 24 | I40: kWh | J40: 43017
A41: =J41 -> 43018 | B41: 13241430 | C41: =B41/H41 -> 551726.25 | D41: =YEAR(J41) -> 2017 | E41: =MONTH(J41) -> 10 | F41: 10190 | G41: TOTAL | H41: 24 | I41: kWh | J41: 43018
A42: =J42 -> 43019 | B42: 13432800 | C42: =B42/H42 -> 559700 | D42: =YEAR(J42) -> 2017 | E42: =MONTH(J42) -> 10 | F42: 10190 | G42: TOTAL | H42: 24 | I42: kWh | J42: 43019
A43: =J43 -> 43020 | B43: 13857630 | C43: =B43/H43 -> 577401.25 | D43: =YEAR(J43) -> 2017 | E43: =MONTH(J43) -> 10 | F43: 10190 | G43: TOTAL | H43: 24 | I43: kWh | J43: 43020
... A1857: =J1857 -> 44834 | B1857: 15246601 | C1857: =B1857/H1857 -> 635275.04 | D1857: =YEAR(J1857) -> 2022 | E1857: =MONTH(J1857) -> 9 | F1857: 10190 | G1857: TOTAL | H1857: 24 | I1857: kWh | J1857: 44834
A1858: =J1858 -> 44835 | B1858: 15050843 | C1858: =B1858/H1858 -> 627118.46 | D1858: =YEAR(J1858) -> 2022 | E1858: =MONTH(J1858) -> 10 | F1858: 10190 | G1858: TOTAL | H1858: 24 | I1858: kWh | J1858: 44835 | K1858: 593383 | L1858: 591302 | M1858: 583208 | N1858: 584236 | O1858: 585671 | P1858: 591825 | Q1858: 594106 | R1858: 601893 | S1858: 607538 | T1858: 625176 | U1858: 634368 | V1858: 635765 | W1858: 639524 | X1858: 641584 | Y1858: 654578 | Z1858: 655715 | AA1858: 660559 | AB1858: 657135 | AC1858: 645230 | AD1858: 640855 | AE1858: 627902 | AF1858: 612463 | AG1858: 606847 | AH1858: 594271
A1859: =J1859 -> 44836 | B1859: 14883868 | C1859: =B1859/H1859 -> 620161.17 | D1859: =YEAR(J1859) -> 2022 | E1859: =MONTH(J1859) -> 10 | F1859: 10190 | G1859: TOTAL | H1859: 24 | I1859: kWh | J1859: 44836 | K1859: 593170 | L1859: 583985 | M1859: 582023 | N1859: 582177 | O1859: 576131 | P1859: 579391 | Q1859: 580193 | R1859: 581443 | S1859: 595377 | T1859: 610778 | U1859: 620374 | V1859: 627181 | W1859: 629520 | X1859: 640885 | Y1859: 648893 | Z1859: 658809 | AA1859: 655391 | AB1859: 657926 | AC1859: 647545 | AD1859: 642081 | AE1859: 630806 | AF1859: 617942 | AG1859: 599093 | AH1859: 584432
A1860: =J1860 -> 44837 | B1860: 15061561 | C1860: =B1860/H1860 -> 627565.04 | D1860: =YEAR(J1860) -> 2022 | E1860: =MONTH(J1860) -> 10 | F1860: 10190 | G1860: TOTAL | H1860: 24 | I1860: kWh | J1860: 44837 | K1860: 581591 | L1860: 574650 | M1860: 570221 | N1860: 574854 | O1860: 571393 | P1860: 574349 | Q1860: 588336 | R1860: 600596 | S1860: 605185 | T1860: 614088 | U1860: 624720 | V1860: 630632 | W1860: 648068 | X1860: 657462 | Y1860: 669116 | Z1860: 667915 | AA1860: 672677 | AB1860: 671628 | AC1860: 662342 | AD1860: 657104 | AE1860: 633687 | AF1860: 622100 | AG1860: 605030 | AH1860: 595004
A1861: =J1861 -> 44838 | B1861: 15221150 | C1861: =B1861/H1861 -> 634214.58 | D1861: =YEAR(J1861) -> 2022 | E1861: =MONTH(J1861) -> 10 | F1861: 10190 | G1861: TOTAL | H1861: 24 | I1861: kWh | J1861: 44838 | K1861: 583328 | L1861: 577944 | M1861: 574914 | N1861: 567828 | O1861: 573896 | P1861: 594321 | Q1861: 612125 | R1861: 618133 | S1861: 620973 | T1861: 621407 | U1861: 630818 | V1861: 640031 | W1861: 651344 | X1861: 658015 | Y1861: 672544 | Z1861: 671699 | AA1861: 680278 | AB1861: 666162 | AC1861: 658604 | AD1861: 651968 | AE1861: 637966 | AF1861: 626081 | AG1861: 608350 | AH1861: 594769
A1862: =J1862 -> 44839 | B1862: 15341081 | C1862: =B1862/H1862 -> 639211.71 | D1862: =YEAR(J1862) -> 2022 | E1862: =MONTH(J1862) -> 10 | F1862: 10190 | G1862: TOTAL | H1862: 24 | I1862: kWh | J1862: 44839 | K1862: 588270 | L1862: 584259 | M1862: 576050 | N1862: 578605 | O1862: 579324 | P1862: 589875 | Q1862: 611764 | R1862: 612923 | S1862: 617228 | T1862: 620041 | U1862: 634015 | V1862: 639599 | W1862: 648295 | X1862: 661232 | Y1862: 666938 | Z1862: 672593 | AA1862: 672608 | AB1862: 677482 | AC1862: 669534 | AD1862: 663861 | AE1862: 647587 | AF1862: 637749 | AG1862: 617052 | AH1862: 607200
A1863: =J1863 -> 44840 | B1863: 15954481 | C1863: =B1863/H1863 -> 664770.04 | D1863: =YEAR(J1863) -> 2022 | E1863: =MONTH(J1863) -> 10 | F1863: 10190 | G1863: TOTAL | H1863: 24 | I1863: kWh | J1863: 44840 | K1863: 599631 | L1863: 591194 | M1863: 584146 | N1863: 587774 | O1863: 597312 | P1863: 614075 | Q1863: 629271 | R1863: 633303 | S1863: 639044 | T1863: 649350 | U1863: 666096 | V1863: 676973 | W1863: 688001 | X1863: 704328 | Y1863: 709139 | Z1863: 707539 | AA1863: 710398 | AB1863: 699822 | AC1863: 695809 | AD1863: 686694 | AE1863: 678951 | AF1863: 657022 | AG1863: 645542 | AH1863: 631155
A1864: =J1864 -> 44841 | B1864: 15745781 | C1864: =B1864/H1864 -> 656074.21 | D1864: =YEAR(J1864) -> 2022 | E1864: =MONTH(J1864) -> 10 | F1864: 10190 | G1864: TOTAL | H1864: 24 | I1864: kWh | J1864: 44841 | K1864: 624160 | L1864: 608029 | M1864: 613922 | N1864: 610229 | O1864: 618205 | P1864: 626810 | Q1864: 638150 | R1864: 648421 | S1864: 649637 | T1864: 651483 | U1864: 658505 | V1864: 672732 | W1864: 674608 | X1864: 684768 | Y1864: 688689 | Z1864: 690255 | AA1864: 687525 | AB1864: 680839 | AC1864: 672351 | AD1864: 658647 | AE1864: 650251 | AF1864: 635867 | AG1864: 620251 | AH1864: 605502
A1865: =J1865 -> 44842 | B1865: 14981981 | C1865: =B1865/H1865 -> 624249.21 | D1865: =YEAR(J1865) -> 2022 | E1865: =MONTH(J1865) -> 10 | F1865: 10190 | G1865: TOTAL | H1865: 24 | I1865: kWh | J1865: 44842 | K1865: 598977 | L1865: 589689 | M1865: 583979 | N1865: 592013 | O1865: 588299 | P1865: 597332 | Q1865: 602779 | R1865: 597415 | S1865: 614926 | T1865: 615584 | U1865: 620047 | V1865: 622965 | W1865: 631323 | X1865: 641636 | Y1865: 647241 | Z1865: 657609 | AA1865: 653303 | AB1865: 649991 | AC1865: 640913 | AD1865: 637138 | AE1865: 628284 | AF1865: 614233 | AG1865: 606557 | AH1865: 599582
A1866: =J1866 -> 44843 | B1866: 14971683 | C1866: =B1866/H1866 -> 623820.12 | D1866: =YEAR(J1866) -> 2022 | E1866: =MONTH(J1866) -> 10 | F1866: 10190 | G1866: TOTAL | H1866: 24 | I1866: kWh | J1866: 44843 | K1866: 591711 | L1866: 586614 | M1866: 585840 | N1866: 580658 | O1866: 589890 | P1866: 587213 | Q1866: 591652 | R1866: 601676 | S1866: 609086 | T1866: 618382 | U1866: 617599 | V1866: 624537 | W1866: 631124 | X1866: 638581 | Y1866: 644940 | Z1866: 651234 | AA1866: 651665 | AB1866: 649870 | AC1866: 646321 | AD1866: 646220 | AE1866: 633696 | AF1866: 624144 | AG1866: 612593 | AH1866: 597123
A1867: =J1867 -> 44844 | B1867: 15624487 | C1867: =B1867/H1867 -> 651020.29 | D1867: =YEAR(J1867) -> 2022 | E1867: =MONTH(J1867) -> 10 | F1867: 10190 | G1867: TOTAL | H1867: 24 | I1867: kWh | J1867: 44844 | K1867: 590489 | L1867: 591318 | M1867: 591732 | N1867: 594210 | O1867: 594237 | P1867: 613988 | Q1867: 630274 | R1867: 637683 | S1867: 648676 | T1867: 651223 | U1867: 655321 | V1867: 660425 | W1867: 666898 | X1867: 670267 | Y1867: 678136 | Z1867: 677173 | AA1867: 678659 | AB1867: 674842 | AC1867: 675241 | AD1867: 668065 | AE1867: 663079 | AF1867: 648309 | AG1867: 632858 | AH1867: 622032
A1868: =J1868 -> 44845 | B1868: 15924522 | C1868: =B1868/H1868 -> 663521.75 | D1868: =YEAR(J1868) -> 2022 | E1868: =MONTH(J1868) -> 10 | F1868: 10190 | G1868: TOTAL | H1868: 24 | I1868: kWh | J1868: 44845 | K1868: 613691 | L1868: 607819 | M1868: 604403 | N1868: 607392 | O1868: 616560 | P1868: 628237 | Q1868: 644132 | R1868: 654832 | S1868: 657919 | T1868: 663341 | U1868: 669077 | V1868: 671916 | W1868: 677022 | X1868: 682142 | Y1868: 686020 | Z1868: 691003 | AA1868: 689925 | AB1868: 688280 | AC1868: 685152 | AD1868: 680439 | AE1868: 670094 | AF1868: 652325 | AG1868: 639060 | AH1868: 621693
A1869: =J1869 -> 44846 | B1869: 15954765 | C1869: =B1869/H1869 -> 664781.88 | D1869: =YEAR(J1869) -> 2022 | E1869: =MONTH(J1869) -> 10 | F1869: 10190 | G1869: TOTAL | H1869: 24 | I1869: kWh | J1869: 44846 | K1869: 615522 | L1869: 609660 | M1869: 605212 | N1869: 617641 | O1869: 616210 | P1869: 636406 | Q1869: 654196 | R1869: 660028 | S1869: 666326 | T1869: 665290 | U1869: 667213 | V1869: 673839 | W1869: 671121 | X1869: 676590 | Y1869: 674868 | Z1869: 681669 | AA1869: 683220 | AB1869: 684089 | AC1869: 673514 | AD1869: 677542 | AE1869: 666784 | AF1869: 650070 | AG1869: 628447 | AH1869: 626563
... A2019: =J2019 -> 44996 | B2019: 15117554 | C2019: =B2019/H2019 -> 93318.235 | D2019: =YEAR(J2019) -> 2023 | E2019: =MONTH(J2019) -> 3 | F2019: 10328 | G2019: TOTAL | H2019: 162 | I2019: kWh | J2019: 44996 | K2019: 642092 | L2019: 649217 | M2019: 647521 | N2019: 653549 | O2019: 663995 | P2019: 679774 | Q2019: 690705 | R2019: 678141 | S2019: 661869 | T2019: 638127 | U2019: 610306 | V2019: 595697 | W2019: 584632 | X2019: 574151 | Y2019: 561418 | Z2019: 566282 | AA2019: 570320 | AB2019: 580844 | AC2019: 601700 | AD2019: 602527 | AE2019: 610253 | AF2019: 617714 | AG2019: 617900 | AH2019: 616816
A2020: =J2020 -> 44997 | B2020: 15147739 | C2020: =B2020/H2020 -> 92930.914 | D2020: =YEAR(J2020) -> 2023 | E2020: =MONTH(J2020) -> 3 | F2020: 10329 | G2020: TOTAL | H2020: 163 | I2020: kWh | J2020: 44997 | K2020: 617472 | L2020: 630458 | M2020: NA | N2020: 635085 | O2020: 649047 | P2020: 659388 | Q2020: 669338 | R2020: 675706 | S2020: 662229 | T2020: 638500 | U2020: 621539 | V2020: 607630 | W2020: 598863 | X2020: 591912 | Y2020: 588391 | Z2020: 593487 | AA2020: 595076 | AB2020: 612115 | AC2020: 611750 | AD2020: 626936 | AE2020: 624175 | AF2020: 617256 | AG2020: 612649 | AH2020: 604040
A2021: =J2021 -> 44998 | B2021: 15301523 | C2021: =B2021/H2021 -> 93301.97 | D2021: =YEAR(J2021) -> 2023 | E2021: =MONTH(J2021) -> 3 | F2021: 10330 | G2021: TOTAL | H2021: 164 | I2021: kWh | J2021: 44998 | K2021: 603763 | L2021: 599136 | M2021: 605823 | N2021: 611656 | O2021: 624283 | P2021: 641870 | Q2021: 664967 | R2021: 674563 | S2021: 674127 | T2021: 654354 | U2021: 644108 | V2021: 629376 | W2021: 614210 | X2021: 609687 | Y2021: 603878 | Z2021: 612492 | AA2021: 628735 | AB2021: 624469 | AC2021: 626148 | AD2021: 633625 | AE2021: 637794 | AF2021: 629209 | AG2021: 623296 | AH2021: 621509
A2022: =J2022 -> 44999 | B2022: 15315455 | C2022: =B2022/H2022 -> 92820.939 | D2022: =YEAR(J2022) -> 2023 | E2022: =MONTH(J2022) -> 3 | F2022: 10331 | G2022: TOTAL | H2022: 165 | I2022: kWh | J2022: 44999 | K2022: 626931 | L2022: 624811 | M2022: 634420 | N2022: 644091 | O2022: 659544 | P2022: 676695 | Q2022: 707207 | R2022: 714571 | S2022: 691212 | T2022: 659579 | U2022: 638541 | V2022: 621348 | W2022: 603745 | X2022: 593952 | Y2022: 584625 | Z2022: 586911 | AA2022: 583803 | AB2022: 591031 | AC2022: 605875 | AD2022: 615793 | AE2022: 631213 | AF2022: 619912 | AG2022: 611602 | AH2022: 611440
A2023: =J2023 -> 45000 | B2023: 15330012 | C2023: =B2023/H2023 -> 92349.47 | D2023: =YEAR(J2023) -> 2023 | E2023: =MONTH(J2023) -> 3 | F2023: 10332 | G2023: TOTAL | H2023: 166 | I2023: kWh | J2023: 45000 | K2023: 611594 | L2023: 615035 | M2023: 626687 | N2023: 640144 | O2023: 654335 | P2023: 685341 | Q2023: 712482 | R2023: 715440 | S2023: 688980 | T2023: 649809 | U2023: 634131 | V2023: 618261 | W2023: 606755 | X2023: 601786 | Y2023: 591418 | Z2023: 583605 | AA2023: 582661 | AB2023: 593108 | AC2023: 599189 | AD2023: 623028 | AE2023: 629467 | AF2023: 628181 | AG2023: 619714 | AH2023: 619945
A2024: =J2024 -> 45001 | B2024: 15451393 | C2024: =B2024/H2024 -> 92523.311 | D2024: =YEAR(J2024) -> 2023 | E2024: =MONTH(J2024) -> 3 | F2024: 10333 | G2024: TOTAL | H2024: 167 | I2024: kWh | J2024: 45001 | K2024: 616953 | L2024: 626880 | M2024: 638112 | N2024: 653317 | O2024: 666059 | P2024: 692254 | Q2024: 722925 | R2024: 733594 | S2024: 707949 | T2024: 680673 | U2024: 648610 | V2024: 628845 | W2024: 614691 | X2024: 604336 | Y2024: 594101 | Z2024: 587774 | AA2024: 580869 | AB2024: 584531 | AC2024: 594566 | AD2024: 610183 | AE2024: 623420 | AF2024: 627026 | AG2024: 612185 | AH2024: 611921
A2025: =J2025 -> 45002 | B2025: 15190191 | C2025: =B2025/H2025 -> 90417.804 | D2025: =YEAR(J2025) -> 2023 | E2025: =MONTH(J2025) -> 3 | F2025: 10334 | G2025: TOTAL | H2025: 168 | I2025: kWh | J2025: 45002 | K2025: 617013 | L2025: 620825 | M2025: 628345 | N2025: 640993 | O2025: 654385 | P2025: 680554 | Q2025: 707343 | R2025: 717832 | S2025: 694780 | T2025: 669761 | U2025: 645328 | V2025: 623352 | W2025: 603645 | X2025: 592120 | Y2025: 582233 | Z2025: 582513 | AA2025: 577772 | AB2025: 580226 | AC2025: 587357 | AD2025: 596483 | AE2025: 603120 | AF2025: 604202 | AG2025: 602727 | AH2025: 602412
A2026: =J2026 -> 45003 | B2026: 14587273 | C2026: =B2026/H2026 -> 86315.225 | D2026: =YEAR(J2026) -> 2023 | E2026: =MONTH(J2026) -> 3 | F2026: 10335 | G2026: TOTAL | H2026: 169 | I2026: kWh | J2026: 45003 | K2026: 604350 | L2026: 604995 | M2026: 610147 | N2026: 619791 | O2026: 627405 | P2026: 641281 | Q2026: 661457 | R2026: 670861 | S2026: 661387 | T2026: 638152 | U2026: 617598 | V2026: 598736 | W2026: 585322 | X2026: 573791 | Y2026: 563823 | Z2026: 561924 | AA2026: 556571 | AB2026: 559073 | AC2026: 563286 | AD2026: 575775 | AE2026: 583508 | AF2026: 580995 | AG2026: 584797 | AH2026: 584578
A2027: =J2027 -> 45004 | B2027: 14456487 | C2027: =B2027/H2027 -> 85038.159 | D2027: =YEAR(J2027) -> 2023 | E2027: =MONTH(J2027) -> 3 | F2027: 10336 | G2027: TOTAL | H2027: 170 | I2027: kWh | J2027: 45004 | K2027: 586147 | L2027: 587932 | M2027: 597263 | N2027: 602508 | O2027: 611518 | P2027: 616190 | Q2027: 625898 | R2027: 640696 | S2027: 645364 | T2027: 626645 | U2027: 614204 | V2027: 600197 | W2027: 586939 | X2027: 573424 | Y2027: 571155 | Z2027: 563200 | AA2027: 566620 | AB2027: 569627 | AC2027: 581918 | AD2027: 590285 | AE2027: 595243 | AF2027: 589896 | AG2027: 581492 | AH2027: 576598
A2028: =J2028 -> 45005 | B2028: 15040832 | C2028: =B2028/H2028 -> 87958.082 | D2028: =YEAR(J2028) -> 2023 | E2028: =MONTH(J2028) -> 3 | F2028: 10337 | G2028: TOTAL | H2028: 171 | I2028: kWh | J2028: 45005 | K2028: 571376 | L2028: 571701 | M2028: 572179 | N2028: 581290 | O2028: 591145 | P2028: 611314 | Q2028: 638135 | R2028: 651621 | S2028: 651782 | T2028: 649089 | U2028: 641755 | V2028: 634115 | W2028: 629373 | X2028: 626688 | Y2028: 623049 | Z2028: 617567 | AA2028: 616821 | AB2028: 623357 | AC2028: 628230 | AD2028: 634471 | AE2028: 636495 | AF2028: 629284 | AG2028: 611013 | AH2028: 604069
A2029: =J2029 -> 45006 | B2029: 14670504 | C2029: =B2029/H2029 -> 85293.628 | D2029: =YEAR(J2029) -> 2023 | E2029: =MONTH(J2029) -> 3 | F2029: 10338 | G2029: TOTAL | H2029: 172 | I2029: kWh | J2029: 45006 | K2029: 595834 | L2029: 591474 | M2029: 597598 | N2029: 600106 | O2029: 611108 | P2029: 628664 | Q2029: 659905 | R2029: 669809 | S2029: 653950 | T2029: 637579 | U2029: 614066 | V2029: 606527 | W2029: 593682 | X2029: 590992 | Y2029: 588415 | Z2029: 583200 | AA2029: 581410 | AB2029: 578392 | AC2029: 579324 | AD2029: 589000 | AE2029: 600684 | AF2029: 595429 | AG2029: 583769 | AH2029: 590277
A2030: =J2030 -> 45007 | B2030: 14684906 | C2030: =B2030/H2030 -> 84883.85 | D2030: =YEAR(J2030) -> 2023 | E2030: =MONTH(J2030) -> 3 | F2030: 10339 | G2030: TOTAL | H2030: 173 | I2030: kWh | J2030: 45007 | K2030: 586170 | L2030: 594892 | M2030: 603363 | N2030: 607392 | O2030: 626909 | P2030: 646673 | Q2030: 677515 | R2030: 683480 | S2030: 663664 | T2030: 632382 | U2030: 613911 | V2030: 596650 | W2030: 587343 | X2030: 581247 | Y2030: 576640 | Z2030: 574449 | AA2030: 574756 | AB2030: 578885 | AC2030: 574098 | AD2030: 589836 | AE2030: 590440 | AF2030: 592473 | AG2030: 585077 | AH2030: 580283
A2031: =J2031 -> 45008 | B2031: 15111308 | C2031: =B2031/H2031 -> 86846.598 | D2031: =YEAR(J2031) -> 2023 | E2031: =MONTH(J2031) -> 3 | F2031: 10340 | G2031: TOTAL | H2031: 174 | I2031: kWh | J2031: 45008 | K2031: 589971 | L2031: 593914 | M2031: 606518 | N2031: 615637 | O2031: 629688 | P2031: 653072 | Q2031: 678408 | R2031: 684082 | S2031: 673934 | T2031: 645299 | U2031: 624112 | V2031: 611636 | W2031: 609034 | X2031: 604209 | Y2031: 600606 | Z2031: 601453 | AA2031: 596269 | AB2031: 598922 | AC2031: 605023 | AD2031: 622678 | AE2031: 629701 | AF2031: 622207 | AG2031: 613718 | AH2031: 609860
A2032: =J2032 -> 45009 | B2032: 15560013 | C2032: =B2032/H2032 -> 88914.36 | D2032: =YEAR(J2032) -> 2023 | E2032: =MONTH(J2032) -> 3 | F2032: 10341 | G2032: TOTAL | H2032: 175 | I2032: kWh | J2032: 45009 | K2032: 606957 | L2032: 608527 | M2032: 617914 | N2032: 629586 | O2032: 647618 | P2032: 673230 | Q2032: 697542 | R2032: 709819 | S2032: 686130 | T2032: 663123 | U2032: 649584 | V2032: 643920 | W2032: 632618 | X2032: 623741 | Y2032: 619791 | Z2032: 614369 | AA2032: 615407 | AB2032: 622193 | AC2032: 621804 | AD2032: 637829 | AE2032: 644497 | AF2032: 640478 | AG2032: 630727 | AH2032: 627208
... A2222: =J2222 -> 45199 | B2222: 15104427 | C2222: =B2222/H2222 -> 41381.992 | D2222: =YEAR(J2222) -> 2023 | E2222: =MONTH(J2222) -> 9 | F2222: 10531 | G2222: TOTAL | H2222: 365 | I2222: kWh | J2222: 45199 | K2222: 609260 | L2222: 609264 | M2222: 606452 | N2222: 608513 | O2222: 612022 | P2222: 623900 | Q2222: 634474 | R2222: 644605 | S2222: 644914 | T2222: 647938 | U2222: 639687 | V2222: 638083 | W2222: 628102 | X2222: 631479 | Y2222: 629005 | Z2222: 624615 | AA2222: 625694 | AB2222: 624680 | AC2222: 622215 | AD2222: 625117 | AE2222: 622596 | AF2222: 610829 | AG2222: 596175 | AH2222: 593959

Sheet Non-Irr load
A1: ='metered data'!A1 -> Grant PUD
C4: Non-Irrigation Load (KWh)
C5: month
A6: Calendar Year | B6: data | C6: 1 | D6: 2 | E6: 3 | F6: 4 | G6: 5 | H6: 6 | I6: 7 | J6: 8 | K6: 9 | L6: 10 | M6: 11 | N6: 12
A7: 2017 | B7: Sum of daily sum | L7: ='metered data'!M8-'Monthly Irrigation'!L34 -> 348485040 | M7: ='metered data'!N8-'Monthly Irrigation'!M34 -> 383677141 | N7: ='metered data'!O8-'Monthly Irrigation'!N34 -> 437451197
A8: =A7+0.1 -> 2017.1 | B8: average of daily average | L8: ='metered data'!M9-'Monthly Irrigation'!L35 -> 517638.51 | M8: ='metered data'!N9-'Monthly Irrigation'!M35 -> 535266.95 | N8: ='metered data'!O9-'Monthly Irrigation'!N35 -> 587971.46
A9: 2018 | B9: Sum of daily sum | C9: ='metered data'!D10-'Monthly Irrigation'!C36 -> 431803693 | D9: ='metered data'!E10-'Monthly Irrigation'!D36 -> 390795973 | E9: ='metered data'!F10-'Monthly Irrigation'!E36 -> 397580573 | F9: ='metered data'!G10-'Monthly Irrigation'!F36 -> 372492918 | G9: ='metered data'!H10-'Monthly Irrigation'!G36 -> 354940487 | H9: ='metered data'!I10-'Monthly Irrigation'!H36 -> 333463554 | I9: ='metered data'!J10-'Monthly Irrigation'!I36 -> 349591637 | J9: ='metered data'!K10-'Monthly Irrigation'!J36 -> 352627293 | ... N9: ='metered data'!O10-'Monthly Irrigation'!N36 -> 444339322
A10: =A9+0.1 -> 2018.1 | B10: average of daily average | C10: =C9/C$23 -> 580381.31 | D10: =D9/D$23 -> 581541.63 | E10: =E9/E$23 -> 535101.71 | F10: =F9/F$23 -> 517351.28 | G10: =G9/G$23 -> 477070.55 | H10: =H9/H$23 -> 463143.83 | I10: =I9/I$23 -> 469881.23 | J10: =J9/J$23 -> 473961.42 | ... N10: =N9/N$23 -> 597230.27
A11: 2019 | B11: Sum of daily sum | C11: ='metered data'!D12-'Monthly Irrigation'!C38 -> 449901372 | D11: ='metered data'!E12-'Monthly Irrigation'!D38 -> 438248239 | E11: ='metered data'!F12-'Monthly Irrigation'!E38 -> 425760187 | F11: ='metered data'!G12-'Monthly Irrigation'!F38 -> 354286588 | G11: ='metered data'!H12-'Monthly Irrigation'!G38 -> 358992003 | H11: ='metered data'!I12-'Monthly Irrigation'!H38 -> 336111833 | I11: ='metered data'!J12-'Monthly Irrigation'!I38 -> 341319756 | J11: ='metered data'!K12-'Monthly Irrigation'!J38 -> 353284951 | ... N11: ='metered data'!O12-'Monthly Irrigation'!N38 -> 442249630
A12: =A11+0.1 -> 2019.1 | B12: average of daily average | C12: =C11/C$23 -> 604706.15 | D12: =D11/D$23 -> 652155.12 | E12: =E11/E$23 -> 573028.52 | F12: =F11/F$23 -> 492064.71 | G12: =G11/G$23 -> 482516.13 | H12: =H11/H$23 -> 466821.99 | I12: =I11/I$23 -> 458763.11 | J12: =J11/J$23 -> 474845.36 | ... N12: =N11/N$23 -> 594421.55
A13: 2020 | B13: Sum of daily sum | C13: ='metered data'!D14-'Monthly Irrigation'!C40 -> 451988883 | D13: ='metered data'!E14-'Monthly Irrigation'!D40 -> 403654821 | E13: ='metered data'!F14-'Monthly Irrigation'!E40 -> 405284778 | F13: ='metered data'!G14-'Monthly Irrigation'!F40 -> 375540182 | G13: ='metered data'!H14-'Monthly Irrigation'!G40 -> 329118390 | H13: ='metered data'!I14-'Monthly Irrigation'!H40 -> 317788759 | I13: ='metered data'!J14-'Monthly Irrigation'!I40 -> 337757450 | J13: ='metered data'!K14-'Monthly Irrigation'!J40 -> 331213890 | ... N13: ='metered data'!O14-'Monthly Irrigation'!N40 -> 457431738
A14: =A13+0.1 -> 2020.1 | B14: average of daily average | C14: =C13/C$23 -> 607511.94 | D14: =D13/(D$23+24) -> 579963.82 | E14: =E13/E$23 -> 545470.76 | F14: =F13/F$23 -> 521583.59 | G14: =G13/G$23 -> 442363.43 | H14: =H13/H$23 -> 441373.28 | I14: =I13/I$23 -> 453975.07 | J14: =J13/J$23 -> 445179.96 | K14: =K13/K$23 -> 441416.67 | L14: =L13/L$23 -> 514922.97 | ... N14: =N13/N$23 -> 614827.6
A15: 2021 | B15: Sum of daily sum | C15: ='metered data'!D16-'Monthly Irrigation'!C42 -> 447742635 | D15: ='metered data'!E16-'Monthly Irrigation'!D42 -> 418345282 | E15: ='metered data'!F16-'Monthly Irrigation'!E42 -> 410180388 | F15: ='metered data'!G16-'Monthly Irrigation'!F42 -> 357853917 | G15: ='metered data'!H16-'Monthly Irrigation'!G42 -> 354164689 | H15: ='metered data'!I16-'Monthly Irrigation'!H42 -> 382830549 | I15: ='metered data'!J16-'Monthly Irrigation'!I42 -> 401595285 | J15: ='metered data'!K16-'Monthly Irrigation'!J42 -> 392180203 | ... N15: ='metered data'!O16-'Monthly Irrigation'!N42 -> 498440403
A16: =A15+0.1 -> 2021.1 | B16: average of daily average | C16: =C15/C$23 -> 601804.62 | D16: =D15/D$23 -> 622537.62 | E16: =E15/E$23 -> 552059.74 | F16: =F15/F$23 -> 497019.33 | G16: =G15/G$23 -> 476027.81 | H16: =H15/H$23 -> 531709.1 | I16: =I15/I$23 -> 539778.61 | J16: =J15/J$23 -> 527123.93 | ... N16: =N15/N$23 -> 669946.78
A17: 2022 | B17: Sum of daily sum | C17: ='metered data'!D18-'Monthly Irrigation'!C44 -> 525660457 | D17: ='metered data'!E18-'Monthly Irrigation'!D44 -> 452738217 | E17: ='metered data'!F18-'Monthly Irrigation'!E44 -> 439538663 | F17: ='metered data'!G18-'Monthly Irrigation'!F44 -> 409305184 | G17: ='metered data'!H18-'Monthly Irrigation'!G44 -> 407027104 | H17: ='metered data'!I18-'Monthly Irrigation'!H44 -> 400115587 | I17: ='metered data'!J18-'Monthly Irrigation'!I44 -> 439655738 | J17: ='metered data'!K18-'Monthly Irrigation'!J44 -> 442748597 | K17: ='metered data'!L18-'Monthly Irrigation'!K44 -> 394256427
A18: =A17+0.1 -> 2022.1 | B18: average of daily average | C18: =C17/C$23 -> 706532.87 | D18: =D17/D$23 -> 673717.58 | E18: =E17/E$23 -> 591572.9 | F18: =F17/F$23 -> 568479.42 | G18: =G17/G$23 -> 547079.44 | H18: =H17/H$23 -> 555716.09 | I18: =I17/I$23 -> 590935.13 | J18: =J17/J$23 -> 595092.2 | ... N18: =N17/N$23 -> 0
A19: 2023 | B19: Sum of daily sum
A20: =A19+0.1 -> 2023.1 | B20: average of daily average
B23: hours per month | C23: 744 | D23: 672 | E23: 743 | F23: 720 | G23: 744 | H23: 720 | I23: 744 | J23: 744 | K23: 720 | L23: 744 | M23: 721 | N23: 744
B28: Daily Sum (kWh) | C28: Daily Average (akW) | D28: Year | E28: Month | F28: Day
A29: =DATE(D29,E29,F29) -> 43009 | B29: =C29*'metered data'!H32 -> 3242382.1 | C29: =SUMIFS('Regression Inputs'!$G$26:$G$1851,'Regression Inputs'!$B$26:$B$1851,A29) -> 135099.25 | D29: =YEAR('metered data'!J32) -> 2017 | E29: =MONTH('metered data'!J32) -> 10 | F29: =DAY('metered data'!J32) -> 1
A30: =DATE(D30,E30,F30) -> 43010 | B30: =C30*'metered data'!H33 -> 3932695.1 | C30: =SUMIFS('Regression Inputs'!$G$26:$G$1851,'Regression Inputs'!$B$26:$B$1851,A30) -> 163862.29 | D30: =YEAR('metered data'!J33) -> 2017 | E30: =MONTH('metered data'!J33) -> 10 | F30: =DAY('metered data'!J33) -> 2
A31: =DATE(D31,E31,F31) -> 43011 | B31: =C31*'metered data'!H34 -> 4261122.1 | C31: =SUMIFS('Regression Inputs'!$G$26:$G$1851,'Regression Inputs'!$B$26:$B$1851,A31) -> 177546.75 | D31: =YEAR('metered data'!J34) -> 2017 | E31: =MONTH('metered data'!J34) -> 10 | F31: =DAY('metered data'!J34) -> 3
A32: =DATE(D32,E32,F32) -> 43012 | B32: =C32*'metered data'!H35 -> 4631504.1 | C32: =SUMIFS('Regression Inputs'!$G$26:$G$1851,'Regression Inputs'!$B$26:$B$1851,A32) -> 192979.34 | D32: =YEAR('metered data'!J35) -> 2017 | E32: =MONTH('metered data'!J35) -> 10 | F32: =DAY('metered data'!J35) -> 4
A33: =DATE(D33,E33,F33) -> 43013 | B33: =C33*'metered data'!H36 -> 4774943.1 | C33: =SUMIFS('Regression Inputs'!$G$26:$G$1851,'Regression Inputs'!$B$26:$B$1851,A33) -> 198955.96 | D33: =YEAR('metered data'!J36) -> 2017 | E33: =MONTH('metered data'!J36) -> 10 | F33: =DAY('metered data'!J36) -> 5
A34: =DATE(D34,E34,F34) -> 43014 | B34: =C34*'metered data'!H37 -> 4664850.1 | C34: =SUMIFS('Regression Inputs'!$G$26:$G$1851,'Regression Inputs'!$B$26:$B$1851,A34) -> 194368.75 | D34: =YEAR('metered data'!J37) -> 2017 | E34: =MONTH('metered data'!J37) -> 10 | F34: =DAY('metered data'!J37) -> 6
A35: =DATE(D35,E35,F35) -> 43015 | B35: =C35*'metered data'!H38 -> 4072368.1 | C35: =SUMIFS('Regression Inputs'!$G$26:$G$1851,'Regression Inputs'!$B$26:$B$1851,A35) -> 169682 | D35: =YEAR('metered data'!J38) -> 2017 | E35: =MONTH('metered data'!J38) -> 10 | F35: =DAY('metered data'!J38) -> 7
A36: =DATE(D36,E36,F36) -> 43016 | B36: =C36*'metered data'!H39 -> 3979015.1 | C36: =SUMIFS('Regression Inputs'!$G$26:$G$1851,'Regression Inputs'!$B$26:$B$1851,A36) -> 165792.29 | D36: =YEAR('metered data'!J39) -> 2017 | E36: =MONTH('metered data'!J39) -> 10 | F36: =DAY('metered data'!J39) -> 8
A37: =DATE(D37,E37,F37) -> 43017 | B37: =C37*'metered data'!H40 -> 4720499.1 | C37: =SUMIFS('Regression Inputs'!$G$26:$G$1851,'Regression Inputs'!$B$26:$B$1851,A37) -> 196687.46 | D37: =YEAR('metered data'!J40) -> 2017 | E37: =MONTH('metered data'!J40) -> 10 | F37: =DAY('metered data'!J40) -> 9
A38: =DATE(D38,E38,F38) -> 43018 | B38: =C38*'metered data'!H41 -> 5101439.1 | C38: =SUMIFS('Regression Inputs'!$G$26:$G$1851,'Regression Inputs'!$B$26:$B$1851,A38) -> 212559.96 | D38: =YEAR('metered data'!J41) -> 2017 | E38: =MONTH('metered data'!J41) -> 10 | F38: =DAY('metered data'!J41) -> 10
A39: =DATE(D39,E39,F39) -> 43019 | B39: =C39*'metered data'!H42 -> 5341349.1 | C39: =SUMIFS('Regression Inputs'!$G$26:$G$1851,'Regression Inputs'!$B$26:$B$1851,A39) -> 222556.21 | D39: =YEAR('metered data'!J42) -> 2017 | E39: =MONTH('metered data'!J42) -> 10 | F39: =DAY('metered data'!J42) -> 11
A40: =DATE(D40,E40,F40) -> 43020 | B40: =C40*'metered data'!H43 -> 5816219.1 | C40: =SUMIFS('Regression Inputs'!$G$26:$G$1851,'Regression Inputs'!$B$26:$B$1851,A40) -> 242342.46 | D40: =YEAR('metered data'!J43) -> 2017 | E40: =MONTH('metered data'!J43) -> 10 | F40: =DAY('metered data'!J43) -> 12
... A1854: =DATE(D1854,E1854,F1854) -> 44834 | B1854: =C1854*'metered data'!H1857 -> 3906307.7 | C1854: =SUMIFS('Regression Inputs'!$G$26:$G$1851,'Regression Inputs'!$B$26:$B$1851,A1854) -> 162762.82 | D1854: =YEAR('metered data'!J1857) -> 2022 | E1854: =MONTH('metered data'!J1857) -> 9 | F1854: =DAY('metered data'!J1857) -> 30

Sheet Irrigation adj
A1: ='metered data'!A1 -> Grant PUD
A2: Irrigation load normalization per Section 2.4.1.2 of the Provider of Choice Policy dated March 2024
A4: Step 1 | B4: 2013 | C4: 2014 | D4: 2015 | E4: 2016 | F4: 2017 | G4: 2018 | H4: 2019 | I4: 2020 | J4: 2021 | K4: 2022 | L4: 2023
A5: Enter Historical irrigation data MWh (w/ losses)
A6: CY Total | B6: =INDEX('Monthly Irrigation'!$O$26:$O$47,MATCH(B$4,'Monthly Irrigation'!$B$26:$B$47))/1000 -> 1001.45 | C6: =INDEX('Monthly Irrigation'!$O$26:$O$47,MATCH(C$4,'Monthly Irrigation'!$B$26:$B$47))/1000 -> 0 | D6: =INDEX('Monthly Irrigation'!$O$26:$O$47,MATCH(D$4,'Monthly Irrigation'!$B$26:$B$47))/1000 -> 688409.04 | E6: =INDEX('Monthly Irrigation'!$O$26:$O$47,MATCH(E$4,'Monthly Irrigation'!$B$26:$B$47))/1000 -> 599607.53 | F6: =INDEX('Monthly Irrigation'!$O$26:$O$47,MATCH(F$4,'Monthly Irrigation'!$B$26:$B$47))/1000 -> 594158.6 | G6: =INDEX('Monthly Irrigation'!$O$26:$O$47,MATCH(G$4,'Monthly Irrigation'!$B$26:$B$47))/1000 -> 597832.97 | H6: =INDEX('Monthly Irrigation'!$O$26:$O$47,MATCH(H$4,'Monthly Irrigation'!$B$26:$B$47))/1000 -> 594387.23 | I6: =INDEX('Monthly Irrigation'!$O$26:$O$47,MATCH(I$4,'Monthly Irrigation'!$B$26:$B$47))/1000 -> 636569.12 | ... L6: =INDEX('Monthly Irrigation'!$O$26:$O$47,MATCH(L$4,'Monthly Irrigation'!$B$26:$B$47))/1000 -> 595875.2
A9: Step 2
B10: Fy 2018 | C10: Fy 2019 | D10: Fy 2020 | E10: Fy 2021 | F10: Fy 2022 | G10: Average
A11: Determine Average 2018 to 2022 irrigation load | B11: =SUM('Monthly Irrigation'!L34:N34,'Monthly Irrigation'!C36:K36)/1000 -> 606345.98 | C11: =SUM('Monthly Irrigation'!L36:N36,'Monthly Irrigation'!C38:K38)/1000 -> 591657.5 | D11: =SUM('Monthly Irrigation'!L38:N38,'Monthly Irrigation'!C40:K40)/1000 -> 630420.88 | E11: =SUM('Monthly Irrigation'!L40:N40,'Monthly Irrigation'!C42:K42)/1000 -> 714194.26 | F11: =SUM('Monthly Irrigation'!L42:N42,'Monthly Irrigation'!C44:K44)/1000 -> 627259.86 | G11: =AVERAGE(B11:F11) -> 633975.7
A14: Step 3
A15: Determine highest irrigation loads CY 2013 to CY 2015
B16: Cy 2013 | C16: Cy 2014 | D16: Cy 2015 | E16: Max
B17: =B6 -> 1001.45 | C17: =C6 -> 0 | D17: =D6 -> 688409.04 | E17: =MAX(B17:D17) -> 688409.04
A18: Determine highest irrigation loads CY 2021 to CY 2023
B19: Cy 2021 | C19: Cy 2022 | D19: Cy 2023 | E19: Max
B20: =J6 -> 713145.13 | C20: =K6 -> 638065 | D20: =L6 -> 595875.2 | E20: =MAX(B20:D20) -> 713145.13
A23: Step 4
A24: Calculate annual average growth rate
A25: from highest year to highest year
B26: 2013-2015 | C26: 2021-2023
A27: Max year | B27: =_xlfn.MAXIFS(B4:D4,$B$6:$D$6,E17) -> 2015 | C27: =_xlfn.MAXIFS(J4:L4,$J$6:$L$6,E20) -> 2021
A28: number of years between 2013-15 Max and 2021-23 Max | B28: =C27-B27 -> 6
A29: Average annual growth rate per year | B29: =(E20/E17)^(1/B28)-1 -> 0.0059009678
A32: Step 5
B33: average Fy 2018-22 load
A34: Adjust Average 2018 to 2022 irrigation load by | B34: =G11 -> 633975.7
A35: Annual Average growth rate (if positive) | B35: =MAX(0,B29) -> 0.0059009678
A36: Number of years from FY 2020 (midpoint of FY18-22) to FY 2023 | B36: 3
A37: Adjusted irrigation load | B37: =ROUND(B34*(1+B35)^B36,3) -> 645265.27
A39: Step 6
A41: Remove Fy 2023 load (MWh) | B41: =SUM('Monthly Irrigation'!L44:N44,'Monthly Irrigation'!C46:K46)/1000 -> 644917.46
A42: Insert adjusted average load (MWh) | B42: =IFERROR(B37,0) -> 645265.27
A43: Implied Adjustment (MWh) | B43: =B42-B41 -> 347.805
B56: =B4 -> 2013 | C56: =C4 -> 2014 | D56: =D4 -> 2015 | E56: =E4 -> 2016 | F56: =F4 -> 2017 | G56: =G4 -> 2018 | H56: =H4 -> 2019 | I56: =I4 -> 2020 | ... L56: =L4 -> 2023
B57: =IF(B56=$B$27,HLOOKUP(B56,$B$4:$L$6,3,FALSE),NA()) -> #N/A | C57: =IF(C56=$B$27,HLOOKUP(C56,$B$4:$L$6,3,FALSE),NA()) -> #N/A | D57: =IF(D56=$B$27,HLOOKUP(D56,$B$4:$L$6,3,FALSE),NA()) -> 688409.04
J58: =IF(J56=$C$27,HLOOKUP(J56,$B$4:$L$6,3,FALSE),NA()) -> 713145.13 | K58: =IF(K56=$C$27,HLOOKUP(K56,$B$4:$L$6,3,FALSE),NA()) -> #N/A | L58: =IF(L56=$C$27,HLOOKUP(L56,$B$4:$L$6,3,FALSE),NA()) -> #N/A
L59: =B42 -> 645265.27

Sheet Temperature
A1: Grant PUD
A2: KOMK (Omak WA) | J2: HDD base | K2: CDD base
F3: Daily | J3: =RIGHT(Calcs!H15,2) -> 52 | K3: =RIGHT(Calcs!K15,2) -> 62
A4: date | B4: year | C4: month | D4: day | E4: yrmo | F4: average
A5: 43009 | B5: =YEAR(A5) -> 2017 | C5: =MONTH(A5) -> 10 | D5: =DAY(A5) -> 1 | E5: =B5*100+C5 -> 201710 | F5: 52.66667 | J5: =IF(F5=999,0,MAX(ROUND($J$3-F5,0),0)) -> 0 | K5: =IF(F5=999,0,MAX(ROUND(F5-$K$3,0),0)) -> 0
A6: 43010 | B6: =YEAR(A6) -> 2017 | C6: =MONTH(A6) -> 10 | D6: =DAY(A6) -> 2 | E6: =B6*100+C6 -> 201710 | F6: 54.95652 | J6: =IF(F6=999,0,MAX(ROUND($J$3-F6,0),0)) -> 0 | K6: =IF(F6=999,0,MAX(ROUND(F6-$K$3,0),0)) -> 0
A7: 43011 | B7: =YEAR(A7) -> 2017 | C7: =MONTH(A7) -> 10 | D7: =DAY(A7) -> 3 | E7: =B7*100+C7 -> 201710 | F7: 53.25 | J7: =IF(F7=999,0,MAX(ROUND($J$3-F7,0),0)) -> 0 | K7: =IF(F7=999,0,MAX(ROUND(F7-$K$3,0),0)) -> 0
A8: 43012 | B8: =YEAR(A8) -> 2017 | C8: =MONTH(A8) -> 10 | D8: =DAY(A8) -> 4 | E8: =B8*100+C8 -> 201710 | F8: 53.70833 | J8: =IF(F8=999,0,MAX(ROUND($J$3-F8,0),0)) -> 0 | K8: =IF(F8=999,0,MAX(ROUND(F8-$K$3,0),0)) -> 0
A9: 43013 | B9: =YEAR(A9) -> 2017 | C9: =MONTH(A9) -> 10 | D9: =DAY(A9) -> 5 | E9: =B9*100+C9 -> 201710 | F9: 51.95833 | J9: =IF(F9=999,0,MAX(ROUND($J$3-F9,0),0)) -> 0 | K9: =IF(F9=999,0,MAX(ROUND(F9-$K$3,0),0)) -> 0
A10: 43014 | B10: =YEAR(A10) -> 2017 | C10: =MONTH(A10) -> 10 | D10: =DAY(A10) -> 6 | E10: =B10*100+C10 -> 201710 | F10: 49.04167 | J10: =IF(F10=999,0,MAX(ROUND($J$3-F10,0),0)) -> 3 | K10: =IF(F10=999,0,MAX(ROUND(F10-$K$3,0),0)) -> 0
A11: 43015 | B11: =YEAR(A11) -> 2017 | C11: =MONTH(A11) -> 10 | D11: =DAY(A11) -> 7 | E11: =B11*100+C11 -> 201710 | F11: 52.41667 | J11: =IF(F11=999,0,MAX(ROUND($J$3-F11,0),0)) -> 0 | K11: =IF(F11=999,0,MAX(ROUND(F11-$K$3,0),0)) -> 0
A12: 43016 | B12: =YEAR(A12) -> 2017 | C12: =MONTH(A12) -> 10 | D12: =DAY(A12) -> 8 | E12: =B12*100+C12 -> 201710 | F12: 49.16667 | J12: =IF(F12=999,0,MAX(ROUND($J$3-F12,0),0)) -> 3 | K12: =IF(F12=999,0,MAX(ROUND(F12-$K$3,0),0)) -> 0
A13: 43017 | B13: =YEAR(A13) -> 2017 | C13: =MONTH(A13) -> 10 | D13: =DAY(A13) -> 9 | E13: =B13*100+C13 -> 201710 | F13: 45.70833 | J13: =IF(F13=999,0,MAX(ROUND($J$3-F13,0),0)) -> 6 | K13: =IF(F13=999,0,MAX(ROUND(F13-$K$3,0),0)) -> 0
A14: 43018 | B14: =YEAR(A14) -> 2017 | C14: =MONTH(A14) -> 10 | D14: =DAY(A14) -> 10 | E14: =B14*100+C14 -> 201710 | F14: 47.75 | J14: =IF(F14=999,0,MAX(ROUND($J$3-F14,0),0)) -> 4 | K14: =IF(F14=999,0,MAX(ROUND(F14-$K$3,0),0)) -> 0
A15: 43019 | B15: =YEAR(A15) -> 2017 | C15: =MONTH(A15) -> 10 | D15: =DAY(A15) -> 11 | E15: =B15*100+C15 -> 201710 | F15: 43.47826 | J15: =IF(F15=999,0,MAX(ROUND($J$3-F15,0),0)) -> 9 | K15: =IF(F15=999,0,MAX(ROUND(F15-$K$3,0),0)) -> 0
A16: 43020 | B16: =YEAR(A16) -> 2017 | C16: =MONTH(A16) -> 10 | D16: =DAY(A16) -> 12 | E16: =B16*100+C16 -> 201710 | F16: 39 | J16: =IF(F16=999,0,MAX(ROUND($J$3-F16,0),0)) -> 13 | K16: =IF(F16=999,0,MAX(ROUND(F16-$K$3,0),0)) -> 0
... A230: 43234 | B230: =YEAR(A230) -> 2018 | C230: =MONTH(A230) -> 5 | D230: =DAY(A230) -> 14 | E230: =B230*100+C230 -> 201805 | F230: 57.90909 | J230: =IF(F230=999,0,MAX(ROUND($J$3-F230,0),0)) -> 0 | K230: =IF(F230=999,0,MAX(ROUND(F230-$K$3,0),0)) -> 0
A231: 43235 | B231: =YEAR(A231) -> 2018 | C231: =MONTH(A231) -> 5 | D231: =DAY(A231) -> 15 | E231: =B231*100+C231 -> 201805 | F231: NA | J231: =IF(F231=999,0,MAX(ROUND($J$3-F231,0),0)) -> #VALUE! | K231: =IF(F231=999,0,MAX(ROUND(F231-$K$3,0),0)) -> #VALUE!
A232: 43236 | B232: =YEAR(A232) -> 2018 | C232: =MONTH(A232) -> 5 | D232: =DAY(A232) -> 16 | E232: =B232*100+C232 -> 201805 | F232: NA | J232: =IF(F232=999,0,MAX(ROUND($J$3-F232,0),0)) -> #VALUE! | K232: =IF(F232=999,0,MAX(ROUND(F232-$K$3,0),0)) -> #VALUE!
A233: 43237 | B233: =YEAR(A233) -> 2018 | C233: =MONTH(A233) -> 5 | D233: =DAY(A233) -> 17 | E233: =B233*100+C233 -> 201805 | F233: 67.55556 | J233: =IF(F233=999,0,MAX(ROUND($J$3-F233,0),0)) -> 0 | K233: =IF(F233=999,0,MAX(ROUND(F233-$K$3,0),0)) -> 6
A234: 43238 | B234: =YEAR(A234) -> 2018 | C234: =MONTH(A234) -> 5 | D234: =DAY(A234) -> 18 | E234: =B234*100+C234 -> 201805 | F234: 58.5 | J234: =IF(F234=999,0,MAX(ROUND($J$3-F234,0),0)) -> 0 | K234: =IF(F234=999,0,MAX(ROUND(F234-$K$3,0),0)) -> 0
A235: 43239 | B235: =YEAR(A235) -> 2018 | C235: =MONTH(A235) -> 5 | D235: =DAY(A235) -> 19 | E235: =B235*100+C235 -> 201805 | F235: 60.75 | J235: =IF(F235=999,0,MAX(ROUND($J$3-F235,0),0)) -> 0 | K235: =IF(F235=999,0,MAX(ROUND(F235-$K$3,0),0)) -> 0
A236: 43240 | B236: =YEAR(A236) -> 2018 | C236: =MONTH(A236) -> 5 | D236: =DAY(A236) -> 20 | E236: =B236*100+C236 -> 201805 | F236: 63.125 | J236: =IF(F236=999,0,MAX(ROUND($J$3-F236,0),0)) -> 0 | K236: =IF(F236=999,0,MAX(ROUND(F236-$K$3,0),0)) -> 1
A237: 43241 | B237: =YEAR(A237) -> 2018 | C237: =MONTH(A237) -> 5 | D237: =DAY(A237) -> 21 | E237: =B237*100+C237 -> 201805 | F237: 67.83334 | J237: =IF(F237=999,0,MAX(ROUND($J$3-F237,0),0)) -> 0 | K237: =IF(F237=999,0,MAX(ROUND(F237-$K$3,0),0)) -> 6
A238: 43242 | B238: =YEAR(A238) -> 2018 | C238: =MONTH(A238) -> 5 | D238: =DAY(A238) -> 22 | E238: =B238*100+C238 -> 201805 | F238: 70.13043 | J238: =IF(F238=999,0,MAX(ROUND($J$3-F238,0),0)) -> 0 | K238: =IF(F238=999,0,MAX(ROUND(F238-$K$3,0),0)) -> 8
A239: 43243 | B239: =YEAR(A239) -> 2018 | C239: =MONTH(A239) -> 5 | D239: =DAY(A239) -> 23 | E239: =B239*100+C239 -> 201805 | F239: 71.75 | J239: =IF(F239=999,0,MAX(ROUND($J$3-F239,0),0)) -> 0 | K239: =IF(F239=999,0,MAX(ROUND(F239-$K$3,0),0)) -> 10
A240: 43244 | B240: =YEAR(A240) -> 2018 | C240: =MONTH(A240) -> 5 | D240: =DAY(A240) -> 24 | E240: =B240*100+C240 -> 201805 | F240: 70.91666 | J240: =IF(F240=999,0,MAX(ROUND($J$3-F240,0),0)) -> 0 | K240: =IF(F240=999,0,MAX(ROUND(F240-$K$3,0),0)) -> 9
A241: 43245 | B241: =YEAR(A241) -> 2018 | C241: =MONTH(A241) -> 5 | D241: =DAY(A241) -> 25 | E241: =B241*100+C241 -> 201805 | F241: 67.75 | J241: =IF(F241=999,0,MAX(ROUND($J$3-F241,0),0)) -> 0 | K241: =IF(F241=999,0,MAX(ROUND(F241-$K$3,0),0)) -> 6
A242: 43246 | B242: =YEAR(A242) -> 2018 | C242: =MONTH(A242) -> 5 | D242: =DAY(A242) -> 26 | E242: =B242*100+C242 -> 201805 | F242: 68.91666 | J242: =IF(F242=999,0,MAX(ROUND($J$3-F242,0),0)) -> 0 | K242: =IF(F242=999,0,MAX(ROUND(F242-$K$3,0),0)) -> 7
A243: 43247 | B243: =YEAR(A243) -> 2018 | C243: =MONTH(A243) -> 5 | D243: =DAY(A243) -> 27 | E243: =B243*100+C243 -> 201805 | F243: 69.95834 | J243: =IF(F243=999,0,MAX(ROUND($J$3-F243,0),0)) -> 0 | K243: =IF(F243=999,0,MAX(ROUND(F243-$K$3,0),0)) -> 8
A244: 43248 | B244: =YEAR(A244) -> 2018 | C244: =MONTH(A244) -> 5 | D244: =DAY(A244) -> 28 | E244: =B244*100+C244 -> 201805 | F244: 69.91666 | J244: =IF(F244=999,0,MAX(ROUND($J$3-F244,0),0)) -> 0 | K244: =IF(F244=999,0,MAX(ROUND(F244-$K$3,0),0)) -> 8
... A2195: 45199 | B2195: =YEAR(A2195) -> 2023 | C2195: =MONTH(A2195) -> 9 | D2195: =DAY(A2195) -> 30 | E2195: =B2195*100+C2195 -> 202309 | F2195: 54.375 | J2195: =IF(F2195=999,0,MAX(ROUND($J$3-F2195,0),0)) -> 0 | K2195: =IF(F2195=999,0,MAX(ROUND(F2195-$K$3,0),0)) -> 0

Sheet Calcs
A1: ='metered data'!A1 -> Grant PUD
B5: Fiscal year | C5: Average Load (aMW) | D5: Average Weather Adjustment (aMW) | E5: Weather Adjusted (aMW) | F5: Remove Irrigation (aMW) | G5: Irrigation Adjusted (aMW) | H5: HWM Normalized Load (aMW) | I5: NLSL (aMW) | J5: NLSL Adjusted (aMW)
B6: 2023 | C6: =ROUND(SUM(D18:D29)/8760,3) -> 703.673 | D6: =ROUND(SUM(E18:E29)/8760,3) -> -10.158 | E6: =C6+D6 -> 693.515 | F6: =ROUND('Irrigation adj'!B41/8760,3) -> 73.621 | G6: =ROUND('Irrigation adj'!B42/8760,3) -> 73.66 | H6: =E6-F6+G6 -> 693.554 | I6: =ROUND(SUM('Monthly Load'!G84:G95)/8760,3) -> 7.422 | J6: =H6-I6 -> 686.132
B8: FY2023 Adjusted Load (aMW) | D8: =J6 -> 686.132
G9: Annual Weather
G10: Actual | H10: Normal | J10: Actual | K10: Normal
G11: =ROUND(SUM(G18:G29),0) -> 3696 | H11: =ROUND(SUM(H18:H29),0) -> 3165 | J11: =ROUND(SUM(J18:J29),0) -> 1545 | K11: =ROUND(SUM(K18:K29),0) -> 1111
G15: HDD Coeff. | H15: HDD52 | J15: CDD Coeff. | K15: CDD62
F16: Insert Here | G16: ='Regression Results'!D3 -> 4368.4515 | H16: =ROUND(G16*24/1000,3) -> 104.843 | I16: Insert Here | J16: ='Regression Results'!D4 -> 3198.2584 | K16: =ROUND(J16*24/1000,3) -> 76.758
A17: Yrmo | B17: Fiscal year | C17: Month | D17: Average Monthly Load (MWh) | E17: Average Weather Adjustment (MWh) | G17: Actual | H17: Normal | J17: Actual | K17: Normal
A18: 202210 | B18: 2023 | C18: 10 | D18: ='Monthly Load'!F84 -> 473972.35 | E18: =ROUND(((H18-G18)*$H$16)+((K18-J18)*$K$16),3) -> 6455.399 | G18: =SUMIFS(Temperature!$J$5:$J$2195,Temperature!$E$5:$E$2195,A18) -> 45 | H18: 130 | J18: =SUMIFS(Temperature!$K$5:$K$2195,Temperature!$E$5:$E$2195,A18) -> 32 | K18: 0
A19: 202211 | B19: 2023 | C19: 11 | D19: ='Monthly Load'!F85 -> 508724.78 | E19: =ROUND(((H19-G19)*$H$16)+((K19-J19)*$K$16),3) -> -29565.726 | G19: =SUMIFS(Temperature!$J$5:$J$2195,Temperature!$E$5:$E$2195,A19) -> 764 | H19: 482 | J19: =SUMIFS(Temperature!$K$5:$K$2195,Temperature!$E$5:$E$2195,A19) -> 0 | K19: 0
A20: 202212 | B20: 2023 | C20: 12 | D20: ='Monthly Load'!F86 -> 572082.37 | E20: =ROUND(((H20-G20)*$H$16)+((K20-J20)*$K$16),3) -> -22750.931 | G20: =SUMIFS(Temperature!$J$5:$J$2195,Temperature!$E$5:$E$2195,A20) -> 986 | H20: 769 | J20: =SUMIFS(Temperature!$K$5:$K$2195,Temperature!$E$5:$E$2195,A20) -> 0 | K20: 0
A21: 202301 | B21: 2023 | C21: 1 | D21: ='Monthly Load'!F87 -> 528240.51 | E21: =ROUND(((H21-G21)*$H$16)+((K21-J21)*$K$16),3) -> 6709.952 | G21: =SUMIFS(Temperature!$J$5:$J$2195,Temperature!$E$5:$E$2195,A21) -> 700 | H21: 764 | J21: =SUMIFS(Temperature!$K$5:$K$2195,Temperature!$E$5:$E$2195,A21) -> 0 | K21: 0
A22: 202302 | B22: 2023 | C22: 2 | D22: ='Monthly Load'!F88 -> 471688.29 | E22: =ROUND(((H22-G22)*$H$16)+((K22-J22)*$K$16),3) -> -8177.754 | G22: =SUMIFS(Temperature!$J$5:$J$2195,Temperature!$E$5:$E$2195,A22) -> 647 | H22: 569 | J22: =SUMIFS(Temperature!$K$5:$K$2195,Temperature!$E$5:$E$2195,A22) -> 0 | K22: 0
A23: 202303 | B23: 2023 | C23: 3 | D23: ='Monthly Load'!F89 -> 477084.54 | E23: =ROUND(((H23-G23)*$H$16)+((K23-J23)*$K$16),3) -> -7339.01 | G23: =SUMIFS(Temperature!$J$5:$J$2195,Temperature!$E$5:$E$2195,A23) -> 405 | H23: 335 | J23: =SUMIFS(Temperature!$K$5:$K$2195,Temperature!$E$5:$E$2195,A23) -> 0 | K23: 0
A24: 202304 | B24: 2023 | C24: 4 | D24: ='Monthly Load'!F90 -> 466814.08 | E24: =ROUND(((H24-G24)*$H$16)+((K24-J24)*$K$16),3) -> -4598.098 | G24: =SUMIFS(Temperature!$J$5:$J$2195,Temperature!$E$5:$E$2195,A24) -> 146 | H24: 108 | J24: =SUMIFS(Temperature!$K$5:$K$2195,Temperature!$E$5:$E$2195,A24) -> 8 | K24: 0
A25: 202305 | B25: 2023 | C25: 5 | D25: ='Monthly Load'!F91 -> 511222.75 | E25: =ROUND(((H25-G25)*$H$16)+((K25-J25)*$K$16),3) -> -9167.881 | G25: =SUMIFS(Temperature!$J$5:$J$2195,Temperature!$E$5:$E$2195,A25) -> 0 | H25: 7 | J25: =SUMIFS(Temperature!$K$5:$K$2195,Temperature!$E$5:$E$2195,A25) -> 172 | K25: 43
A26: 202306 | B26: 2023 | C26: 6 | D26: ='Monthly Load'!F92 -> 539576.08 | E26: =ROUND(((H26-G26)*$H$16)+((K26-J26)*$K$16),3) -> -6908.22 | G26: =SUMIFS(Temperature!$J$5:$J$2195,Temperature!$E$5:$E$2195,A26) -> 0 | H26: 0 | J26: =SUMIFS(Temperature!$K$5:$K$2195,Temperature!$E$5:$E$2195,A26) -> 255 | K26: 165
A27: 202307 | B27: 2023 | C27: 7 | D27: ='Monthly Load'!F93 -> 585623.53 | E27: =ROUND(((H27-G27)*$H$16)+((K27-J27)*$K$16),3) -> -3684.384 | G27: =SUMIFS(Temperature!$J$5:$J$2195,Temperature!$E$5:$E$2195,A27) -> 0 | H27: 0 | J27: =SUMIFS(Temperature!$K$5:$K$2195,Temperature!$E$5:$E$2195,A27) -> 488 | K27: 440
A28: 202308 | B28: 2023 | C28: 8 | D28: ='Monthly Load'!F94 -> 546087.14 | E28: =ROUND(((H28-G28)*$H$16)+((K28-J28)*$K$16),3) -> -6370.914 | G28: =SUMIFS(Temperature!$J$5:$J$2195,Temperature!$E$5:$E$2195,A28) -> 0 | H28: 0 | J28: =SUMIFS(Temperature!$K$5:$K$2195,Temperature!$E$5:$E$2195,A28) -> 451 | K28: 368
A29: 202309 | B29: 2023 | C29: 9 | D29: ='Monthly Load'!F95 -> 483059.51 | E29: =ROUND(((H29-G29)*$H$16)+((K29-J29)*$K$16),3) -> -3587.038 | G29: =SUMIFS(Temperature!$J$5:$J$2195,Temperature!$E$5:$E$2195,A29) -> 3 | H29: 1 | J29: =SUMIFS(Temperature!$K$5:$K$2195,Temperature!$E$5:$E$2195,A29) -> 139 | K29: 95

Sheet Daily NLSL
A2: BESID | B2: Fiscal year | C2: Month | D2: Date | E2: akW
A3: 10123 | B3: 2017 | C3: 10 | D3: 43009 | E3: 139124
A4: 10123 | B4: 2017 | C4: 10 | D4: 43010 | E4: 139124
A5: 10123 | B5: 2017 | C5: 10 | D5: 43011 | E5: 139124
A6: 10123 | B6: 2017 | C6: 10 | D6: 43012 | E6: 139124
A7: 10123 | B7: 2017 | C7: 10 | D7: 43013 | E7: 139124
A8: 10123 | B8: 2017 | C8: 10 | D8: 43014 | E8: 139124
A9: 10123 | B9: 2017 | C9: 10 | D9: 43015 | E9: 139124
A10: 10123 | B10: 2017 | C10: 10 | D10: 43016 | E10: 139124
A11: 10123 | B11: 2017 | C11: 10 | D11: 43017 | E11: 139124
A12: 10123 | B12: 2017 | C12: 10 | D12: 43018 | E12: 139124
A13: 10123 | B13: 2017 | C13: 10 | D13: 43019 | E13: 139124
A14: 10123 | B14: 2017 | C14: 10 | D14: 43020 | E14: 139124
... A1828: 10123 | B1828: 2022 | C1828: 9 | D1828: 44834 | E1828: 218240.26

Sheet Regression Results
A1: BESID | B1: Customer Name | C1: Var | D1: Estimate | E1: StdError | F1: TStat | G1: PValue | H1: hdd_base1 | I1: hdd_base2 | J1: cdd_base1 | K1: cdd_base2 | L1: rmse | M1: R_sq | N1: adj_R_sq | O1: deg_free
A2: 10190 | B2: Grant PUD | C2: (Intercept) | D2: 220091.25 | E2: 3599.2183 | F2: 61.149738 | G2: 0 | H2: 52 | J2: 62 | L2: 25823.117 | M2: 0.84384548 | N2: 0.84185017 | O2: 1800
A3: 10190 | B3: Grant PUD | C3: hddVar1 | D3: 4368.4515 | E3: 124.29197 | F3: 35.146691 | G3: 1.7147559e-206
A4: 10190 | B4: Grant PUD | C4: cddVar1 | D4: 3198.2584 | E4: 166.49759 | F4: 19.209037 | G4: 5.9112813e-75
A5: 10190 | B5: Grant PUD | C5: mth_3 | D5: -9831.7932 | E5: 2815.5523 | F5: -3.491959 | G5: 0.0004910661
A6: 10190 | B6: Grant PUD | C6: mth_4 | D6: -8009.2473 | E6: 3400.018 | F6: -2.3556485 | G6: 0.018597147
A7: 10190 | B7: Grant PUD | C7: mth_5 | D7: -39109.387 | E7: 3708.3549 | F7: -10.54629 | G7: 2.8363425e-25
A8: 10190 | B8: Grant PUD | C8: mth_6 | D8: -53273.918 | E8: 3872.2855 | F8: -13.757745 | G8: 5.0417886e-41
A9: 10190 | B9: Grant PUD | C9: mth_7 | D9: -66081.096 | E9: 4466.9455 | F9: -14.793352 | G9: 8.0850133e-47
A10: 10190 | B10: Grant PUD | C10: mth_8 | D10: -71490.884 | E10: 4299.4551 | F10: -16.627894 | G10: 7.2360363e-58
A11: 10190 | B11: Grant PUD | C11: mth_9 | D11: -56556.389 | E11: 3740.6593 | F11: -15.119364 | G11: 1.0371404e-48
A12: 10190 | B12: Grant PUD | C12: mth_10 | D12: -29672.858 | E12: 3221.5031 | F12: -9.2108736 | G12: 8.7253476e-20
A13: 10190 | B13: Grant PUD | C13: mth_11 | D13: -15715.722 | E13: 2634.2829 | F13: -5.9658445 | G13: 2.9234034e-09
A14: 10190 | B14: Grant PUD | C14: fy_2019 | D14: -22506.569 | E14: 1927.0033 | F14: -11.679569 | G14: 1.9696454e-30
... A25: 10190 | B25: Grant PUD | C25: Christmas | D25: -50270.781 | E25: 11710.961 | F25: -4.2926266 | G25: 1.8596584e-05

Sheet R Backup
B1: dt | C1: fy | D1: mth | E1: dow | F1: day_type | G1: nerc_holiday | H1: covid | I1: dlyavgtmp | J1: tot_load_akw | K1: nonirr_load_akw | L1: irr_load_akw | M1: missing_flag | N1: dow_1 | O1: dow_2 | P1: dow_3 | Q1: dow_4 | R1: dow_5 | S1: dow_6 | T1: dow_7 | U1: mth_1 | V1: mth_2 | W1: mth_3 | X1: mth_4 | Y1: mth_5 | Z1: mth_6 | AA1: mth_7 | AB1: mth_8 | AC1: mth_9 | AD1: mth_10 | AE1: mth_11 | AF1: mth_12 | AG1: fy_2018 | AH1: fy_2019 | AI1: fy_2020 | AJ1: fy_2021 | AK1: fy_2022 | AL1: Christmas | AM1: IndependenceDay | AN1: LaborDay | AO1: MemorialDay | AP1: NewYears | AQ1: Non-Holiday | AR1: Thanksgiving | AS1: load
A2: 1 | B2: 43009 | C2: 2018 | D2: 10 | E2: 1 | F2: Weekend/Holiday | G2: Non-Holiday | H2: 0 | I2: 52.66667 | J2: 211564.25 | K2: 135099.25 | L2: 76465 | M2: 0 | N2: 1 | O2: 0 | P2: 0 | Q2: 0 | R2: 0 | S2: 0 | T2: 0 | U2: 0 | V2: 0 | W2: 0 | X2: 0 | Y2: 0 | Z2: 0 | AA2: 0 | AB2: 0 | AC2: 0 | AD2: 1 | AE2: 0 | AF2: 0 | AG2: 1 | AH2: 0 | AI2: 0 | AJ2: 0 | AK2: 0 | AL2: 0 | AM2: 0 | AN2: 0 | AO2: 0 | AP2: 0 | AQ2: 1 | AR2: 0 | AS2: 135099.25
A3: 2 | B3: 43010 | C3: 2018 | D3: 10 | E3: 2 | F3: Weekday | G3: Non-Holiday | H3: 0 | I3: 54.95652 | J3: 238369.79 | K3: 163862.29 | L3: 74507.5 | M3: 0 | N3: 0 | O3: 1 | P3: 0 | Q3: 0 | R3: 0 | S3: 0 | T3: 0 | U3: 0 | V3: 0 | W3: 0 | X3: 0 | Y3: 0 | Z3: 0 | AA3: 0 | AB3: 0 | AC3: 0 | AD3: 1 | AE3: 0 | AF3: 0 | AG3: 1 | AH3: 0 | AI3: 0 | AJ3: 0 | AK3: 0 | AL3: 0 | AM3: 0 | AN3: 0 | AO3: 0 | AP3: 0 | AQ3: 1 | AR3: 0 | AS3: 163862.29
A4: 3 | B4: 43011 | C4: 2018 | D4: 10 | E4: 3 | F4: Weekday | G4: Non-Holiday | H4: 0 | I4: 53.25 | J4: 250207.17 | K4: 177546.75 | L4: 72660.417 | M4: 0 | N4: 0 | O4: 0 | P4: 1 | Q4: 0 | R4: 0 | S4: 0 | T4: 0 | U4: 0 | V4: 0 | W4: 0 | X4: 0 | Y4: 0 | Z4: 0 | AA4: 0 | AB4: 0 | AC4: 0 | AD4: 1 | AE4: 0 | AF4: 0 | AG4: 1 | AH4: 0 | AI4: 0 | AJ4: 0 | AK4: 0 | AL4: 0 | AM4: 0 | AN4: 0 | AO4: 0 | AP4: 0 | AQ4: 1 | AR4: 0 | AS4: 177546.75
A5: 4 | B5: 43012 | C5: 2018 | D5: 10 | E5: 4 | F5: Weekday | G5: Non-Holiday | H5: 0 | I5: 53.70833 | J5: 263759.75 | K5: 192979.34 | L5: 70780.417 | M5: 0 | N5: 0 | O5: 0 | P5: 0 | Q5: 1 | R5: 0 | S5: 0 | T5: 0 | U5: 0 | V5: 0 | W5: 0 | X5: 0 | Y5: 0 | Z5: 0 | AA5: 0 | AB5: 0 | AC5: 0 | AD5: 1 | AE5: 0 | AF5: 0 | AG5: 1 | AH5: 0 | AI5: 0 | AJ5: 0 | AK5: 0 | AL5: 0 | AM5: 0 | AN5: 0 | AO5: 0 | AP5: 0 | AQ5: 1 | AR5: 0 | AS5: 192979.34
A6: 5 | B6: 43013 | C6: 2018 | D6: 10 | E6: 5 | F6: Weekday | G6: Non-Holiday | H6: 0 | I6: 51.95833 | J6: 267906.38 | K6: 198955.96 | L6: 68950.417 | M6: 0 | N6: 0 | O6: 0 | P6: 0 | Q6: 0 | R6: 1 | S6: 0 | T6: 0 | U6: 0 | V6: 0 | W6: 0 | X6: 0 | Y6: 0 | Z6: 0 | AA6: 0 | AB6: 0 | AC6: 0 | AD6: 1 | AE6: 0 | AF6: 0 | AG6: 1 | AH6: 0 | AI6: 0 | AJ6: 0 | AK6: 0 | AL6: 0 | AM6: 0 | AN6: 0 | AO6: 0 | AP6: 0 | AQ6: 1 | AR6: 0 | AS6: 198955.96
A7: 6 | B7: 43014 | C7: 2018 | D7: 10 | E7: 6 | F7: Weekday | G7: Non-Holiday | H7: 0 | I7: 49.04167 | J7: 261437.92 | K7: 194368.75 | L7: 67069.167 | M7: 0 | N7: 0 | O7: 0 | P7: 0 | Q7: 0 | R7: 0 | S7: 1 | T7: 0 | U7: 0 | V7: 0 | W7: 0 | X7: 0 | Y7: 0 | Z7: 0 | AA7: 0 | AB7: 0 | AC7: 0 | AD7: 1 | AE7: 0 | AF7: 0 | AG7: 1 | AH7: 0 | AI7: 0 | AJ7: 0 | AK7: 0 | AL7: 0 | AM7: 0 | AN7: 0 | AO7: 0 | AP7: 0 | AQ7: 1 | AR7: 0 | AS7: 194368.75
A8: 7 | B8: 43015 | C8: 2018 | D8: 10 | E8: 7 | F8: Weekend/Holiday | G8: Non-Holiday | H8: 0 | I8: 52.41667 | J8: 234864.5 | K8: 169682 | L8: 65182.5 | M8: 0 | N8: 0 | O8: 0 | P8: 0 | Q8: 0 | R8: 0 | S8: 0 | T8: 1 | U8: 0 | V8: 0 | W8: 0 | X8: 0 | Y8: 0 | Z8: 0 | AA8: 0 | AB8: 0 | AC8: 0 | AD8: 1 | AE8: 0 | AF8: 0 | AG8: 1 | AH8: 0 | AI8: 0 | AJ8: 0 | AK8: 0 | AL8: 0 | AM8: 0 | AN8: 0 | AO8: 0 | AP8: 0 | AQ8: 1 | AR8: 0 | AS8: 169682
A9: 8 | B9: 43016 | C9: 2018 | D9: 10 | E9: 1 | F9: Weekend/Holiday | G9: Non-Holiday | H9: 0 | I9: 49.16667 | J9: 229064.38 | K9: 165792.29 | L9: 63272.083 | M9: 0 | N9: 1 | O9: 0 | P9: 0 | Q9: 0 | R9: 0 | S9: 0 | T9: 0 | U9: 0 | V9: 0 | W9: 0 | X9: 0 | Y9: 0 | Z9: 0 | AA9: 0 | AB9: 0 | AC9: 0 | AD9: 1 | AE9: 0 | AF9: 0 | AG9: 1 | AH9: 0 | AI9: 0 | AJ9: 0 | AK9: 0 | AL9: 0 | AM9: 0 | AN9: 0 | AO9: 0 | AP9: 0 | AQ9: 1 | AR9: 0 | AS9: 165792.29
A10: 9 | B10: 43017 | C10: 2018 | D10: 10 | E10: 2 | F10: Weekday | G10: Non-Holiday | H10: 0 | I10: 45.70833 | J10: 258009.54 | K10: 196687.46 | L10: 61322.083 | M10: 0 | N10: 0 | O10: 1 | P10: 0 | Q10: 0 | R10: 0 | S10: 0 | T10: 0 | U10: 0 | V10: 0 | W10: 0 | X10: 0 | Y10: 0 | Z10: 0 | AA10: 0 | AB10: 0 | AC10: 0 | AD10: 1 | AE10: 0 | AF10: 0 | AG10: 1 | AH10: 0 | AI10: 0 | AJ10: 0 | AK10: 0 | AL10: 0 | AM10: 0 | AN10: 0 | AO10: 0 | AP10: 0 | AQ10: 1 | AR10: 0 | AS10: 196687.46
A11: 10 | B11: 43018 | C11: 2018 | D11: 10 | E11: 3 | F11: Weekday | G11: Non-Holiday | H11: 0 | I11: 47.75 | J11: 271935.79 | K11: 212559.96 | L11: 59375.833 | M11: 0 | N11: 0 | O11: 0 | P11: 1 | Q11: 0 | R11: 0 | S11: 0 | T11: 0 | U11: 0 | V11: 0 | W11: 0 | X11: 0 | Y11: 0 | Z11: 0 | AA11: 0 | AB11: 0 | AC11: 0 | AD11: 1 | AE11: 0 | AF11: 0 | AG11: 1 | AH11: 0 | AI11: 0 | AJ11: 0 | AK11: 0 | AL11: 0 | AM11: 0 | AN11: 0 | AO11: 0 | AP11: 0 | AQ11: 1 | AR11: 0 | AS11: 212559.96
A12: 11 | B12: 43019 | C12: 2018 | D12: 10 | E12: 4 | F12: Weekday | G12: Non-Holiday | H12: 0 | I12: 43.47826 | J12: 279909.54 | K12: 222556.21 | L12: 57353.333 | M12: 0 | N12: 0 | O12: 0 | P12: 0 | Q12: 1 | R12: 0 | S12: 0 | T12: 0 | U12: 0 | V12: 0 | W12: 0 | X12: 0 | Y12: 0 | Z12: 0 | AA12: 0 | AB12: 0 | AC12: 0 | AD12: 1 | AE12: 0 | AF12: 0 | AG12: 1 | AH12: 0 | AI12: 0 | AJ12: 0 | AK12: 0 | AL12: 0 | AM12: 0 | AN12: 0 | AO12: 0 | AP12: 0 | AQ12: 1 | AR12: 0 | AS12: 222556.21
A13: 12 | B13: 43020 | C13: 2018 | D13: 10 | E13: 5 | F13: Weekday | G13: Non-Holiday | H13: 0 | I13: 39 | J13: 297610.79 | K13: 242342.46 | L13: 55268.333 | M13: 0 | N13: 0 | O13: 0 | P13: 0 | Q13: 0 | R13: 1 | S13: 0 | T13: 0 | U13: 0 | V13: 0 | W13: 0 | X13: 0 | Y13: 0 | Z13: 0 | AA13: 0 | AB13: 0 | AC13: 0 | AD13: 1 | AE13: 0 | AF13: 0 | AG13: 1 | AH13: 0 | AI13: 0 | AJ13: 0 | AK13: 0 | AL13: 0 | AM13: 0 | AN13: 0 | AO13: 0 | AP13: 0 | AQ13: 1 | AR13: 0 | AS13: 242342.46
... A227: 226 | B227: 43234 | C227: 2018 | D227: 5 | E227: 2 | F227: Weekday | G227: Non-Holiday | H227: 0 | I227: 57.90909 | J227: 342020.99 | K227: 247427.24 | L227: 94593.75 | M227: 0 | N227: 0 | O227: 1 | P227: 0 | Q227: 0 | R227: 0 | S227: 0 | T227: 0 | U227: 0 | V227: 0 | W227: 0 | X227: 0 | Y227: 1 | Z227: 0 | AA227: 0 | AB227: 0 | AC227: 0 | AD227: 0 | AE227: 0 | AF227: 0 | AG227: 1 | AH227: 0 | AI227: 0 | AJ227: 0 | AK227: 0 | AL227: 0 | AM227: 0 | AN227: 0 | AO227: 0 | AP227: 0 | AQ227: 1 | AR227: 0 | AS227: 247427.24
A228: 227 | B228: 43235 | C228: 2018 | D228: 5 | E228: 3 | F228: Weekday | G228: Non-Holiday | H228: 0 | J228: 373669.49 | K228: 274246.16 | L228: 99423.333 | M228: 1 | N228: 0 | O228: 0 | P228: 1 | Q228: 0 | R228: 0 | S228: 0 | T228: 0 | U228: 0 | V228: 0 | W228: 0 | X228: 0 | Y228: 1 | Z228: 0 | AA228: 0 | AB228: 0 | AC228: 0 | AD228: 0 | AE228: 0 | AF228: 0 | AG228: 1 | AH228: 0 | AI228: 0 | AJ228: 0 | AK228: 0 | AL228: 0 | AM228: 0 | AN228: 0 | AO228: 0 | AP228: 0 | AQ228: 1 | AR228: 0 | AS228: 274246.16
A229: 228 | B229: 43236 | C229: 2018 | D229: 5 | E229: 4 | F229: Weekday | G229: Non-Holiday | H229: 0 | J229: 380002.57 | K229: 275716.32 | L229: 104286.25 | M229: 1 | N229: 0 | O229: 0 | P229: 0 | Q229: 1 | R229: 0 | S229: 0 | T229: 0 | U229: 0 | V229: 0 | W229: 0 | X229: 0 | Y229: 1 | Z229: 0 | AA229: 0 | AB229: 0 | AC229: 0 | AD229: 0 | AE229: 0 | AF229: 0 | AG229: 1 | AH229: 0 | AI229: 0 | AJ229: 0 | AK229: 0 | AL229: 0 | AM229: 0 | AN229: 0 | AO229: 0 | AP229: 0 | AQ229: 1 | AR229: 0 | AS229: 275716.32
A230: 229 | B230: 43237 | C230: 2018 | D230: 5 | E230: 5 | F230: Weekday | G230: Non-Holiday | H230: 0 | I230: 67.55556 | J230: 362105.74 | K230: 252814.07 | L230: 109291.67 | M230: 0 | N230: 0 | O230: 0 | P230: 0 | Q230: 0 | R230: 1 | S230: 0 | T230: 0 | U230: 0 | V230: 0 | W230: 0 | X230: 0 | Y230: 1 | Z230: 0 | AA230: 0 | AB230: 0 | AC230: 0 | AD230: 0 | AE230: 0 | AF230: 0 | AG230: 1 | AH230: 0 | AI230: 0 | AJ230: 0 | AK230: 0 | AL230: 0 | AM230: 0 | AN230: 0 | AO230: 0 | AP230: 0 | AQ230: 1 | AR230: 0 | AS230: 252814.07
A231: 230 | B231: 43238 | C231: 2018 | D231: 5 | E231: 6 | F231: Weekday | G231: Non-Holiday | H231: 0 | I231: 58.5 | J231: 306223.07 | K231: 192578.49 | L231: 113644.58 | M231: 0 | N231: 0 | O231: 0 | P231: 0 | Q231: 0 | R231: 0 | S231: 1 | T231: 0 | U231: 0 | V231: 0 | W231: 0 | X231: 0 | Y231: 1 | Z231: 0 | AA231: 0 | AB231: 0 | AC231: 0 | AD231: 0 | AE231: 0 | AF231: 0 | AG231: 1 | AH231: 0 | AI231: 0 | AJ231: 0 | AK231: 0 | AL231: 0 | AM231: 0 | AN231: 0 | AO231: 0 | AP231: 0 | AQ231: 1 | AR231: 0 | AS231: 192578.49
A232: 231 | B232: 43239 | C232: 2018 | D232: 5 | E232: 7 | F232: Weekend/Holiday | G232: Non-Holiday | H232: 0 | I232: 60.75 | J232: 291013.74 | K232: 174219.99 | L232: 116793.75 | M232: 0 | N232: 0 | O232: 0 | P232: 0 | Q232: 0 | R232: 0 | S232: 0 | T232: 1 | U232: 0 | V232: 0 | W232: 0 | X232: 0 | Y232: 1 | Z232: 0 | AA232: 0 | AB232: 0 | AC232: 0 | AD232: 0 | AE232: 0 | AF232: 0 | AG232: 1 | AH232: 0 | AI232: 0 | AJ232: 0 | AK232: 0 | AL232: 0 | AM232: 0 | AN232: 0 | AO232: 0 | AP232: 0 | AQ232: 1 | AR232: 0 | AS232: 174219.99
A233: 232 | B233: 43240 | C233: 2018 | D233: 5 | E233: 1 | F233: Weekend/Holiday | G233: Non-Holiday | H233: 0 | I233: 63.125 | J233: 279489.03 | K233: 159927.78 | L233: 119561.25 | M233: 0 | N233: 1 | O233: 0 | P233: 0 | Q233: 0 | R233: 0 | S233: 0 | T233: 0 | U233: 0 | V233: 0 | W233: 0 | X233: 0 | Y233: 1 | Z233: 0 | AA233: 0 | AB233: 0 | AC233: 0 | AD233: 0 | AE233: 0 | AF233: 0 | AG233: 1 | AH233: 0 | AI233: 0 | AJ233: 0 | AK233: 0 | AL233: 0 | AM233: 0 | AN233: 0 | AO233: 0 | AP233: 0 | AQ233: 1 | AR233: 0 | AS233: 159927.78
A234: 233 | B234: 43241 | C234: 2018 | D234: 5 | E234: 2 | F234: Weekday | G234: Non-Holiday | H234: 0 | I234: 67.83334 | J234: 327843.16 | K234: 205848.57 | L234: 121994.58 | M234: 0 | N234: 0 | O234: 1 | P234: 0 | Q234: 0 | R234: 0 | S234: 0 | T234: 0 | U234: 0 | V234: 0 | W234: 0 | X234: 0 | Y234: 1 | Z234: 0 | AA234: 0 | AB234: 0 | AC234: 0 | AD234: 0 | AE234: 0 | AF234: 0 | AG234: 1 | AH234: 0 | AI234: 0 | AJ234: 0 | AK234: 0 | AL234: 0 | AM234: 0 | AN234: 0 | AO234: 0 | AP234: 0 | AQ234: 1 | AR234: 0 | AS234: 205848.57
A235: 234 | B235: 43242 | C235: 2018 | D235: 5 | E235: 3 | F235: Weekday | G235: Non-Holiday | H235: 0 | I235: 70.13043 | J235: 361656.91 | K235: 237315.66 | L235: 124341.25 | M235: 0 | N235: 0 | O235: 0 | P235: 1 | Q235: 0 | R235: 0 | S235: 0 | T235: 0 | U235: 0 | V235: 0 | W235: 0 | X235: 0 | Y235: 1 | Z235: 0 | AA235: 0 | AB235: 0 | AC235: 0 | AD235: 0 | AE235: 0 | AF235: 0 | AG235: 1 | AH235: 0 | AI235: 0 | AJ235: 0 | AK235: 0 | AL235: 0 | AM235: 0 | AN235: 0 | AO235: 0 | AP235: 0 | AQ235: 1 | AR235: 0 | AS235: 237315.66
A236: 235 | B236: 43243 | C236: 2018 | D236: 5 | E236: 4 | F236: Weekday | G236: Non-Holiday | H236: 0 | I236: 71.75 | J236: 374291.61 | K236: 247628.7 | L236: 126662.92 | M236: 0 | N236: 0 | O236: 0 | P236: 0 | Q236: 1 | R236: 0 | S236: 0 | T236: 0 | U236: 0 | V236: 0 | W236: 0 | X236: 0 | Y236: 1 | Z236: 0 | AA236: 0 | AB236: 0 | AC236: 0 | AD236: 0 | AE236: 0 | AF236: 0 | AG236: 1 | AH236: 0 | AI236: 0 | AJ236: 0 | AK236: 0 | AL236: 0 | AM236: 0 | AN236: 0 | AO236: 0 | AP236: 0 | AQ236: 1 | AR236: 0 | AS236: 247628.7
A237: 236 | B237: 43244 | C237: 2018 | D237: 5 | E237: 5 | F237: Weekday | G237: Non-Holiday | H237: 0 | I237: 70.91666 | J237: 369323.86 | K237: 240256.36 | L237: 129067.5 | M237: 0 | N237: 0 | O237: 0 | P237: 0 | Q237: 0 | R237: 1 | S237: 0 | T237: 0 | U237: 0 | V237: 0 | W237: 0 | X237: 0 | Y237: 1 | Z237: 0 | AA237: 0 | AB237: 0 | AC237: 0 | AD237: 0 | AE237: 0 | AF237: 0 | AG237: 1 | AH237: 0 | AI237: 0 | AJ237: 0 | AK237: 0 | AL237: 0 | AM237: 0 | AN237: 0 | AO237: 0 | AP237: 0 | AQ237: 1 | AR237: 0 | AS237: 240256.36
A238: 237 | B238: 43245 | C238: 2018 | D238: 5 | E238: 6 | F238: Weekday | G238: Non-Holiday | H238: 0 | I238: 67.75 | J238: 361570.95 | K238: 230123.45 | L238: 131447.5 | M238: 0 | N238: 0 | O238: 0 | P238: 0 | Q238: 0 | R238: 0 | S238: 1 | T238: 0 | U238: 0 | V238: 0 | W238: 0 | X238: 0 | Y238: 1 | Z238: 0 | AA238: 0 | AB238: 0 | AC238: 0 | AD238: 0 | AE238: 0 | AF238: 0 | AG238: 1 | AH238: 0 | AI238: 0 | AJ238: 0 | AK238: 0 | AL238: 0 | AM238: 0 | AN238: 0 | AO238: 0 | AP238: 0 | AQ238: 1 | AR238: 0 | AS238: 230123.45
A239: 238 | B239: 43246 | C239: 2018 | D239: 5 | E239: 7 | F239: Weekend/Holiday | G239: Non-Holiday | H239: 0 | I239: 68.91666 | J239: 328861.45 | K239: 195085.61 | L239: 133775.83 | M239: 0 | N239: 0 | O239: 0 | P239: 0 | Q239: 0 | R239: 0 | S239: 0 | T239: 1 | U239: 0 | V239: 0 | W239: 0 | X239: 0 | Y239: 1 | Z239: 0 | AA239: 0 | AB239: 0 | AC239: 0 | AD239: 0 | AE239: 0 | AF239: 0 | AG239: 1 | AH239: 0 | AI239: 0 | AJ239: 0 | AK239: 0 | AL239: 0 | AM239: 0 | AN239: 0 | AO239: 0 | AP239: 0 | AQ239: 1 | AR239: 0 | AS239: 195085.61
A240: 239 | B240: 43247 | C240: 2018 | D240: 5 | E240: 1 | F240: Weekend/Holiday | G240: Non-Holiday | H240: 0 | I240: 69.95834 | J240: 327964.66 | K240: 192172.99 | L240: 135791.67 | M240: 0 | N240: 1 | O240: 0 | P240: 0 | Q240: 0 | R240: 0 | S240: 0 | T240: 0 | U240: 0 | V240: 0 | W240: 0 | X240: 0 | Y240: 1 | Z240: 0 | AA240: 0 | AB240: 0 | AC240: 0 | AD240: 0 | AE240: 0 | AF240: 0 | AG240: 1 | AH240: 0 | AI240: 0 | AJ240: 0 | AK240: 0 | AL240: 0 | AM240: 0 | AN240: 0 | AO240: 0 | AP240: 0 | AQ240: 1 | AR240: 0 | AS240: 192172.99
A241: 240 | B241: 43248 | C241: 2018 | D241: 5 | E241: 2 | F241: Weekend/Holiday | G241: MemorialDay | H241: 0 | I241: 69.91666 | J241: 351421.24 | K241: 213698.32 | L241: 137722.92 | M241: 0 | N241: 0 | O241: 1 | P241: 0 | Q241: 0 | R241: 0 | S241: 0 | T241: 0 | U241: 0 | V241: 0 | W241: 0 | X241: 0 | Y241: 1 | Z241: 0 | AA241: 0 | AB241: 0 | AC241: 0 | AD241: 0 | AE241: 0 | AF241: 0 | AG241: 1 | AH241: 0 | AI241: 0 | AJ241: 0 | AK241: 0 | AL241: 0 | AM241: 0 | AN241: 0 | AO241: 1 | AP241: 0 | AQ241: 0 | AR241: 0 | AS241: 213698.32
... A1827: 1826 | B1827: 44834 | C1827: 2022 | D1827: 9 | E1827: 6 | F1827: Weekday | G1827: Non-Holiday | H1827: 0 | I1827: 61.79167 | J1827: 242901.57 | K1827: 162762.82 | L1827: 80138.75 | M1827: 0 | N1827: 0 | O1827: 0 | P1827: 0 | Q1827: 0 | R1827: 0 | S1827: 1 | T1827: 0 | U1827: 0 | V1827: 0 | W1827: 0 | X1827: 0 | Y1827: 0 | Z1827: 0 | AA1827: 0 | AB1827: 0 | AC1827: 1 | AD1827: 0 | AE1827: 0 | AF1827: 0 | AG1827: 0 | AH1827: 0 | AI1827: 0 | AJ1827: 0 | AK1827: 1 | AL1827: 0 | AM1827: 0 | AN1827: 0 | AO1827: 0 | AP1827: 0 | AQ1827: 1 | AR1827: 0 | AS1827: 162762.82
A1830: code
A1831: # import data into R as a dataframe named load_df
A1832: library(stargazer)
A1833: load_df$hddVar1 <- pmax(0, 52 - load_df$dlyavgtmp,na.rm=FALSE)
A1834: load_df$cddVar1 <- pmax(0, load_df$dlyavgtmp - 62,na.rm=FALSE)
A1835: reg <- lm(load ~ hddVar1 + cddVar1 + mth_3 + mth_4 + mth_5 + mth_6 + mth_7 + mth_8 + mth_9 + mth_10 + mth_11 + fy_2019 + fy_2020 + fy_2021 + fy_2022 + dow_1 + dow_2 + dow_3 + dow_4 + dow_5 + dow_6 + MemorialDay + Christmas, load_df[load_df$missing_flag != 1,])
A1836: stargazer(reg,type='text',style='default', single.row = TRUE)
A1837: print(paste0('RMSE: ',round(sqrt(mean(reg$residuals^2)),3)))
