Workbook
Name ACSR: 'Material R'!$G$3:$G$36
Name ACSRT: 'Material R'!$G$4:$H$36
Name Aluminum: 'Material R'!$D$3:$D$36
Name AluminumT: 'Material R'!$D$4:$E$36
Name Copper: 'Material R'!$A$3:$A$28
Name CopperT: 'Material R'!$A$4:$B$28

Sheet Instructions
C5: Instructions for Using the Re-Conductor & Transformer Energy Savings Calculator
C6: Intended Use
C7: The Calculator was developed by BPA's Energy Efficiency team to offer an alternate path to the custom project path for reporting savings from these two measures. It allows multiple projects to be entered into one file. Each project or sub-project is entered into seaparate tabs. The file currently allows up to six (6) Re-Conductor and six (6) Transformer measures to be entered. The intent of transformer size in this application is to report substation level power transformers, or large transformers servicing retail C&I loads, e.g, 1 MVA or larger. The calculator is intended for utility owned equipment only. Future versions may consider adding measures that apply to energy savings from retail facility owned Re-Conductor & Tranformer replacements.
C8: General Instructions
C9: Start at the Summary tab. Enter general information. Then, move to specific tab(s). One tab per section of Re-Conductor or Transformer. Yellow cells are for manually entered information, blue cells are automatically calculated. The energy savings calculations and M&V practice follow the same established process used in custom projects for these measures. This file attempts to cover the most common applications of Re-Conductor and Transformer projects, but there maybe cases when a project scope does not fit into the available format. BPA technical staff is available to address those situations and any questions you may have about filling out this file. See point of contact below.
C10: Data Sources for Re-Conductor
C11: The fundamental energy savings input parameter is Annual Peak Current (A) at the start and end of the section being re-conductored. If annual peak phase and neutral current (amps) can be estimated using a well calibrated load flow model that can be a good source. Attention to phase current imbalance is important. The file allows for phase conducotor specific currents to be entered. If the currents are not known or difficult to estimate, use peak power (kW) estimates with corresponding power factor at peak for the re-conductor section. The calculator derives peak currents from the power input data. Load Factor for the Re-Conductor section can use the corresponding source substation load factor. BPA technical staff can provide Load Factor value using the most appropriate BPA revenue metered data.
C12: Data Sources for Transformer
C13: The fundamental energy savings input parameters are the manufacturer documented no-load loss and nameplate load loss (kW) for the old and new transformer. The loss test sheet can be difficult to locate for the old transformer. BPA technical support can help assist in locating the report or providing an estimate. Peak load power (kVA) and Load Factor for the Transformer can readily be provided by BPA technical staff using BPA revenue metered data when applicable.
C14: M&V
C15: The energy savings are based on engineering calculations using the best and most recent measured load information. There is no need to measure pre and post. There is no adjustment for load growth, savings are based on current operational data. Verification that the project was implemented as described is to be documented by the utility performing the work on their system.
C16: Project Cost Documentation
... C20: BPA Technical Support: Tony Koch, 206.220.6777, jakoch@bpa.gov

Sheet Summary
B1: Re-conductor & Transformer Calculator
AD2: Legend
B3: Utility Name: | AD3: To be filled in by the user
B4: Project Name or ID: | AD4: Automatically calculated
B5: Federal Facility? | AD5: Notes or Instructions
B6: Unique Site ID:
B7: Main Contact Name: | AD7: Calculator Version: | AI7: ='BPA Approval Status'!F1 -> 1.11 | AK7: Released on: | AO7: ='BPA Approval Status'!L1 -> 44652
B8: Main Contact Job Title:
B9: Main Contact Email: | AD9: Tech Approval Status: | AK9: ='BPA Approval Status'!I3 -> Not Yet Reviewed
B10: Main Contact Phone: | AD10: Compliance Approval Status: | AK10: ='BPA Approval Status'!I4 -> Not Yet Reviewed
B11: Average electric rate per kWh: | AD11: B/C Qualification: | AK11: =IF(V38<800001,"N/A",IF(K40="","More Info Needed",IF(AND(V38>800000,K40<0.5), "Minimum B/C Not Met", "Minimum B/C Met"))) -> N/A
B12: Type of Measures to be Submitted: | P12: --Select--
B13: Project Start:
B14: M&V Completion Date:
B15: File Completed Date:
B16: Data entry by:
B17: Data entry date:
B18: What % EEI? | M18: 1 | Q18: =IF(M18="","Please Enter a % EEI Value",IF(OR(M18>1,M18<0),"Value cannot be greater than 100% or less than 0%",IF((M18+M19)<>1,"EEI & Self Funding % must equal 100%","")))
B19: What % Self Funded? | M19: =IF(M18="","",1-M18) -> 0
B21: How many re-conductor measures are you submitting? | P21: 1 | S21: =IF(P21="--Select--","<---","") | U21: =IF(P21="--Select--","Select measure quantity to uncover workbook tabs","Please fill out the following sheets:") -> Please fill out the following sheets: | AD21: RC1 | AF21: RC2 | AH21: RC3 | AJ21: RC4 | AL21: RC5 | AN21: RC6
B23: How many transformer measures are you submitting? | P23: 1 | S23: =IF(P23="--Select--","<---","") | U23: =IF(P23="--Select--","Select measure quantity to uncover workbook tabs","Please fill out the following sheets:") -> Please fill out the following sheets: | AD23: TF1 | AF23: TF2 | AH23: TF3 | AJ23: TF4 | AL23: TF5 | AN23: TF6
B25: Tab | E25: Measure | P25: Total Site Savings kWh | V25: Total Busbar Saving kWh | AB25: Project Cost | AH25: Total Incentive Available | AN25: Requested EEI | AT25: Requested Self Funded | BA25: EEI | BB25: SF
B26: RC1 | E26: =IF(ISBLANK('RC1'!$H$4),"Re-Conductor 1",'RC1'!$H$4) -> Re-Conductor 1 | P26: =IF(OR($P$21="--Select--",$P$12="--Select--",$P$12="Transformer Only"),"",IF(OR('RC1'!R57=0,'RC1'!R57=""),"",'RC1'!R57)) | V26: =IF(OR($P$21="--Select--",$P$12="--Select--",$P$12="Transformer Only"),"",IF(OR('RC1'!R58=0,'RC1'!R58=""),"",'RC1'!R58)) | AB26: =IF(OR($P$21="--Select--",$P$12="--Select--",$P$12="Transformer Only"),"",IF(OR('RC1'!$R$60=0,'RC1'!$R$60=""),"",'RC1'!$R$60)) | AH26: =IF(OR($P$21="--Select--",$P$12="--Select--",$P$12="Transformer Only"),"",IF(OR('RC1'!R73=0,'RC1'!R73=""),"",'RC1'!R73)) | AN26: =IF(OR($P$21="--Select--",$P$12="--Select--",$P$12="Transformer Only"),"",IF(OR($M$18=0,M18="",AH26=0,AH26=""),"",$M$18*AH26)) | AT26: =IF(OR($P$21="--Select--",$P$12="--Select--",$P$12="Transformer Only"),"",IF(OR($M$19=0,$M$19="",AH26=0,AH26=""),"",$M$19*AH26)) | BA26: =AN26/$AH26 -> #VALUE! | BB26: =AT26/$AH26 -> #VALUE!
B27: RC2 | E27: =IF(ISBLANK('RC2'!$H$4),"Re-Conductor 2",'RC2'!$H$4) -> Re-Conductor 2 | P27: =IF(OR($P$21="--Select--",$P$21<2,$P$12="--Select--",$P$12="Transformer Only"),"",IF(OR('RC2'!R57=0,'RC2'!R57=""),"",'RC2'!R57)) | V27: =IF(OR($P$21="--Select--",$P$21<2,$P$12="--Select--",$P$12="Transformer Only"),"",IF(OR('RC2'!R58=0,'RC2'!R58=""),"",'RC2'!R58)) | AB27: =IF(OR($P$21="--Select--",$P$21<2,$P$12="--Select--",$P$12="Transformer Only"),"",IF(OR('RC2'!$R$60=0,'RC2'!$R$60=""),"",'RC2'!$R$60)) | AH27: =IF(OR($P$21="--Select--",$P$21<2,$P$12="--Select--",$P$12="Transformer Only"),"",IF(OR('RC2'!R73=0,'RC2'!R73=""),"",'RC2'!R73)) | AN27: =IF(OR($P$21="--Select--",$P$12="--Select--",$P$12="Transformer Only"),"",IF(OR($M$18=0,$M$18="",AH27=0,AH27=""),"",$M$18*AH27)) | AT27: =IF(OR($P$21="--Select--",$P$12="--Select--",$P$12="Transformer Only"),"",IF(OR($M$19=0,$M$19="",AH27=0,AH27=""),"",$M$19*AH27)) | BA27: =AN27/$AH27 -> #VALUE! | BB27: =AT27/$AH27 -> #VALUE!
B28: RC3 | E28: =IF(ISBLANK('RC3'!$H$4),"Re-Conductor 3",'RC3'!$H$4) -> Re-Conductor 3 | P28: =IF(OR($P$21="--Select--",$P$21<3,$P$12="--Select--",$P$12="Transformer Only"),"",IF(OR('RC3'!$R$57=0,'RC3'!$R$57=""),"",'RC3'!$R$57)) | V28: =IF(OR($P$21="--Select--",$P$21<3,$P$12="--Select--",$P$12="Transformer Only"),"",IF(OR('RC3'!R58=0,'RC3'!R58=""),"",'RC3'!R58)) | AB28: =IF(OR($P$21="--Select--",$P$21<3,$P$12="--Select--",$P$12="Transformer Only"),"",IF(OR('RC3'!$R$60=0,'RC3'!$R$60=""),"",'RC3'!$R$60)) | AH28: =IF(OR($P$21="--Select--",$P$21<3,$P$12="--Select--",$P$12="Transformer Only"),"",IF(OR('RC3'!R73=0,'RC3'!R73=""),"",'RC3'!R73)) | AN28: =IF(OR($P$21="--Select--",$P$12="--Select--",$P$12="Transformer Only"),"",IF(OR($M$18=0,$M$18="",AH28=0,AH28=""),"",$M$18*AH28)) | AT28: =IF(OR($P$21="--Select--",$P$12="--Select--",$P$12="Transformer Only"),"",IF(OR($M$19=0,$M$19="",AH28=0,AH28=""),"",$M$19*AH28)) | BA28: =AN28/$AH28 -> #VALUE! | BB28: =AT28/$AH28 -> #VALUE!
B29: RC4 | E29: =IF(ISBLANK('RC4'!$H$4),"Re-Conductor 4",'RC4'!$H$4) -> Re-Conductor 4 | P29: =IF(OR($P$21="--Select--",$P$21<4,$P$12="--Select--",$P$12="Transformer Only"),"",IF(OR('RC4'!$R$57=0,'RC4'!$R$57=""),"",'RC4'!$R$57)) | V29: =IF(OR($P$21="--Select--",$P$21<4,$P$12="--Select--",$P$12="Transformer Only"),"",IF(OR('RC4'!R58=0,'RC4'!R58=""),"",'RC4'!R58)) | AB29: =IF(OR($P$21="--Select--",$P$21<4,$P$12="--Select--",$P$12="Transformer Only"),"",IF(OR('RC4'!$R$60=0,'RC4'!$R$60=""),"",'RC4'!$R$60)) | AH29: =IF(OR($P$21="--Select--",$P$21<4,$P$12="--Select--",$P$12="Transformer Only"),"",IF(OR('RC4'!R73=0,'RC4'!R73=""),"",'RC4'!R73)) | AN29: =IF(OR($P$21="--Select--",$P$12="--Select--",$P$12="Transformer Only"),"",IF(OR($M$18=0,$M$18="",AH29=0,AH29=""),"",$M$18*AH29)) | AT29: =IF(OR($P$21="--Select--",$P$12="--Select--",$P$12="Transformer Only"),"",IF(OR($M$19=0,$M$19="",AH29=0,AH29=""),"",$M$19*AH29)) | BA29: =AN29/$AH29 -> #VALUE! | BB29: =AT29/$AH29 -> #VALUE!
B30: RC5 | E30: =IF(ISBLANK('RC5'!$H$4),"Re-Conductor 5",'RC5'!$H$4) -> Re-Conductor 5 | P30: =IF(OR($P$21="--Select--",$P$21<5,$P$12="--Select--",$P$12="Transformer Only"),"",IF(OR('RC5'!$R$57=0,'RC5'!$R$57=""),"",'RC5'!$R$57)) | V30: =IF(OR($P$21="--Select--",$P$21<5,$P$12="--Select--",$P$12="Transformer Only"),"",IF(OR('RC5'!R58=0,'RC5'!R58=""),"",'RC5'!R58)) | AB30: =IF(OR($P$21="--Select--",$P$21<5,$P$12="--Select--",$P$12="Transformer Only"),"",IF(OR('RC5'!$R$60=0,'RC5'!$R$60=""),"",'RC5'!$R$60)) | AH30: =IF(OR($P$21="--Select--",$P$21<5,$P$12="--Select--",$P$12="Transformer Only"),"",IF(OR('RC5'!R73=0,'RC5'!R73=""),"",'RC5'!R73)) | AN30: =IF(OR($P$21="--Select--",$P$12="--Select--",$P$12="Transformer Only"),"",IF(OR($M$18=0,$M$18="",AH30=0,AH30=""),"",$M$18*AH30)) | AT30: =IF(OR($P$21="--Select--",$P$12="--Select--",$P$12="Transformer Only"),"",IF(OR($M$19=0,$M$19="",AH30=0,AH30=""),"",$M$19*AH30)) | BA30: =AN30/$AH30 -> #VALUE! | BB30: =AT30/$AH30 -> #VALUE!
B31: RC6 | E31: =IF(ISBLANK('RC6'!$H$4),"Re-Conductor 6",'RC6'!$H$4) -> Re-Conductor 6 | P31: =IF(OR($P$21="--Select--",$P$21<6,$P$12="--Select--",$P$12="Transformer Only"),"",IF(OR('RC6'!$R$57=0,'RC6'!$R$57=""),"",'RC6'!$R$57)) | V31: =IF(OR($P$21="--Select--",$P$21<6,$P$12="--Select--",$P$12="Transformer Only"),"",IF(OR('RC6'!R58=0,'RC6'!R58=""),"",'RC6'!R58)) | AB31: =IF(OR($P$21="--Select--",$P$21<6,$P$12="--Select--",$P$12="Transformer Only"),"",IF(OR('RC6'!$R$60=0,'RC6'!$R$60=""),"",'RC6'!$R$60)) | AH31: =IF(OR($P$21="--Select--",$P$21<6,$P$12="--Select--",$P$12="Transformer Only"),"",IF(OR('RC6'!R73=0,'RC6'!R73=""),"",'RC6'!R73)) | AN31: =IF(OR($P$21="--Select--",$P$12="--Select--",$P$12="Transformer Only"),"",IF(OR($M$18=0,$M$18="",AH31=0,AH31=""),"",$M$18*AH31)) | AT31: =IF(OR($P$21="--Select--",$P$12="--Select--",$P$12="Transformer Only"),"",IF(OR($M$19=0,$M$19="",AH31=0,AH31=""),"",$M$19*AH31)) | BA31: =AN31/$AH31 -> #VALUE! | BB31: =AT31/$AH31 -> #VALUE!
B32: TF1 | E32: =IF(ISBLANK('TF1'!$H$4),"Transformer 1",'TF1'!$H$4) -> Transformer 1 | P32: =IF(OR($P$23="--Select--",$P$12="--Select--",$P$12="Re-Conductor Only"),"",IF(OR('TF1'!$S$36="",'TF1'!$S$36=0),"",'TF1'!$S$36)) | V32: =IF(OR($P$23="--Select--",$P$12="--Select--",$P$12="Re-Conductor Only"),"",IF(OR('TF1'!$S$37="",'TF1'!$S$37=0),"",'TF1'!$S$37)) | AB32: =IF(OR($P$23="--Select--",$P$12="--Select--",$P$12="Re-Conductor Only"),"",IF(OR('TF1'!$S$40="",'TF1'!$S$40=0),"",'TF1'!$S$40)) | AH32: =IF(OR($P$23="--Select--",$P$12="--Select--",$P$12="Re-Conductor Only"),"",IF(OR('TF1'!$S$54="",'TF1'!$S$54=0),"",'TF1'!$S$54)) | AN32: =IF(OR($P$23="--Select--",$P$12="--Select--",$P$12="Re-Conductor Only"),"",IF(OR($M$18=0,$M$18="",AH32=0,AH32=""),"",$M$18*AH32)) | AT32: =IF(OR($P$23="--Select--",$P$12="--Select--",$P$12="Re-Conductor Only"),"",IF(OR($M$19=0,$M$19="",AH32=0,AH32=""),"",$M$19*AH32)) | BA32: =AN32/$AH32 -> #VALUE! | BB32: =AT32/$AH32 -> #VALUE!
B33: TF2 | E33: =IF(ISBLANK('TF2'!$H$4),"Transformer 2",'TF2'!$H$4) -> Transformer 2 | P33: =IF(OR($P$23="--Select--",$P$23<2,$P$12="--Select--",$P$12="Re-Conductor Only"),"",IF(OR('TF2'!$S$36=0,'TF2'!$S$36=""),"",'TF2'!$S$36)) | V33: =IF(OR($P$23="--Select--",$P$23<2,$P$12="--Select--",$P$12="Re-Conductor Only"),"",IF(OR('TF2'!$S$37=0,'TF2'!$S$37=""),"",'TF2'!$S$37)) | AB33: =IF(OR($P$23="--Select--",$P$23<2,$P$12="--Select--",$P$12="Re-Conductor Only"),"",IF(OR('TF2'!$S$40=0,'TF2'!$S$40=""),"",'TF2'!$S$40)) | AH33: =IF(OR($P$23="--Select--",$P$23<2,$P$12="--Select--",$P$12="Re-Conductor Only"),"",IF(OR('TF2'!$S$54=0,'TF2'!$S$54=""),"",'TF2'!$S$54)) | AN33: =IF(OR($P$23="--Select--",$P$12="--Select--",$P$12="Re-Conductor Only"),"",IF(OR($M$18=0,$M$18="",AH33=0,AH33=""),"",$M$18*AH33)) | AT33: =IF(OR($P$23="--Select--",$P$12="--Select--",$P$12="Re-Conductor Only"),"",IF(OR($M$19=0,$M$19="",AH33=0,AH33=""),"",$M$19*AH33)) | BA33: =AN33/$AH33 -> #VALUE! | BB33: =AT33/$AH33 -> #VALUE!
B34: TF3 | E34: =IF(ISBLANK('TF3'!$H$4),"Transformer 3",'TF3'!$H$4) -> Transformer 3 | P34: =IF(OR($P$23="--Select--",$P$23<3,$P$12="--Select--",$P$12="Re-Conductor Only"),"",IF(OR('TF3'!$S$36=0,'TF3'!$S$36=""),"",'TF3'!$S$36)) | V34: =IF(OR($P$23="--Select--",$P$23<3,$P$12="--Select--",$P$12="Re-Conductor Only"),"",IF(OR('TF3'!$S$37=0,'TF3'!$S$37=""),"",'TF3'!$S$37)) | AB34: =IF(OR($P$23="--Select--",$P$23<3,$P$12="--Select--",$P$12="Re-Conductor Only"),"",IF(OR('TF3'!$S$40=0,'TF3'!$S$40=""),"",'TF3'!$S$40)) | AH34: =IF(OR($P$23="--Select--",$P$23<3,$P$12="--Select--",$P$12="Re-Conductor Only"),"",IF(OR('TF3'!$S$54=0,'TF3'!$S$54=""),"",'TF3'!$S$54)) | AN34: =IF(OR($P$23="--Select--",$P$12="--Select--",$P$12="Re-Conductor Only"),"",IF(OR($M$18=0,$M$18="",AH34=0,AH34=""),"",$M$18*AH34)) | AT34: =IF(OR($P$23="--Select--",$P$12="--Select--",$P$12="Re-Conductor Only"),"",IF(OR($M$19=0,$M$19="",AH34=0,AH34=""),"",$M$19*AH34)) | BA34: =AN34/$AH34 -> #VALUE! | BB34: =AT34/$AH34 -> #VALUE!
B35: TF4 | E35: =IF(ISBLANK('TF4'!$H$4),"Transformer 4",'TF4'!$H$4) -> Transformer 4 | P35: =IF(OR($P$23="--Select--",$P$23<4,$P$12="--Select--",$P$12="Re-Conductor Only"),"",IF(OR('TF4'!$S$36=0,'TF4'!$S$36=""),"",'TF4'!$S$36)) | V35: =IF(OR($P$23="--Select--",$P$23<4,$P$12="--Select--",$P$12="Re-Conductor Only"),"",IF(OR('TF4'!$S$37=0,'TF4'!$S$37=""),"",'TF4'!$S$37)) | AB35: =IF(OR($P$23="--Select--",$P$23<4,$P$12="--Select--",$P$12="Re-Conductor Only"),"",IF(OR('TF4'!$S$40=0,'TF4'!$S$40=""),"",'TF4'!$S$40)) | AH35: =IF(OR($P$23="--Select--",$P$23<4,$P$12="--Select--",$P$12="Re-Conductor Only"),"",IF(OR('TF4'!$S$54=0,'TF4'!$S$54=""),"",'TF4'!$S$54)) | AN35: =IF(OR($P$23="--Select--",$P$12="--Select--",$P$12="Re-Conductor Only"),"",IF(OR($M$18=0,$M$18="",AH35=0,AH35=""),"",$M$18*AH35)) | AT35: =IF(OR($P$23="--Select--",$P$12="--Select--",$P$12="Re-Conductor Only"),"",IF(OR($M$19=0,$M$19="",AH35=0,AH35=""),"",$M$19*AH35)) | BA35: =AN35/$AH35 -> #VALUE! | BB35: =AT35/$AH35 -> #VALUE!
B36: TF5 | E36: =IF(ISBLANK('TF5'!$H$4),"Transformer 5",'TF5'!$H$4) -> Transformer 5 | P36: =IF(OR($P$23="--Select--",$P$23<5,$P$12="--Select--",$P$12="Re-Conductor Only"),"",IF(OR('TF5'!$S$36=0,'TF5'!$S$36=""),"",'TF5'!$S$36)) | V36: =IF(OR($P$23="--Select--",$P$23<5,$P$12="--Select--",$P$12="Re-Conductor Only"),"",IF(OR('TF5'!$S$37=0,'TF5'!$S$37=""),"",'TF5'!$S$37)) | AB36: =IF(OR($P$23="--Select--",$P$23<5,$P$12="--Select--",$P$12="Re-Conductor Only"),"",IF(OR('TF5'!$S$40=0,'TF5'!$S$40=""),"",'TF5'!$S$40)) | AH36: =IF(OR($P$23="--Select--",$P$23<5,$P$12="--Select--",$P$12="Re-Conductor Only"),"",IF(OR('TF5'!$S$54=0,'TF5'!$S$54=""),"",'TF5'!$S$54)) | AN36: =IF(OR($P$23="--Select--",$P$12="--Select--",$P$12="Re-Conductor Only"),"",IF(OR($M$18=0,$M$18="",AH36=0,AH36=""),"",$M$18*AH36)) | AT36: =IF(OR($P$23="--Select--",$P$12="--Select--",$P$12="Re-Conductor Only"),"",IF(OR($M$19=0,$M$19="",AH36=0,AH36=""),"",$M$19*AH36)) | BA36: =AN36/$AH36 -> #VALUE! | BB36: =AT36/$AH36 -> #VALUE!
B37: TF6 | E37: =IF(ISBLANK('TF6'!$H$4),"Transformer 6",'TF6'!$H$4) -> Transformer 6 | P37: =IF(OR($P$23="--Select--",$P$23<6,$P$12="--Select--",$P$12="Re-Conductor Only"),"",IF(OR('TF6'!$S$36=0,'TF6'!$S$36=""),"",'TF6'!$S$36)) | V37: =IF(OR($P$23="--Select--",$P$23<6,$P$12="--Select--",$P$12="Re-Conductor Only"),"",IF(OR('TF6'!$S$37=0,'TF6'!$S$37=""),"",'TF6'!$S$37)) | AB37: =IF(OR($P$23="--Select--",$P$23<6,$P$12="--Select--",$P$12="Re-Conductor Only"),"",IF(OR('TF6'!$S$40=0,'TF6'!$S$40=""),"",'TF6'!$S$40)) | AH37: =IF(OR($P$23="--Select--",$P$23<6,$P$12="--Select--",$P$12="Re-Conductor Only"),"",IF(OR('TF6'!$S$54=0,'TF6'!$S$54=""),"",'TF6'!$S$54)) | AN37: =IF(OR($P$23="--Select--",$P$12="--Select--",$P$12="Re-Conductor Only"),"",IF(OR($M$18=0,$M$18="",AH37=0,AH37=""),"",$M$18*AH37)) | AT37: =IF(OR($P$23="--Select--",$P$12="--Select--",$P$12="Re-Conductor Only"),"",IF(OR($M$19=0,$M$19="",AH37=0,AH37=""),"",$M$19*AH37)) | BA37: =AN37/$AH37 -> #VALUE! | BB37: =AT37/$AH37 -> #VALUE!
E38: Total | P38: =SUM(P26:U37) -> 0 | V38: =SUM(V26:AA37) -> 0 | AB38: =SUM(AB26:AG37) -> 0 | AH38: =SUM(AH26:AM37) -> 0 | AN38: =SUM(AN26:AS37) -> 0 | AT38: =SUM(AT26:AY37) -> 0 | BA38: =AN38/$AH38 -> #DIV/0! | BB38: =AT38/$AH38 -> #DIV/0!
E40: Project BC Ratio: | K40: =IFERROR(SUM(SUM(V26:AA31)*Lists!AB7,SUM(Lists!AH13:AH18))/Summary!AB38,"")
B42: BPA Technical Support: Tony Koch, 206.220.6777, jakoch@bpa.gov
E44: BPA USE ONLY
E45: BPA-Assigned Project ID:
B46: ERROR CHECK:
...

Sheet Material R
A1: Copper | D1: Aluminum | G1: ACSR
A2: Circular Mills or AWG | B2: ra 25 C @ 60 Hz | D2: Size of Conductor | Circular Mills or AWG | E2: ra 25 C @ 60 Hz | G2: Cicular Mils or AWG Aluminum | H2: ra 25 C @ 60 Hz
A3: --Select-- | D3: --Select-- | G3: --Select--
A4: 1000 kCMIL | B4: 0.0634 | D4: 1590 kCMIL | E4: 0.0636 | G4: 1590 kCMIL | H4: 0.0591
A5: 900 kCMIL | B5: 0.0695 | D5: 1510.5 kCMIL | E5: 0.0665 | G5: 1510.5 kCMIL | H5: 0.0622
A6: 800 kCMIL | B6: 0.0772 | D6: 1431 kCMIL | E6: 0.0697 | G6: 1431 kCMIL | H6: 0.0656
A7: 750 kCMIL | B7: 0.0818 | D7: 1351.5 kCMIL | E7: 0.0733 | G7: 1351 kCMIL | H7: 0.0695
A8: 700 kCMIL | B8: 0.0871 | D8: 1272 kCMIL | E8: 0.0774 | G8: 1272 kCMIL | H8: 0.0738
A9: 600 kCMIL | B9: 0.1006 | D9: 1192.5 KCMIL | E9: 0.0821 | G9: 1192.5 kCMIL | H9: 0.0788
A10: 500 kCMIL | B10: 0.1196 | D10: 1113. kCMIL | E10: 0.0874 | G10: 1113 kCMIL | H10: 0.0844
A11: 450 kCMIL | B11: 0.1323 | D11: 1033.5 kCMIL | E11: 0.0936 | G11: 1033.5 kCMIL | H11: 0.0909
A12: 400 kCMIL | B12: 0.1484 | D12: 1000 kCMIL | E12: 0.0966 | G12: 954 kCMIL | H12: 0.0982
A13: 350 kCMIL | B13: 0.169 | D13: 954 kCMIL | E13: 0.1 | G13: 900 kCMIL | H13: 0.104
A14: 300 kCMIL | B14: 0.1966 | D14: 874.5 kCMIL | E14: 0.11 | G14: 874.5 kCMIL | H14: 0.108
A15: 250 kCMIL | B15: 0.235 | D15: 795 kCMIL | E15: 0.12 | G15: 795 kCMIL | H15: 0.117
... A19: 1/0 AWG | B19: 0.555 | D19: 556.5 kCMIL | E19: 0.17 | G19: 605 kCMIL | H19: 0.154
A20: 1 | B20: 0.699 | D20: 500 kCMIL | E20: 0.189 | G20: 556.5 kCMIL | H20: 0.168
A21: 2 | B21: 0.882 | D21: 477 kCMIL | E21: 0.198 | G21: 500 kCMIL | H21: 0.187
A22: 3 | B22: 1.112 | D22: 397.5 kCMIL | E22: 0.236 | G22: 477 kCMIL | H22: 0.196
A23: 3 | B23: 1.09 | D23: 350 kCMIL | E23: 0.268 | G23: 397.5 kCMIL | H23: 0.235
A24: 4 | B24: 1.374 | D24: 336.4 kCMIL | E24: 0.279 | G24: 336.4 kCMIL | H24: 0.278
A25: 5 | B25: 1.733 | D25: 300 kCMIL | E25: 0.312 | G25: 300 kCMIL | H25: 0.311
A26: 6 | B26: 2.18 | D26: 266.8 kCMIL | E26: 0.351 | G26: 266.8 kCMIL | H26: 0.352
A27: 7 | B27: 2.75 | D27: 250 kCMIL | E27: 0.375 | G27: 4/0 AWG | H27: 0.445
A28: 8 | B28: 3.47 | D28: 4/0 AWG | E28: 0.442 | G28: 3/0 AWG | H28: 0.56
D29: 3/0 AWG | E29: 0.558 | G29: 2/0 AWG | H29: 0.706
D30: 2/0 AWG | E30: 0.702 | G30: 1/0 AWG | H30: 0.888
D31: 1/0 AWG | E31: 0.885 | G31: 1 | H31: 1.12
D32: 1 | E32: 1.12 | G32: 2 | H32: 1.41
D33: 2 | E33: 1.41 | G33: 3 | H33: 1.78
D34: 3 | E34: 1.77 | G34: 4 | H34: 2.24
D35: 4 | E35: 2.24 | G35: 5 | H35: 2.82
D36: 6 | E36: 3.56 | G36: 6 | H36: 3.56

Sheet RC1
B1: Re-Conductoring Tab 1
AB2: Legend
AB3: To be filled in by the user
B4: Measure Name | AB4: Automatically calculated
B5: Project Start
B6: M&V Completion Date
B7: Data entry by
B8: Data entry date
C9: Measure Ref # | G9: UUDCN85002 | K9: Conductors - Service Conductor Replacement
B10: Incentive Rate ($/kWh) | J10: =IF(ISBLANK($H$5),"",OFFSET(Lists!$AI$1,MATCH('RC1'!$G$9,Lists!$AA$2:$AA$4,FALSE),MATCH('RC1'!$H$5,Lists!$AJ$1:$BA$1,1)))
B12: Are you shifting load IN or OUT of the subject feeder? | W12: No
B13: =IF($W$12="Yes","**Before continuing, please consult with BPA Technical Staff for assistance**","")
R14: Existing System | W14: Proposed System
B15: Energy Savings Analysis
B16: Length of re-conductor section (in miles)
B17: Annual Peak Power at the START of section (kW) | W17: =R17 -> 0
B18: Power Factor at Peak (%) | W18: =R18 -> 0
B19: Annual Apparent Peak Power at the START of section (kVA) | R19: =IFERROR($R$17/$R$18,"") | W19: =R19 | AB19: Note: You may manually enter kVA values but by manually entering kVA you may not be able to revert to calculated value
B20: Annual Peak Power at the END of section (kW) | W20: =R20 -> 0
B21: Annual Apparent Peak Power at the END of section (kVA) | R21: =IFERROR($R$20/$R$18,"") | W21: =R21
B23: Annual Load Factor ( kWavg / kWannual peak, as a %) | W23: =R23 -> 0 | AB23: Note: If feeder specific data is not available, you can use the load factor of the source substation. LF = (Average Annual kW / Annual Hourly Peak kW) = [(Annual Energy in kWh / 8760 hours) / Annual Hourly Peak kW]
B24: Annual Loss Factor (.85*LF^2+.15*LF) | R24: =IFERROR(0.85*$R$23^2+0.15*$R$23,"") -> 0 | W24: =IFERROR(0.85*$W$23^2+0.15*$W$23,"") -> 0
B25: Distribution Factor | Q25: =IFERROR(R21/R19,"") | R25: =IFERROR(INDEX('Distribution Factor'!$B$3:$B$53,MATCH($Q$25,'Distribution Factor'!$A$3:$A$53,-1)),"") | V25: =IFERROR(W21/W19,"") | W25: =IFERROR(INDEX('Distribution Factor'!$B$3:$B$53,MATCH($V$25,'Distribution Factor'!$A$3:$A$53,-1)),"")
B27: Line to ground Voltage (kV)
B29: Number of Phase conductors | R29: --Select-- | W29: --Select--
B30: Number of Neutral conductors | R30: --Select-- | W30: --Select--
B31: =IFERROR(IF(OR($R$29+$R$30<2,$W$29+$W$30<2),"**Phase plus neutral conductors must add to 2 or more**",""),"")
B32: Phase conductor material | R32: --Select-- | W32: --Select--
B33: Phase conductor size | R33: --Select-- | W33: --Select--
B34: Ohm per mile | R34: =IFERROR(VLOOKUP($R$33,INDIRECT($R$32&"T"),2,),"") | W34: =IFERROR(VLOOKUP($W$33,INDIRECT($W$32&"T"),2,),"")
B36: Neutral conductor material | R36: --Select-- | W36: --Select--
B37: Neutral conductor size | R37: --Select-- | W37: --Select--
B38: Ohm per mile | R38: =IFERROR(VLOOKUP($R$37,INDIRECT($R$36&"T"),2,),"") | W38: =IFERROR(VLOOKUP($W$37,INDIRECT($W$36&"T"),2,),"")
B40: Phase Conductor Resistance (Ohm) | R40: =IFERROR(VLOOKUP($R$33,INDIRECT($R$32&"T"),2,)*$W$16,"") | W40: =IFERROR(VLOOKUP($W$33,INDIRECT($W$32&"T"),2,)*$W$16,"")
B41: Neutral Conductor Resistance (Ohm) | R41: =IFERROR(VLOOKUP($R$37,INDIRECT($R$36&"T"),2,)*$W$16,0) -> 0 | W41: =IFERROR(VLOOKUP($W$37,INDIRECT($W$36&"T"),2,)*$W$16,0) -> 0
B43: Are you entering current values manually? | R43: No | AB43: Note: If you choose to enter Manual Current, you may manually enter Proposed and Neutral Current but you may not be able to revert to calculated value.
J45: Manual - Existing | N45: Manual - Proposed
B47: Phase A Current (Amps) | N47: =IF(J47="",0,J47) -> 0 | R47: =IFERROR(IF($R$43="No",$R$19/($R$29*$R$27),""),"") | W47: =IFERROR(IF($R$43="No",$W$19/($W$29*$W$27),""),"")
B48: Phase B Current (Amps) | N48: =J48 -> 0 | R48: =IFERROR(IF(AND($R$29>=2,$R$43="No"), $R$19/($R$29*$R$27), 0),"") | W48: =IFERROR(IF(AND($W$29>=2,$R$43="No"), $W$19/($W$29*$W$27), 0),"")
B49: Phase C Current (Amps) | N49: =J49 -> 0 | R49: =IFERROR(IF(AND($R$29>=3,$R$43="No"), $R$19/($R$29*$R$27), 0),"") | W49: =IFERROR(IF(AND($W$29>=3,$R$43="No"), $W$19/($W$29*$W$27), 0),"")
...

Sheet RC2
B1: Re-Conductoring Tab 2
AB2: Legend
AB3: To be filled in by the user
B4: Measure Name | AB4: Automatically calculated
B5: Project Start
B6: M&V Completion Date
B7: Data entry by
B8: Data entry date
C9: Measure Ref # | G9: UUDCN85002 | K9: Conductors - Service Conductor Replacement
B10: Incentive Rate ($/kWh) | J10: =IF(ISBLANK($H$5),"",OFFSET(Lists!$AI$1,MATCH('RC2'!$G$9,Lists!$AA$2:$AA$4,FALSE),MATCH('RC2'!$H$5,Lists!$AJ$1:$BA$1,1)))
B12: Are you shifting load IN or OUT of the subject feeder? | W12: No
B13: =IF($W$12="Yes","**Before continuing, please consult with BPA Technical Staff for assistance**","")
R14: Existing System | W14: Proposed System
B15: Energy Savings Analysis
B16: Length of re-conductor section (in miles)
B17: Annual Peak Power at the START of section (kW) | W17: =R17 -> 0
B18: Power Factor at Peak (%) | W18: =R18 -> 0
B19: Annual Apparent Peak Power at the START of section (kVA) | R19: =IFERROR($R$17/$R$18,"") | W19: =R19 | AB19: Note: You may manually enter kVA values but by manually entering kVA you may not be able to revert to calculated value
B20: Annual Peak Power at the END of section (kW) | W20: =R20 -> 0
B21: Annual Apparent Peak Power at the END of section (kVA) | R21: =IFERROR($R$20/$R$18,"") | W21: =R21
B23: Annual Load Factor ( kWavg / kWannual peak, as a %) | W23: =R23 -> 0 | AB23: Note: If feeder specific data is not available, you can use the load factor of the source substation. LF = (Average Annual kW / Annual Hourly Peak kW) = [(Annual Energy in kWh / 8760 hours) / Annual Hourly Peak kW]
B24: Annual Loss Factor (.85*LF^2+.15*LF) | R24: =IFERROR(0.85*$R$23^2+0.15*$R$23,"") -> 0 | W24: =IFERROR(0.85*$W$23^2+0.15*$W$23,"") -> 0
B25: Distribution Factor | Q25: =IFERROR(R21/R19,"") | R25: =IFERROR(INDEX('Distribution Factor'!$B$3:$B$53,MATCH($Q$25,'Distribution Factor'!$A$3:$A$53,-1)),"") | V25: =IFERROR(W21/W19,"") | W25: =IFERROR(INDEX('Distribution Factor'!$B$3:$B$53,MATCH($V$25,'Distribution Factor'!$A$3:$A$53,-1)),"")
B27: Line to ground Voltage (kV)
B29: Number of Phase conductors | R29: --Select-- | W29: --Select--
B30: Number of Neutral conductors | R30: --Select-- | W30: --Select--
B31: =IFERROR(IF(OR($R$29+$R$30<2,$W$29+$W$30<2),"**Phase plus neutral conductors must add to 2 or more**",""),"")
B32: Phase conductor material | R32: --Select-- | W32: --Select--
B33: Phase conductor size | R33: --Select-- | W33: --Select--
B34: Ohm per mile | R34: =IFERROR(VLOOKUP($R$33,INDIRECT($R$32&"T"),2,),"") | W34: =IFERROR(VLOOKUP($W$33,INDIRECT($W$32&"T"),2,),"")
B36: Neutral conductor material | R36: --Select-- | W36: --Select--
B37: Neutral conductor size | R37: --Select-- | W37: --Select--
B38: Ohm per mile | R38: =IFERROR(VLOOKUP($R$37,INDIRECT($R$36&"T"),2,),"") | W38: =IFERROR(VLOOKUP($W$37,INDIRECT($W$36&"T"),2,),"")
B40: Phase Conductor Resistance (Ohm) | R40: =IFERROR(VLOOKUP($R$33,INDIRECT($R$32&"T"),2,)*$W$16,"") | W40: =IFERROR(VLOOKUP($W$33,INDIRECT($W$32&"T"),2,)*$W$16,"")
B41: Neutral Conductor Resistance (Ohm) | R41: =IFERROR(VLOOKUP($R$37,INDIRECT($R$36&"T"),2,)*$W$16,0) -> 0 | W41: =IFERROR(VLOOKUP($W$37,INDIRECT($W$36&"T"),2,)*$W$16,0) -> 0
B43: Are you entering current values manually? | R43: No | AB43: Note: If you choose to enter Manual Current, you may manually enter Proposed and Neutral Current but you may not be able to revert to calculated value.
J45: Manual - Existing | N45: Manual - Proposed
B47: Phase A Current (Amps) | N47: =IF(J47="",0,J47) -> 0 | R47: =IFERROR(IF($R$43="No",$R$19/($R$29*$R$27),""),"") | W47: =IFERROR(IF($R$43="No",$W$19/($W$29*$W$27),""),"")
B48: Phase B Current (Amps) | N48: =J48 -> 0 | R48: =IFERROR(IF(AND($R$29>=2,$R$43="No"), $R$19/($R$29*$R$27), 0),"") | W48: =IFERROR(IF(AND($W$29>=2,$R$43="No"), $W$19/($W$29*$W$27), 0),"")
B49: Phase C Current (Amps) | N49: =J49 -> 0 | R49: =IFERROR(IF(AND($R$29>=3,$R$43="No"), $R$19/($R$29*$R$27), 0),"") | W49: =IFERROR(IF(AND($W$29>=3,$R$43="No"), $W$19/($W$29*$W$27), 0),"")
...

Sheet RC3
B1: Re-Conductoring Tab 3
AB2: Legend
AB3: To be filled in by the user
B4: Measure Name | AB4: Automatically calculated
B5: Project Start
B6: M&V Completion Date
B7: Data entry by
B8: Data entry date
C9: Measure Ref # | G9: UUDCN85002 | K9: Conductors - Service Conductor Replacement
B10: Incentive Rate ($/kWh) | J10: =IF(ISBLANK($H$5),"",OFFSET(Lists!$AI$1,MATCH('RC3'!$G$9,Lists!$AA$2:$AA$4,FALSE),MATCH('RC3'!$H$5,Lists!$AJ$1:$BA$1,1)))
B12: Are you shifting load IN or OUT of the subject feeder? | W12: No
B13: =IF($W$12="Yes","**Before continuing, please consult with BPA Technical Staff for assistance**","")
R14: Existing System | W14: Proposed System
B15: Energy Savings Analysis
B16: Length of re-conductor section (in miles)
B17: Annual Peak Power at the START of section (kW) | W17: =R17 -> 0
B18: Power Factor at Peak (%) | W18: =R18 -> 0
B19: Annual Apparent Peak Power at the START of section (kVA) | R19: =IFERROR($R$17/$R$18,"") | W19: =R19 | AB19: Note: You may manually enter kVA values but by manually entering kVA you may not be able to revert to calculated value
B20: Annual Peak Power at the END of section (kW) | W20: =R20 -> 0
B21: Annual Apparent Peak Power at the END of section (kVA) | R21: =IFERROR($R$20/$R$18,"") | W21: =R21
B23: Annual Load Factor ( kWavg / kWannual peak, as a %) | W23: =R23 -> 0 | AB23: Note: If feeder specific data is not available, you can use the load factor of the source substation. LF = (Average Annual kW / Annual Hourly Peak kW) = [(Annual Energy in kWh / 8760 hours) / Annual Hourly Peak kW]
B24: Annual Loss Factor (.85*LF^2+.15*LF) | R24: =IFERROR(0.85*$R$23^2+0.15*$R$23,"") -> 0 | W24: =IFERROR(0.85*$W$23^2+0.15*$W$23,"") -> 0
B25: Distribution Factor | Q25: =IFERROR(R21/R19,"") | R25: =IFERROR(INDEX('Distribution Factor'!$B$3:$B$53,MATCH($Q$25,'Distribution Factor'!$A$3:$A$53,-1)),"") | V25: =IFERROR(W21/W19,"") | W25: =IFERROR(INDEX('Distribution Factor'!$B$3:$B$53,MATCH($V$25,'Distribution Factor'!$A$3:$A$53,-1)),"")
B27: Line to ground Voltage (kV)
B29: Number of Phase conductors | R29: --Select-- | W29: --Select--
B30: Number of Neutral conductors | R30: --Select-- | W30: --Select--
B31: =IFERROR(IF(OR($R$29+$R$30<2,$W$29+$W$30<2),"**Phase plus neutral conductors must add to 2 or more**",""),"")
B32: Phase conductor material | R32: --Select-- | W32: --Select--
B33: Phase conductor size | R33: --Select-- | W33: --Select--
B34: Ohm per mile | R34: =IFERROR(VLOOKUP($R$33,INDIRECT($R$32&"T"),2,),"") | W34: =IFERROR(VLOOKUP($W$33,INDIRECT($W$32&"T"),2,),"")
B36: Neutral conductor material | R36: --Select-- | W36: --Select--
B37: Neutral conductor size | R37: --Select-- | W37: --Select--
B38: Ohm per mile | R38: =IFERROR(VLOOKUP($R$37,INDIRECT($R$36&"T"),2,),"") | W38: =IFERROR(VLOOKUP($W$37,INDIRECT($W$36&"T"),2,),"")
B40: Phase Conductor Resistance (Ohm) | R40: =IFERROR(VLOOKUP($R$33,INDIRECT($R$32&"T"),2,)*$W$16,"") | W40: =IFERROR(VLOOKUP($W$33,INDIRECT($W$32&"T"),2,)*$W$16,"")
B41: Neutral Conductor Resistance (Ohm) | R41: =IFERROR(VLOOKUP($R$37,INDIRECT($R$36&"T"),2,)*$W$16,0) -> 0 | W41: =IFERROR(VLOOKUP($W$37,INDIRECT($W$36&"T"),2,)*$W$16,0) -> 0
B43: Are you entering current values manually? | R43: No | AB43: Note: If you choose to enter Manual Current, you may manually enter Proposed and Neutral Current but you may not be able to revert to calculated value.
J45: Manual - Existing | N45: Manual - Proposed
B47: Phase A Current (Amps) | N47: =IF(J47="",0,J47) -> 0 | R47: =IFERROR(IF($R$43="No",$R$19/($R$29*$R$27),""),"") | W47: =IFERROR(IF($R$43="No",$W$19/($W$29*$W$27),""),"")
B48: Phase B Current (Amps) | N48: =J48 -> 0 | R48: =IFERROR(IF(AND($R$29>=2,$R$43="No"), $R$19/($R$29*$R$27), 0),"") | W48: =IFERROR(IF(AND($W$29>=2,$R$43="No"), $W$19/($W$29*$W$27), 0),"")
B49: Phase C Current (Amps) | N49: =J49 -> 0 | R49: =IFERROR(IF(AND($R$29>=3,$R$43="No"), $R$19/($R$29*$R$27), 0),"") | W49: =IFERROR(IF(AND($W$29>=3,$R$43="No"), $W$19/($W$29*$W$27), 0),"")
...

Sheet RC4
B1: Re-Conductoring Tab 4
AB2: Legend
AB3: To be filled in by the user
B4: Measure Name | AB4: Automatically calculated
B5: Project Start
B6: M&V Completion Date
B7: Data entry by
B8: Data entry date
C9: Measure Ref # | G9: UUDCN85002 | K9: Conductors - Service Conductor Replacement
B10: Incentive Rate ($/kWh) | J10: =IF(ISBLANK($H$5),"",OFFSET(Lists!$AI$1,MATCH('RC4'!$G$9,Lists!$AA$2:$AA$4,FALSE),MATCH('RC4'!$H$5,Lists!$AJ$1:$BA$1,1)))
B12: Are you shifting load IN or OUT of the subject feeder? | W12: No
B13: =IF($W$12="Yes","**Before continuing, please consult with BPA Technical Staff for assistance**","")
R14: Existing System | W14: Proposed System
B15: Energy Savings Analysis
B16: Length of re-conductor section (in miles)
B17: Annual Peak Power at the START of section (kW) | W17: =R17 -> 0
B18: Power Factor at Peak (%) | W18: =R18 -> 0
B19: Annual Apparent Peak Power at the START of section (kVA) | R19: =IFERROR($R$17/$R$18,"") | W19: =R19 | AB19: Note: You may manually enter kVA values but by manually entering kVA you may not be able to revert to calculated value
B20: Annual Peak Power at the END of section (kW) | W20: =R20 -> 0
B21: Annual Apparent Peak Power at the END of section (kVA) | R21: =IFERROR($R$20/$R$18,"") | W21: =R21
B23: Annual Load Factor ( kWavg / kWannual peak, as a %) | W23: =R23 -> 0 | AB23: Note: If feeder specific data is not available, you can use the load factor of the source substation. LF = (Average Annual kW / Annual Hourly Peak kW) = [(Annual Energy in kWh / 8760 hours) / Annual Hourly Peak kW]
B24: Annual Loss Factor (.85*LF^2+.15*LF) | R24: =IFERROR(0.85*$R$23^2+0.15*$R$23,"") -> 0 | W24: =IFERROR(0.85*$W$23^2+0.15*$W$23,"") -> 0
B25: Distribution Factor | Q25: =IFERROR(R21/R19,"") | R25: =IFERROR(INDEX('Distribution Factor'!$B$3:$B$53,MATCH($Q$25,'Distribution Factor'!$A$3:$A$53,-1)),"") | V25: =IFERROR(W21/W19,"") | W25: =IFERROR(INDEX('Distribution Factor'!$B$3:$B$53,MATCH($V$25,'Distribution Factor'!$A$3:$A$53,-1)),"")
B27: Line to ground Voltage (kV)
B29: Number of Phase conductors | R29: --Select-- | W29: --Select--
B30: Number of Neutral conductors | R30: --Select-- | W30: --Select--
B31: =IFERROR(IF(OR($R$29+$R$30<2,$W$29+$W$30<2),"**Phase plus neutral conductors must add to 2 or more**",""),"")
B32: Phase conductor material | R32: --Select-- | W32: --Select--
B33: Phase conductor size | R33: --Select-- | W33: --Select--
B34: Ohm per mile | R34: =IFERROR(VLOOKUP($R$33,INDIRECT($R$32&"T"),2,),"") | W34: =IFERROR(VLOOKUP($W$33,INDIRECT($W$32&"T"),2,),"")
B36: Neutral conductor material | R36: --Select-- | W36: --Select--
B37: Neutral conductor size | R37: --Select-- | W37: --Select--
B38: Ohm per mile | R38: =IFERROR(VLOOKUP($R$37,INDIRECT($R$36&"T"),2,),"") | W38: =IFERROR(VLOOKUP($W$37,INDIRECT($W$36&"T"),2,),"")
B40: Phase Conductor Resistance (Ohm) | R40: =IFERROR(VLOOKUP($R$33,INDIRECT($R$32&"T"),2,)*$W$16,"") | W40: =IFERROR(VLOOKUP($W$33,INDIRECT($W$32&"T"),2,)*$W$16,"")
B41: Neutral Conductor Resistance (Ohm) | R41: =IFERROR(VLOOKUP($R$37,INDIRECT($R$36&"T"),2,)*$W$16,0) -> 0 | W41: =IFERROR(VLOOKUP($W$37,INDIRECT($W$36&"T"),2,)*$W$16,0) -> 0
B43: Are you entering current values manually? | R43: No | AB43: Note: If you choose to enter Manual Current, you may manually enter Proposed and Neutral Current but you may not be able to revert to calculated value.
J45: Manual - Existing | N45: Manual - Proposed
B47: Phase A Current (Amps) | N47: =IF(J47="",0,J47) -> 0 | R47: =IFERROR(IF($R$43="No",$R$19/($R$29*$R$27),""),"") | W47: =IFERROR(IF($R$43="No",$W$19/($W$29*$W$27),""),"")
B48: Phase B Current (Amps) | N48: =J48 -> 0 | R48: =IFERROR(IF(AND($R$29>=2,$R$43="No"), $R$19/($R$29*$R$27), 0),"") | W48: =IFERROR(IF(AND($W$29>=2,$R$43="No"), $W$19/($W$29*$W$27), 0),"")
B49: Phase C Current (Amps) | N49: =J49 -> 0 | R49: =IFERROR(IF(AND($R$29>=3,$R$43="No"), $R$19/($R$29*$R$27), 0),"") | W49: =IFERROR(IF(AND($W$29>=3,$R$43="No"), $W$19/($W$29*$W$27), 0),"")
...

Sheet RC5
B1: Re-Conductoring Tab 5
AB2: Legend
AB3: To be filled in by the user
B4: Measure Name | AB4: Automatically calculated
B5: Project Start
B6: M&V Completion Date
B7: Data entry by
B8: Data entry date
C9: Measure Ref # | G9: UUDCN85002 | K9: Conductors - Service Conductor Replacement
B10: Incentive Rate ($/kWh) | J10: =IF(ISBLANK($H$5),"",OFFSET(Lists!$AI$1,MATCH('RC5'!$G$9,Lists!$AA$2:$AA$4,FALSE),MATCH('RC5'!$H$5,Lists!$AJ$1:$BA$1,1)))
B12: Are you shifting load IN or OUT of the subject feeder? | W12: No
B13: =IF($W$12="Yes","**Before continuing, please consult with BPA Technical Staff for assistance**","")
R14: Existing System | W14: Proposed System
B15: Energy Savings Analysis
B16: Length of re-conductor section (in miles)
B17: Annual Peak Power at the START of section (kW) | W17: =R17 -> 0
B18: Power Factor at Peak (%) | W18: =R18 -> 0
B19: Annual Apparent Peak Power at the START of section (kVA) | R19: =IFERROR($R$17/$R$18,"") | W19: =R19 | AB19: Note: You may manually enter kVA values but by manually entering kVA you may not be able to revert to calculated value
B20: Annual Peak Power at the END of section (kW) | W20: =R20 -> 0
B21: Annual Apparent Peak Power at the END of section (kVA) | R21: =IFERROR($R$20/$R$18,"") | W21: =R21
B23: Annual Load Factor ( kWavg / kWannual peak, as a %) | W23: =R23 -> 0 | AB23: Note: If feeder specific data is not available, you can use the load factor of the source substation. LF = (Average Annual kW / Annual Hourly Peak kW) = [(Annual Energy in kWh / 8760 hours) / Annual Hourly Peak kW]
B24: Annual Loss Factor (.85*LF^2+.15*LF) | R24: =IFERROR(0.85*$R$23^2+0.15*$R$23,"") -> 0 | W24: =IFERROR(0.85*$W$23^2+0.15*$W$23,"") -> 0
B25: Distribution Factor | Q25: =IFERROR(R21/R19,"") | R25: =IFERROR(INDEX('Distribution Factor'!$B$3:$B$53,MATCH($Q$25,'Distribution Factor'!$A$3:$A$53,-1)),"") | V25: =IFERROR(W21/W19,"") | W25: =IFERROR(INDEX('Distribution Factor'!$B$3:$B$53,MATCH($V$25,'Distribution Factor'!$A$3:$A$53,-1)),"")
B27: Line to ground Voltage (kV)
B29: Number of Phase conductors | R29: --Select-- | W29: --Select--
B30: Number of Neutral conductors | R30: --Select-- | W30: --Select--
B31: =IFERROR(IF(OR($R$29+$R$30<2,$W$29+$W$30<2),"**Phase plus neutral conductors must add to 2 or more**",""),"")
B32: Phase conductor material | R32: --Select-- | W32: --Select--
B33: Phase conductor size
B34: Ohm per mile | R34: =IFERROR(VLOOKUP($R$33,INDIRECT($R$32&"T"),2,),"") | W34: =IFERROR(VLOOKUP($W$33,INDIRECT($W$32&"T"),2,),"")
B36: Neutral conductor material | R36: --Select-- | W36: --Select--
B37: Neutral conductor size
B38: Ohm per mile | R38: =IFERROR(VLOOKUP($R$37,INDIRECT($R$36&"T"),2,),"") | W38: =IFERROR(VLOOKUP($W$37,INDIRECT($W$36&"T"),2,),"")
B40: Phase Conductor Resistance (Ohm) | R40: =IFERROR(VLOOKUP($R$33,INDIRECT($R$32&"T"),2,)*$W$16,"") | W40: =IFERROR(VLOOKUP($W$33,INDIRECT($W$32&"T"),2,)*$W$16,"")
B41: Neutral Conductor Resistance (Ohm) | R41: =IFERROR(VLOOKUP($R$37,INDIRECT($R$36&"T"),2,)*$W$16,0) -> 0 | W41: =IFERROR(VLOOKUP($W$37,INDIRECT($W$36&"T"),2,)*$W$16,0) -> 0
B43: Are you entering current values manually? | R43: No | AB43: Note: If you choose to enter Manual Current, you may manually enter Proposed and Neutral Current but you may not be able to revert to calculated value.
J45: Manual - Existing | N45: Manual - Proposed
B47: Phase A Current (Amps) | N47: =IF(J47="",0,J47) -> 0 | R47: =IFERROR(IF($R$43="No",$R$19/($R$29*$R$27),""),"") | W47: =IFERROR(IF($R$43="No",$W$19/($W$29*$W$27),""),"")
B48: Phase B Current (Amps) | N48: =J48 -> 0 | R48: =IFERROR(IF(AND($R$29>=2,$R$43="No"), $R$19/($R$29*$R$27), 0),"") | W48: =IFERROR(IF(AND($W$29>=2,$R$43="No"), $W$19/($W$29*$W$27), 0),"")
B49: Phase C Current (Amps) | N49: =J49 -> 0 | R49: =IFERROR(IF(AND($R$29>=3,$R$43="No"), $R$19/($R$29*$R$27), 0),"") | W49: =IFERROR(IF(AND($W$29>=3,$R$43="No"), $W$19/($W$29*$W$27), 0),"")
...

Sheet RC6
B1: Re-Conductoring Tab 6
AB2: Legend
AB3: To be filled in by the user
B4: Measure Name | AB4: Automatically calculated
B5: Project Start
B6: M&V Completion Date
B7: Data entry by
B8: Data entry date
C9: Measure Ref # | G9: UUDCN85002 | K9: Conductors - Service Conductor Replacement
B10: Incentive Rate ($/kWh) | J10: =IF(ISBLANK($H$5),"",OFFSET(Lists!$AI$1,MATCH('RC6'!$G$9,Lists!$AA$2:$AA$4,FALSE),MATCH('RC6'!$H$5,Lists!$AJ$1:$BA$1,1)))
B12: Are you shifting load IN or OUT of the subject feeder? | W12: No
B13: =IF($W$12="Yes","**Before continuing, please consult with BPA Technical Staff for assistance**","")
R14: Existing System | W14: Proposed System
B15: Energy Savings Analysis
B16: Length of re-conductor section (in miles)
B17: Annual Peak Power at the START of section (kW) | W17: =R17 -> 0
B18: Power Factor at Peak (%) | W18: =R18 -> 0
B19: Annual Apparent Peak Power at the START of section (kVA) | R19: =IFERROR($R$17/$R$18,"") | W19: =R19 | AB19: Note: You may manually enter kVA values but by manually entering kVA you may not be able to revert to calculated value
B20: Annual Peak Power at the END of section (kW) | W20: =R20 -> 0
B21: Annual Apparent Peak Power at the END of section (kVA) | R21: =IFERROR($R$20/$R$18,"") | W21: =R21
B23: Annual Load Factor ( kWavg / kWannual peak, as a %) | W23: =R23 -> 0 | AB23: Note: If feeder specific data is not available, you can use the load factor of the source substation. LF = (Average Annual kW / Annual Hourly Peak kW) = [(Annual Energy in kWh / 8760 hours) / Annual Hourly Peak kW]
B24: Annual Loss Factor (.85*LF^2+.15*LF) | R24: =IFERROR(0.85*$R$23^2+0.15*$R$23,"") -> 0 | W24: =IFERROR(0.85*$W$23^2+0.15*$W$23,"") -> 0
B25: Distribution Factor | Q25: =IFERROR(R21/R19,"") | R25: =IFERROR(INDEX('Distribution Factor'!$B$3:$B$53,MATCH($Q$25,'Distribution Factor'!$A$3:$A$53,-1)),"") | V25: =IFERROR(W21/W19,"") | W25: =IFERROR(INDEX('Distribution Factor'!$B$3:$B$53,MATCH($V$25,'Distribution Factor'!$A$3:$A$53,-1)),"")
B27: Line to ground Voltage (kV)
B29: Number of Phase conductors | R29: --Select-- | W29: --Select--
B30: Number of Neutral conductors | R30: --Select-- | W30: --Select--
B31: =IFERROR(IF(OR($R$29+$R$30<2,$W$29+$W$30<2),"**Phase plus neutral conductors must add to 2 or more**",""),"")
B32: Phase conductor material | R32: --Select-- | W32: --Select--
B33: Phase conductor size
B34: Ohm per mile | R34: =IFERROR(VLOOKUP($R$33,INDIRECT($R$32&"T"),2,),"") | W34: =IFERROR(VLOOKUP($W$33,INDIRECT($W$32&"T"),2,),"")
B36: Neutral conductor material | R36: --Select-- | W36: --Select--
B37: Neutral conductor size
B38: Ohm per mile | R38: =IFERROR(VLOOKUP($R$37,INDIRECT($R$36&"T"),2,),"") | W38: =IFERROR(VLOOKUP($W$37,INDIRECT($W$36&"T"),2,),"")
B40: Phase Conductor Resistance (Ohm) | R40: =IFERROR(VLOOKUP($R$33,INDIRECT($R$32&"T"),2,)*$W$16,"") | W40: =IFERROR(VLOOKUP($W$33,INDIRECT($W$32&"T"),2,)*$W$16,"")
B41: Neutral Conductor Resistance (Ohm) | R41: =IFERROR(VLOOKUP($R$37,INDIRECT($R$36&"T"),2,)*$W$16,0) -> 0 | W41: =IFERROR(VLOOKUP($W$37,INDIRECT($W$36&"T"),2,)*$W$16,0) -> 0
B43: Are you entering current values manually? | R43: No | AB43: Note: If you choose to enter Manual Current, you may manually enter Proposed and Neutral Current but you may not be able to revert to calculated value.
J45: Manual - Existing | N45: Manual - Proposed
B47: Phase A Current (Amps) | N47: =IF(J47="",0,J47) -> 0 | R47: =IFERROR(IF($R$43="No",$R$19/($R$29*$R$27),""),"") | W47: =IFERROR(IF($R$43="No",$W$19/($W$29*$W$27),""),"")
B48: Phase B Current (Amps) | N48: =J48 -> 0 | R48: =IFERROR(IF(AND($R$29>=2,$R$43="No"), $R$19/($R$29*$R$27), 0),"") | W48: =IFERROR(IF(AND($W$29>=2,$R$43="No"), $W$19/($W$29*$W$27), 0),"")
B49: Phase C Current (Amps) | N49: =J49 -> 0 | R49: =IFERROR(IF(AND($R$29>=3,$R$43="No"), $R$19/($R$29*$R$27), 0),"") | W49: =IFERROR(IF(AND($W$29>=3,$R$43="No"), $W$19/($W$29*$W$27), 0),"")
...

Sheet TF1
B1: Transformer Tab 1
AC2: Legend
AC3: To be filled in by the user
B4: Measure Name | AC4: Automatically calculated
B5: Project Start
B6: M&V Completion Date
B7: Data entry by
B8: Data entry date
B9: Project Intent | H9: --Select--
B10: Project Type | H10: --Select--
B11: Measure Ref # | H11: =IF(H10="New Construction","UUDTR95006",IF(H10="Retrofit","UUDTR85006",""))
B12: Incentive Rate ($/kWh) | J12: =IF(OR(ISBLANK($H$5),H10="--Select--"),"",OFFSET(Lists!$AI$1,MATCH(H11,Lists!$AA$2:$AA$4,FALSE),MATCH($H$5,Lists!$AJ$1:$BA$1,1)))
S14: Existing System | X14: Proposed System
B16: Quantity | X16: 1
B17: Nameplate Power of the Transformer (kVA)
B18: Peak Annual (Hourly) Power on Transformer (kVA) | X18: =S18 -> 0 | AC18: Note: You may manually enter kVA values but by manually entering kVA you may not be able to revert to calculated value
B19: Average (Hourly) Power on Transformer (kVA) | X19: =S19 -> 0
B20: Load Factor (Avg / Peak) | S20: =IFERROR($S$19/$S$18,"") | X20: =IFERROR($X$19/$X$18,"")
B22: Annual Loss Factor (.85*LF^2+.15*LF) | S22: =IFERROR($S$20^2*0.85+$S$20*0.15,"") | X22: =IFERROR(0.85*X20^2+0.15*X20,"")
B23: Annual Energized Hours | X23: =S23 -> 0
B25: No Load Loss Nameplate Rated Power (kW)
B26: Load Loss at Nameplate Rated Power (kW)
B28: Manufacturer Loss Report documentation | S28: Attach Below | X28: Attach Below
B30: Peak Load-Loss (kW) | S30: =IFERROR($S$26*($S$18/$S$17)^2,"") | X30: =IFERROR($X$26*($X$18/X17)^2,"")
B31: Annual No-Load (core) Energy Losses (kWh/year) | S31: =IFERROR($S$25*$S$23,"") -> 0 | X31: =IFERROR($X$25*$X$23,"") -> 0
B32: Annual Load (winding) Energy Losses (kWh/year) | S32: =IFERROR($S$30*$S$22*$S$23,"") | X32: =IFERROR($X$30*$X$22*$X$23,"")
B33: Unit Annual Energy Losses (kWh/year) | S33: =IFERROR(SUM(S31:V32),"") -> 0 | X33: =SUM(X31:AA32) -> 0
B35: Unit Annual Site Energy Savings (kWh/year) | S35: =IFERROR(($S$33-$X$33),"") -> 0
B36: Total Annual Site Energy Savings (kWh/year) | S36: =IFERROR(($S$33-$X$33)*$X$16,"") -> 0 | AC36: BUSBAR Factor
B37: Total Annual Busbar Energy Savings (kWh/year) | S37: =IFERROR(S36*AC37,"") -> 0 | AC37: 1.09056
B39: Unit Project Cost ($) (Quantity = 1)
B40: Total Project Cost ($) | S40: =$S$39*$X$16 -> 0
B42: Up-Load file documenting Project Cost and Loss Reports
B43: Please Include: Loss Test Report for Exisiting and Loss Test Report for Proposed
B44: 1. Click on this cell ---------------------------------> | S44: For Additional Files, click on the cells to the right -----------> as needed and follow the same instructions
B45: 2. From the Menu Bar -> Click Insert
B46: 3. From Insert -> Click Object
B47: 4. Select: Create From File
B48: 5. Browse and select the file to be uploaded
B49: 6. Check: Display as Icon (Do not Check Link to File, if option)
...

Sheet TF2
B1: Transformer Tab 2
AC2: Legend
AC3: To be filled in by the user
B4: Measure Name | AC4: Automatically calculated
B5: Project Start
B6: M&V Completion Date
B7: Data entry by
B8: Data entry date
B9: Project Intent | H9: --Select--
B10: Project Type | H10: --Select--
B11: Measure Ref # | H11: =IF(H10="New Construction","UUDTR95006",IF(H10="Retrofit","UUDTR85006",""))
B12: Incentive Rate ($/kWh) | J12: =IF(OR(ISBLANK($H$5),H10="--Select--"),"",OFFSET(Lists!$AI$1,MATCH(H11,Lists!$AA$2:$AA$4,FALSE),MATCH($H$5,Lists!$AJ$1:$BA$1,1)))
S14: Existing System | X14: Proposed System
B16: Quantity | X16: 1
B17: Nameplate Power of the Transformer (kVA)
B18: Peak Annual (Hourly) Power on Transformer (kVA) | X18: =S18 -> 0 | AC18: Note: You may manually enter kVA values but by manually entering kVA you may not be able to revert to calculated value
B19: Average (Hourly) Power on Transformer (kVA) | X19: =S19 -> 0
B20: Load Factor (Avg / Peak) | S20: =IFERROR($S$19/$S$18,"") | X20: =IFERROR($X$19/$X$18,"")
B22: Annual Loss Factor (.85*LF^2+.15*LF) | S22: =IFERROR($S$20^2*0.85+$S$20*0.15,"") | X22: =IFERROR(0.85*X20^2+0.15*X20,"")
B23: Annual Energized Hours | X23: =S23 -> 0
B25: No Load Loss Nameplate Rated Power (kW)
B26: Load Loss at Nameplate Rated Power (kW)
B28: Manufacturer Loss Report documentation | S28: Attach Below | X28: Attach Below
B30: Peak Load-Loss (kW) | S30: =IFERROR($S$26*($S$18/$S$17)^2,"") | X30: =IFERROR($X$26*($X$18/X17)^2,"")
B31: Annual No-Load (core) Energy Losses (kWh/year) | S31: =IFERROR($S$25*$S$23,"") -> 0 | X31: =IFERROR($X$25*$X$23,"") -> 0
B32: Annual Load (winding) Energy Losses (kWh/year) | S32: =IFERROR($S$30*$S$22*$S$23,"") | X32: =IFERROR($X$30*$X$22*$X$23,"")
B33: Unit Annual Energy Losses (kWh/year) | S33: =IFERROR(SUM(S31:V32),"") -> 0 | X33: =SUM(X31:AA32) -> 0
B35: Unit Annual Site Energy Savings (kWh/year) | S35: =IFERROR(($S$33-$X$33),"") -> 0
B36: Total Annual Site Energy Savings (kWh/year) | S36: =IFERROR(($S$33-$X$33)*$X$16,"") -> 0 | AC36: BUSBAR Factor
B37: Total Annual Busbar Energy Savings (kWh/year) | S37: =IFERROR(S36*AC37,"") -> 0 | AC37: 1.09056
B39: Unit Project Cost ($) (Quantity = 1)
B40: Total Project Cost ($) | S40: =$S$39*$X$16 -> 0
B42: Up-Load file documenting Project Cost and Loss Reports
B43: Please Include: Loss Test Report for Exisiting and Loss Test Report for Proposed
B44: 1. Click on this cell ---------------------------------> | S44: For Additional Files, click on the cells to the right -----------> as needed and follow the same instructions
B45: 2. From the Menu Bar -> Click Insert
B46: 3. From Insert -> Click Object
B47: 4. Select: Create From File
B48: 5. Browse and select the file to be uploaded
B49: 6. Check: Display as Icon (Do not Check Link to File, if option)
...

Sheet TF3
B1: Transformer Tab 3
AC2: Legend
AC3: To be filled in by the user
B4: Measure Name | AC4: Automatically calculated
B5: Project Start
B6: M&V Completion Date
B7: Data entry by
B8: Data entry date
B9: Project Intent | H9: --Select--
B10: Project Type | H10: --Select--
B11: Measure Ref # | H11: =IF(H10="New Construction","UUDTR95006",IF(H10="Retrofit","UUDTR85006",""))
B12: Incentive Rate ($/kWh) | J12: =IF(OR(ISBLANK($H$5),H10="--Select--"),"",OFFSET(Lists!$AI$1,MATCH(H11,Lists!$AA$2:$AA$4,FALSE),MATCH($H$5,Lists!$AJ$1:$BA$1,1)))
S14: Existing System | X14: Proposed System
B16: Quantity | X16: 1
B17: Nameplate Power of the Transformer (kVA)
B18: Peak Annual (Hourly) Power on Transformer (kVA) | X18: =S18 -> 0 | AC18: Note: You may manually enter kVA values but by manually entering kVA you may not be able to revert to calculated value
B19: Average (Hourly) Power on Transformer (kVA) | X19: =S19 -> 0
B20: Load Factor (Avg / Peak) | S20: =IFERROR($S$19/$S$18,"") | X20: =IFERROR($X$19/$X$18,"")
B22: Annual Loss Factor (.85*LF^2+.15*LF) | S22: =IFERROR($S$20^2*0.85+$S$20*0.15,"") | X22: =IFERROR(0.85*X20^2+0.15*X20,"")
B23: Annual Energized Hours | X23: =S23 -> 0
B25: No Load Loss Nameplate Rated Power (kW)
B26: Load Loss at Nameplate Rated Power (kW)
B28: Manufacturer Loss Report documentation | S28: Attach Below | X28: Attach Below
B30: Peak Load-Loss (kW) | S30: =IFERROR($S$26*($S$18/$S$17)^2,"") | X30: =IFERROR($X$26*($X$18/X17)^2,"")
B31: Annual No-Load (core) Energy Losses (kWh/year) | S31: =IFERROR($S$25*$S$23,"") -> 0 | X31: =IFERROR($X$25*$X$23,"") -> 0
B32: Annual Load (winding) Energy Losses (kWh/year) | S32: =IFERROR($S$30*$S$22*$S$23,"") | X32: =IFERROR($X$30*$X$22*$X$23,"")
B33: Unit Annual Energy Losses (kWh/year) | S33: =IFERROR(SUM(S31:V32),"") -> 0 | X33: =SUM(X31:AA32) -> 0
B35: Unit Annual Site Energy Savings (kWh/year) | S35: =IFERROR(($S$33-$X$33),"") -> 0
B36: Total Annual Site Energy Savings (kWh/year) | S36: =IFERROR(($S$33-$X$33)*$X$16,"") -> 0 | AC36: BUSBAR Factor
B37: Total Annual Busbar Energy Savings (kWh/year) | S37: =IFERROR(S36*AC37,"") -> 0 | AC37: 1.09056
B39: Unit Project Cost ($) (Quantity = 1)
B40: Total Project Cost ($) | S40: =$S$39*$X$16 -> 0
B42: Up-Load file documenting Project Cost and Loss Reports
B43: Please Include: Loss Test Report for Exisiting and Loss Test Report for Proposed
B44: 1. Click on this cell ---------------------------------> | S44: For Additional Files, click on the cells to the right -----------> as needed and follow the same instructions
B45: 2. From the Menu Bar -> Click Insert
B46: 3. From Insert -> Click Object
B47: 4. Select: Create From File
B48: 5. Browse and select the file to be uploaded
B49: 6. Check: Display as Icon (Do not Check Link to File, if option)
...

Sheet TF4
B1: Transformer Tab 4
AC2: Legend
AC3: To be filled in by the user
B4: Measure Name | AC4: Automatically calculated
B5: Project Start
B6: M&V Completion Date
B7: Data entry by
B8: Data entry date
B9: Project Intent | H9: --Select--
B10: Project Type | H10: --Select--
B11: Measure Ref # | H11: =IF(H10="New Construction","UUDTR95006",IF(H10="Retrofit","UUDTR85006",""))
B12: Incentive Rate ($/kWh) | J12: =IF(OR(ISBLANK($H$5),H10="--Select--"),"",OFFSET(Lists!$AI$1,MATCH(H11,Lists!$AA$2:$AA$4,FALSE),MATCH($H$5,Lists!$AJ$1:$BA$1,1)))
S14: Existing System | X14: Proposed System
B16: Quantity | X16: 1
B17: Nameplate Power of the Transformer (kVA)
B18: Peak Annual (Hourly) Power on Transformer (kVA) | X18: =S18 -> 0 | AC18: Note: You may manually enter kVA values but by manually entering kVA you may not be able to revert to calculated value
B19: Average (Hourly) Power on Transformer (kVA) | X19: =S19 -> 0
B20: Load Factor (Avg / Peak) | S20: =IFERROR($S$19/$S$18,"") | X20: =IFERROR($X$19/$X$18,"")
B22: Annual Loss Factor (.85*LF^2+.15*LF) | S22: =IFERROR($S$20^2*0.85+$S$20*0.15,"") | X22: =IFERROR(0.85*X20^2+0.15*X20,"")
B23: Annual Energized Hours | X23: =S23 -> 0
B25: No Load Loss Nameplate Rated Power (kW)
B26: Load Loss at Nameplate Rated Power (kW)
B28: Manufacturer Loss Report documentation | S28: Attach Below | X28: Attach Below
B30: Peak Load-Loss (kW) | S30: =IFERROR($S$26*($S$18/$S$17)^2,"") | X30: =IFERROR($X$26*($X$18/X17)^2,"")
B31: Annual No-Load (core) Energy Losses (kWh/year) | S31: =IFERROR($S$25*$S$23,"") -> 0 | X31: =IFERROR($X$25*$X$23,"") -> 0
B32: Annual Load (winding) Energy Losses (kWh/year) | S32: =IFERROR($S$30*$S$22*$S$23,"") | X32: =IFERROR($X$30*$X$22*$X$23,"")
B33: Unit Annual Energy Losses (kWh/year) | S33: =IFERROR(SUM(S31:V32),"") -> 0 | X33: =SUM(X31:AA32) -> 0
B35: Unit Annual Site Energy Savings (kWh/year) | S35: =IFERROR(($S$33-$X$33),"") -> 0
B36: Total Annual Site Energy Savings (kWh/year) | S36: =IFERROR(($S$33-$X$33)*$X$16,"") -> 0 | AC36: BUSBAR Factor
B37: Total Annual Busbar Energy Savings (kWh/year) | S37: =IFERROR(S36*AC37,"") -> 0 | AC37: 1.09056
B39: Unit Project Cost ($) (Quantity = 1)
B40: Total Project Cost ($) | S40: =$S$39*$X$16 -> 0
B42: Up-Load file documenting Project Cost and Loss Reports
B43: Please Include: Loss Test Report for Exisiting and Loss Test Report for Proposed
B44: 1. Click on this cell ---------------------------------> | S44: For Additional Files, click on the cells to the right -----------> as needed and follow the same instructions
B45: 2. From the Menu Bar -> Click Insert
B46: 3. From Insert -> Click Object
B47: 4. Select: Create From File
B48: 5. Browse and select the file to be uploaded
B49: 6. Check: Display as Icon (Do not Check Link to File, if option)
...

Sheet TF5
B1: Transformer Tab 5
AC2: Legend
AC3: To be filled in by the user
B4: Measure Name | AC4: Automatically calculated
B5: Project Start
B6: M&V Completion Date
B7: Data entry by
B8: Data entry date
B9: Project Intent | H9: --Select--
B10: Project Type | H10: --Select--
B11: Measure Ref # | H11: =IF(H10="New Construction","UUDTR95006",IF(H10="Retrofit","UUDTR85006",""))
B12: Incentive Rate ($/kWh) | J12: =IF(OR(ISBLANK($H$5),H10="--Select--"),"",OFFSET(Lists!$AI$1,MATCH(H11,Lists!$AA$2:$AA$4,FALSE),MATCH($H$5,Lists!$AJ$1:$BA$1,1)))
S14: Existing System | X14: Proposed System
B16: Quantity | X16: 1
B17: Nameplate Power of the Transformer (kVA)
B18: Peak Annual (Hourly) Power on Transformer (kVA) | X18: =S18 -> 0 | AC18: Note: You may manually enter kVA values but by manually entering kVA you may not be able to revert to calculated value
B19: Average (Hourly) Power on Transformer (kVA) | X19: =S19 -> 0
B20: Load Factor (Avg / Peak) | S20: =IFERROR($S$19/$S$18,"") | X20: =IFERROR($X$19/$X$18,"")
B22: Annual Loss Factor (.85*LF^2+.15*LF) | S22: =IFERROR($S$20^2*0.85+$S$20*0.15,"") | X22: =IFERROR(0.85*X20^2+0.15*X20,"")
B23: Annual Energized Hours | X23: =S23 -> 0
B25: No Load Loss Nameplate Rated Power (kW)
B26: Load Loss at Nameplate Rated Power (kW)
B28: Manufacturer Loss Report documentation | S28: Attach Below | X28: Attach Below
B30: Peak Load-Loss (kW) | S30: =IFERROR($S$26*($S$18/$S$17)^2,"") | X30: =IFERROR($X$26*($X$18/X17)^2,"")
B31: Annual No-Load (core) Energy Losses (kWh/year) | S31: =IFERROR($S$25*$S$23,"") -> 0 | X31: =IFERROR($X$25*$X$23,"") -> 0
B32: Annual Load (winding) Energy Losses (kWh/year) | S32: =IFERROR($S$30*$S$22*$S$23,"") | X32: =IFERROR($X$30*$X$22*$X$23,"")
B33: Unit Annual Energy Losses (kWh/year) | S33: =IFERROR(SUM(S31:V32),"") -> 0 | X33: =SUM(X31:AA32) -> 0
B35: Unit Annual Site Energy Savings (kWh/year) | S35: =IFERROR(($S$33-$X$33),"") -> 0
B36: Total Annual Site Energy Savings (kWh/year) | S36: =IFERROR(($S$33-$X$33)*$X$16,"") -> 0 | AC36: BUSBAR Factor
B37: Total Annual Busbar Energy Savings (kWh/year) | S37: =IFERROR(S36*AC37,"") -> 0 | AC37: 1.09056
B39: Unit Project Cost ($) (Quantity = 1)
B40: Total Project Cost ($) | S40: =$S$39*$X$16 -> 0
B42: Up-Load file documenting Project Cost and Loss Reports
B43: Please Include: Loss Test Report for Exisiting and Loss Test Report for Proposed
B44: 1. Click on this cell ---------------------------------> | S44: For Additional Files, click on the cells to the right -----------> as needed and follow the same instructions
B45: 2. From the Menu Bar -> Click Insert
B46: 3. From Insert -> Click Object
B47: 4. Select: Create From File
B48: 5. Browse and select the file to be uploaded
B49: 6. Check: Display as Icon (Do not Check Link to File, if option)
...

Sheet TF6
B1: Transformer Tab 6
AC2: Legend
AC3: To be filled in by the user
B4: Measure Name | AC4: Automatically calculated
B5: Project Start
B6: M&V Completion Date
B7: Data entry by
B8: Data entry date
B9: Project Intent | H9: --Select--
B10: Project Type | H10: --Select--
B11: Measure Ref # | H11: =IF(H10="New Construction","UUDTR95006",IF(H10="Retrofit","UUDTR85006",""))
B12: Incentive Rate ($/kWh) | J12: =IF(OR(ISBLANK($H$5),H10="--Select--"),"",OFFSET(Lists!$AI$1,MATCH(H11,Lists!$AA$2:$AA$4,FALSE),MATCH($H$5,Lists!$AJ$1:$BA$1,1)))
S14: Existing System | X14: Proposed System
B16: Quantity | X16: 1
B17: Nameplate Power of the Transformer (kVA)
B18: Peak Annual (Hourly) Power on Transformer (kVA) | X18: =S18 -> 0 | AC18: Note: You may manually enter kVA values but by manually entering kVA you may not be able to revert to calculated value
B19: Average (Hourly) Power on Transformer (kVA) | X19: =S19 -> 0
B20: Load Factor (Avg / Peak) | S20: =IFERROR($S$19/$S$18,"") | X20: =IFERROR($X$19/$X$18,"")
B22: Annual Loss Factor (.85*LF^2+.15*LF) | S22: =IFERROR($S$20^2*0.85+$S$20*0.15,"") | X22: =IFERROR(0.85*X20^2+0.15*X20,"")
B23: Annual Energized Hours | X23: =S23 -> 0
B25: No Load Loss Nameplate Rated Power (kW)
B26: Load Loss at Nameplate Rated Power (kW)
B28: Manufacturer Loss Report documentation | S28: Attach Below | X28: Attach Below
B30: Peak Load-Loss (kW) | S30: =IFERROR($S$26*($S$18/$S$17)^2,"") | X30: =IFERROR($X$26*($X$18/X17)^2,"")
B31: Annual No-Load (core) Energy Losses (kWh/year) | S31: =IFERROR($S$25*$S$23,"") -> 0 | X31: =IFERROR($X$25*$X$23,"") -> 0
